BEGIN:VCALENDAR
VERSION:2.0
PRODID:-//GHI Schedule - ECPv6.0.12//NONSGML v1.0//EN
CALSCALE:GREGORIAN
METHOD:PUBLISH
X-WR-CALNAME:GHI Schedule
X-ORIGINAL-URL:https://ghi.website
X-WR-CALDESC:Events for GHI Schedule
REFRESH-INTERVAL;VALUE=DURATION:PT1H
X-Robots-Tag:noindex
X-PUBLISHED-TTL:PT1H
BEGIN:VTIMEZONE
TZID:America/Los_Angeles
BEGIN:DAYLIGHT
TZOFFSETFROM:-0800
TZOFFSETTO:-0700
TZNAME:PDT
DTSTART:20250309T100000
END:DAYLIGHT
BEGIN:STANDARD
TZOFFSETFROM:-0700
TZOFFSETTO:-0800
TZNAME:PST
DTSTART:20251102T090000
END:STANDARD
END:VTIMEZONE
BEGIN:VEVENT
DTSTART;VALUE=DATE:20250414
DTEND;VALUE=DATE:20251101
DTSTAMP:20260420T132717
CREATED:20250214T181552Z
LAST-MODIFIED:20250409T140913Z
UID:10706-1744588800-1761955199@ghi.website
SUMMARY:25-00709 EPSS PGE MADERIA N829DP
DESCRIPTION:PGE2025-04-08 1834 25-00709 \n25-00709 PGE MEDERA EPSS STANDBY 4-15-2025 FLIGHT REQUEST
URL:https://ghi.website/event/epss-pge-maderia-n829dp/
END:VEVENT
BEGIN:VEVENT
DTSTART;TZID=America/Los_Angeles:20250601T080000
DTEND;TZID=America/Los_Angeles:20251031T170000
DTSTAMP:20260420T132717
CREATED:20250214T181638Z
LAST-MODIFIED:20250214T181638Z
UID:10708-1748764800-1761930000@ghi.website
SUMMARY:FIRE N216 GH
DESCRIPTION:
URL:https://ghi.website/event/fire-n216-gh/
END:VEVENT
BEGIN:VEVENT
DTSTART;VALUE=DATE:20250614
DTEND;VALUE=DATE:20250922
DTSTAMP:20260420T132717
CREATED:20250618T160702Z
LAST-MODIFIED:20250618T160709Z
UID:11393-1749859200-1758499199@ghi.website
SUMMARY:N407GH FIRE CONTRACT 100 DAYS
DESCRIPTION:
URL:https://ghi.website/event/n407gh-fire-contract-100-days/
END:VEVENT
BEGIN:VEVENT
DTSTART;TZID=America/Los_Angeles:20250825T080000
DTEND;TZID=America/Los_Angeles:20250927T170000
DTSTAMP:20260420T132717
CREATED:20250812T144859Z
LAST-MODIFIED:20250812T144859Z
UID:11770-1756108800-1758992400@ghi.website
SUMMARY:25-02289 PGE FILMORE BHT 407 IR 8-25 THRU 9-27-2025
DESCRIPTION:25-02289 PGE FILMORE BHT 407 IR 8-25 THRU 9-27-2025 FLIGHT REQUEST
URL:https://ghi.website/event/25-02289-pge-filmore-bht-407-ir-8-25-thru-9-27-2025/
END:VEVENT
BEGIN:VEVENT
DTSTART;VALUE=DATE:20250908
DTEND;VALUE=DATE:20250909
DTSTAMP:20260420T132717
CREATED:20250908T145634Z
LAST-MODIFIED:20250908T150039Z
UID:11948-1757289600-1757375999@ghi.website
SUMMARY:25-02724 PGE BLACH CAMP BHT 205 POLE SET
DESCRIPTION:25-02724 PGE BLACH CAMP BHT 205 POLE SET FLIGHT REQUEST
URL:https://ghi.website/event/25-02724-pge-blach-camp-bht-205-pole-set/
END:VEVENT
BEGIN:VEVENT
DTSTART;VALUE=DATE:20250908
DTEND;VALUE=DATE:20250909
DTSTAMP:20260420T132717
CREATED:20250908T150110Z
LAST-MODIFIED:20250908T150110Z
UID:11951-1757289600-1757375999@ghi.website
SUMMARY:25-02723 PGE BALCH CAMP BHT 205 GENERATOR 9-8-2025
DESCRIPTION:25-02723 PGE BALCH CAMP BHT 205 GENERATOR 9-8-2025 FLGHT REQUEST
URL:https://ghi.website/event/25-02723-pge-balch-camp-bht-205-generator-9-8-2025/
END:VEVENT
BEGIN:VEVENT
DTSTART;VALUE=DATE:20250908
DTEND;VALUE=DATE:20250910
DTSTAMP:20260420T132717
CREATED:20250630T144528Z
LAST-MODIFIED:20250905T161324Z
UID:11446-1757289600-1757462399@ghi.website
SUMMARY:25-01774 PGE MONTEREY BHT 407 HEC 9-8 THRU 9-9-2025
DESCRIPTION:25-01774 PGE MONTEREY BHT 407 HEC 9-8 THRU 9-9-2025 FLIGHT REQUEST \n25-01774 PGE MONTEREY BHT 407 HEC 9-8 THRU 9-9-2025 NON CAP
URL:https://ghi.website/event/25-01774-pge-monterey-bht-407-hec-9-8-thru-9-9-2025/
END:VEVENT
BEGIN:VEVENT
DTSTART;VALUE=DATE:20250908
DTEND;VALUE=DATE:20250913
DTSTAMP:20260420T132717
CREATED:20250624T150206Z
LAST-MODIFIED:20250624T170734Z
UID:11421-1757289600-1757721599@ghi.website
SUMMARY:25-01591 PGE PATROL BFL N447GH
DESCRIPTION:MUST USE N447GH WITH AIR CONDITIONING \n25-01591 PGE BFL PATROL 9-8 THRU 9-12 N447GH FLIGHT REQUEST
URL:https://ghi.website/event/25-0-pge-patrol-bfl-n447gh/
END:VEVENT
END:VCALENDAR