BEGIN:VCALENDAR
VERSION:2.0
PRODID:-//GHI Schedule - ECPv6.0.12//NONSGML v1.0//EN
CALSCALE:GREGORIAN
METHOD:PUBLISH
X-WR-CALNAME:GHI Schedule
X-ORIGINAL-URL:https://ghi.website
X-WR-CALDESC:Events for GHI Schedule
REFRESH-INTERVAL;VALUE=DURATION:PT1H
X-Robots-Tag:noindex
X-PUBLISHED-TTL:PT1H
BEGIN:VTIMEZONE
TZID:America/Los_Angeles
BEGIN:DAYLIGHT
TZOFFSETFROM:-0800
TZOFFSETTO:-0700
TZNAME:PDT
DTSTART:20260308T100000
END:DAYLIGHT
BEGIN:STANDARD
TZOFFSETFROM:-0700
TZOFFSETTO:-0800
TZNAME:PST
DTSTART:20261101T090000
END:STANDARD
END:VTIMEZONE
BEGIN:VEVENT
DTSTART;VALUE=DATE:20260424
DTEND;VALUE=DATE:20260425
DTSTAMP:20260420T000811
CREATED:20251217T153855Z
LAST-MODIFIED:20260407T165144Z
UID:12502-1776988800-1777075199@ghi.website
SUMMARY:25-03741 PGE KERN BHT 205 HEC AND POLE SET 4-24-2026
DESCRIPTION:25-03741 PGE KERN BHT 205 HEC AND POLE SET 4-24-2026 FLIGHT REQUEST rev 1 \n25-03741 PGE KERN BHT 205 HEC AND POLE SET 4-24-2026 NON CAP \n25-03741 PGE KERN BHT 205 HEC AND POLE SET 1-9-2026 NON CAP \n25-03741 PGE KERN BHT 205 HEC AND POLE SET 1-9-2026 FLIGHT REQUEST
URL:https://ghi.website/event/25-03741-pge-kern-bht-205-hec-and-pole-set-1-9-2026/
END:VEVENT
BEGIN:VEVENT
DTSTART;VALUE=DATE:20260423
DTEND;VALUE=DATE:20260424
DTSTAMP:20260420T000811
CREATED:20260415T183601Z
LAST-MODIFIED:20260417T143654Z
UID:12999-1776902400-1776988799@ghi.website
SUMMARY:26-00739 PGE MARIPOSA BHT 407 HEC 4-23-2026
DESCRIPTION:26-00739 PGE MARIPOSA BHT 407 HEC PAIRED WITH 26-00731 4-23-2026 FLIGHT REQUEST \n26-00739 PGE MARIPOSA BHT 407 HEC PAIRED WITH 26-00731 4-23-2026 NONE CAP
URL:https://ghi.website/event/pge-mariposa-bht-407-hec-4-23-2026-pending-paperwork/
END:VEVENT
BEGIN:VEVENT
DTSTART;VALUE=DATE:20260423
DTEND;VALUE=DATE:20260424
DTSTAMP:20260420T000811
CREATED:20260320T171339Z
LAST-MODIFIED:20260323T165838Z
UID:12893-1776902400-1776988799@ghi.website
SUMMARY:26-00692 PGE SLO MIDAY BHT 407 HEC 4-23-2026
DESCRIPTION:26-00692 PGE SLO MIDAY BHT 407 HEC 4-23-2026 FLIGHT REQUEST \n26-00692 PGE SLO MIDAY BHT 407 HEC 4-23-2026 NON CAP
URL:https://ghi.website/event/26-00692-pge-slo-miday-bht-407-hec-4-23-2026/
END:VEVENT
BEGIN:VEVENT
DTSTART;VALUE=DATE:20260414
DTEND;VALUE=DATE:20260415
DTSTAMP:20260420T000811
CREATED:20260119T154805Z
LAST-MODIFIED:20260318T151935Z
UID:12596-1776124800-1776211199@ghi.website
SUMMARY:26-00120 PGE KERN TEJON BHT 205 POLE SET 4-14-2026
DESCRIPTION:26-00120 PGE KERN TEJON BHT 205 POLE SET 4-14-2026 NON CAP \n26-00120 PGE KERN TEJON BHT 205 POLE SET 4-14-2026 FLIGHT REQUEST \n26-00120 PGE KERN TEJON BHT 205 POLE SET 2-10-2026 NON CAP
URL:https://ghi.website/event/26-00120-pge-kern-tejon-bht-205-pole-set-2-10-2026/
END:VEVENT
BEGIN:VEVENT
DTSTART;TZID=America/Los_Angeles:20260413T080000
DTEND;TZID=America/Los_Angeles:20260421T170000
DTSTAMP:20260420T000811
CREATED:20260410T141415Z
LAST-MODIFIED:20260410T141415Z
UID:12980-1776067200-1776790800@ghi.website
SUMMARY:26-00575  PGE MORRO BAY (2) BHT 407 4-5 thru 4-9 4-13 thru 4-21-2026 rev 4-20-2026
DESCRIPTION:26-00575 PGE MORRO BAY (2) BHT 407 4-5 thru 4-9 4-13 thru 4-21-2026 rev 4-20-2026 flight request \n26-00575 PGE MORRO BAY (2) BHT 407 3-30 3-31 4-2 THRU 4-4 4-8 THRU 4-10-2026 NON CAP
URL:https://ghi.website/event/26-00575-pge-morro-bay-2-bht-407-4-5-thru-4-9-4-13-thru-4-21-2026-rev-4-20-2026-2/
END:VEVENT
BEGIN:VEVENT
DTSTART;VALUE=DATE:20260413
DTEND;VALUE=DATE:20260422
DTSTAMP:20260420T000811
CREATED:20260410T141217Z
LAST-MODIFIED:20260410T141217Z
UID:12976-1776038400-1776815999@ghi.website
SUMMARY:26-00575  PGE MORRO BAY (2) BHT 407 4-5 thru 4-9 4-13 thru 4-21-2026 rev 4-20-2026
DESCRIPTION:26-00575 PGE MORRO BAY (2) BHT 407 3-30 3-31 4-2 THRU 4-4 4-8 THRU 4-10-2026 NON CAP \n26-00575 PGE MORRO BAY (2) BHT 407 4-5 thru 4-9 4-13 thru 4-21-2026 rev 4-20-2026 flight request
URL:https://ghi.website/event/26-00575-pge-morro-bay-2-bht-407-4-5-thru-4-9-4-13-thru-4-21-2026-rev-4-20-2026/
END:VEVENT
BEGIN:VEVENT
DTSTART;VALUE=DATE:20260413
DTEND;VALUE=DATE:20260414
DTSTAMP:20260420T000811
CREATED:20260326T152524Z
LAST-MODIFIED:20260401T150623Z
UID:12913-1776038400-1776124799@ghi.website
SUMMARY:FR07789 TD2414772 SCE BODFISH BHT 205 POLE SET 4-13-2016
DESCRIPTION:FR07789 BODFISH Job Walk Form v4 4-11-2026 GHI OUTSOURCE \nFR07789 TD 2414772 USFS_SpecialUsesAviationNotif_Form.2022 4-13-2026 \nFR07789_20260325143555 BOD FISH NON CAP 4-13-2026 \nW.O MAPS \nFR07789_20260325143555 BOD FISH FLIGHT REQUEST \nFR07789 BODFISH Job Walk Form v4 4-11-2026 GHI OUTSOURCE LEMUS SIGNED
URL:https://ghi.website/event/fr07789-td2414772-sce-bodfish-bht-205-pole-set-4-13-2016/
END:VEVENT
BEGIN:VEVENT
DTSTART;VALUE=DATE:20260411
DTEND;VALUE=DATE:20260412
DTSTAMP:20260420T000811
CREATED:20260326T143954Z
LAST-MODIFIED:20260330T160220Z
UID:12910-1775865600-1775951999@ghi.website
SUMMARY:FR 07775 TD 2402586 SCE SCE BHT 205 POLE SET 4-11-2026
DESCRIPTION:FR07775_20260325143816 KERNVILE FLIGHT REQUEST 4-11-2026 \nFR07775 KERNVILLE Job Walk Form v4 FR04988 4-11-2026 LEMUS signed \nFR07775_20260325143816 SCE KERNVILE 4-11-2026 NON CAP \nFR07775 TD 2402586 USFS_SpecialUsesAviationNotif_Form.2022 4-11-2026
URL:https://ghi.website/event/fr-07775-td-2402586-sce-sce-bht-205-pole-set-4-11-2026/
END:VEVENT
BEGIN:VEVENT
DTSTART;VALUE=DATE:20260405
DTEND;VALUE=DATE:20260410
DTSTAMP:20260420T000811
CREATED:20260313T143140Z
LAST-MODIFIED:20260410T141041Z
UID:12849-1775347200-1775779199@ghi.website
SUMMARY:26-00575  PGE MORRO BAY (2) BHT 407 4-5 thru 4-9 4-13 thru 4-21-2026 rev 4-20-2026
DESCRIPTION:26-00575 PGE MORRO BAY (2) BHT 407 4-5 thru 4-9 4-13 thru 4-21-2026 rev 4-20-2026 flight request \n26-00575 PGE MORRO BAY (2) BHT 407 3-31 4-2 THRU 4-4 4-13 thru 4-21-2026 flight request rev 3-20 \n26-00575 PGE MORRO BAY (2) BHT 407 3-30 3-31 4-2 THRU 4-4 4-8 THRU 4-10-2026 FLIGHT REQUEST \n26-00575 PGE MORRO BAY (2) BHT 407 3-30 3-31 4-2 THRU 4-4 4-8 THRU 4-10-2026 NON CAP
URL:https://ghi.website/event/26-00575-pge-morro-bay-2-bht-407-3-30-3-31-4-2-thru-4-4-4-8-thru-4-10-2026-6/
END:VEVENT
BEGIN:VEVENT
DTSTART;VALUE=DATE:20260405
DTEND;VALUE=DATE:20260410
DTSTAMP:20260420T000811
CREATED:20260313T143114Z
LAST-MODIFIED:20260410T141116Z
UID:12847-1775347200-1775779199@ghi.website
SUMMARY:26-00575  PGE MORRO BAY (2) BHT 407 4-5 thru 4-9 4-13 thru 4-21-2026 rev 4-20-2026
DESCRIPTION:26-00575 PGE MORRO BAY (2) BHT 407 4-5 thru 4-9 4-13 thru 4-21-2026 rev 4-20-2026 flight request \n26-00575 PGE MORRO BAY (2) BHT 407 3-31 4-2 THRU 4-4 4-13 thru 4-21-2026 flight request rev 3-20 \n26-00575 PGE MORRO BAY (2) BHT 407 3-30 3-31 4-2 THRU 4-4 4-8 THRU 4-10-2026 FLIGHT REQUEST \n26-00575 PGE MORRO BAY (2) BHT 407 3-30 3-31 4-2 THRU 4-4 4-8 THRU 4-10-2026 NON CAP
URL:https://ghi.website/event/26-00575-pge-morro-bay-2-bht-407-3-30-3-31-4-2-thru-4-4-4-8-thru-4-10-2026-5/
END:VEVENT
BEGIN:VEVENT
DTSTART;VALUE=DATE:20260402
DTEND;VALUE=DATE:20260410
DTSTAMP:20260420T000811
CREATED:20260331T144343Z
LAST-MODIFIED:20260408T143113Z
UID:12941-1775088000-1775779199@ghi.website
SUMMARY:26-00774 PGE FILLMORE IR BHT 407 04-01 THRU 04-04 AND 04-06 THRU 04-9-2026
DESCRIPTION:26-00774 PGE FILLMORE IR BHT 407 04-01 THRU 04-04 AND 04-06 THRU 04-09-2026 FLIGHT REQUEST rev 4-8-2026 \n26-00774 PGE FILLMORE IR BHT 407 04-01 THRU 04-04 AND 04-06 THRU 04-11-2026 FLIGHT REQUEST rev 4-1-2026 \n26-00774 PGE FILLMORE IR BHT 407 04-01 THRU 04-04 AND 04-06 THRU 04-11-2026 FLIGHT REQUEST
URL:https://ghi.website/event/26-00774-pge-fillmore-ir-bht-407-04-01-thru-04-04-and-04-06-thru-04-11-2026/
END:VEVENT
BEGIN:VEVENT
DTSTART;VALUE=DATE:20260401
DTEND;VALUE=DATE:20260403
DTSTAMP:20260420T000811
CREATED:20260318T152619Z
LAST-MODIFIED:20260318T182041Z
UID:12870-1775001600-1775174399@ghi.website
SUMMARY:26-00647 PGE FRESNO BALCH BHT 407 4-01 4-02 4-14-2026
DESCRIPTION:26-00647 PGE FRESNO BALCH BHT 407 4-01 4-02 4-14-2026 FLIGHT REQUEST \n26-00647 PGE FRESNO BALCH BHT 407 4-01 4-02 4-14-2026 NON CAP
URL:https://ghi.website/event/26-00647-pge-fresno-balch-bht-407-4-01-4-02-4-14-2026/
END:VEVENT
BEGIN:VEVENT
DTSTART;VALUE=DATE:20260401
DTEND;VALUE=DATE:20260402
DTSTAMP:20260420T000811
CREATED:20260312T171049Z
LAST-MODIFIED:20260316T161126Z
UID:12833-1775001600-1775087999@ghi.website
SUMMARY:PGE MEDERA BHT 407 HEC QUALIFICATION
DESCRIPTION:407 HEC qual Madera X2
URL:https://ghi.website/event/407-hec-qual-madera/
END:VEVENT
BEGIN:VEVENT
DTSTART;VALUE=DATE:20260331
DTEND;VALUE=DATE:20260405
DTSTAMP:20260420T000811
CREATED:20260313T143034Z
LAST-MODIFIED:20260327T150308Z
UID:12845-1774915200-1775347199@ghi.website
SUMMARY:26-00575  PGE MORRO BAY (2) BHT 407  3-31 4-2 THRU 4-4 4-13 thru 4-21-2026
DESCRIPTION:26-00575 PGE MORRO BAY (2) BHT 407 3-30 3-31 4-2 THRU 4-4 4-8 THRU 4-10-2026 NON CAP \n26-00575 PGE MORRO BAY (2) BHT 407 3-30 3-31 4-2 THRU 4-4 4-8 THRU 4-10-2026 FLIGHT REQUEST \n26-00575 PGE MORRO BAY (2) BHT 407 3-31 4-2 THRU 4-4 4-13 thru 4-21-2026 flight request rev 3-20 \n26-00575 PGE MORRO BAY (2) BHT 407 3-31 THRU 4-4 4-13 thru 4-21-2026 flight request rev 3-27-2026
URL:https://ghi.website/event/26-00575-pge-morro-bay-2-bht-407-3-30-3-31-4-2-thru-4-4-4-8-thru-4-10-2026-4/
END:VEVENT
BEGIN:VEVENT
DTSTART;VALUE=DATE:20260331
DTEND;VALUE=DATE:20260405
DTSTAMP:20260420T000811
CREATED:20260313T143000Z
LAST-MODIFIED:20260327T150450Z
UID:12843-1774915200-1775347199@ghi.website
SUMMARY:26-00575  PGE MORRO BAY (2) BHT 407  3-31 4-2 THRU 4-4 4-13 thru 4-21-2026
DESCRIPTION:26-00575 PGE MORRO BAY (2) BHT 407 3-31 THRU 4-4 4-13 thru 4-21-2026 flight request rev 3-27-2026 \n26-00575 PGE MORRO BAY (2) BHT 407 3-31 4-2 THRU 4-4 4-13 thru 4-21-2026 flight request rev 3-20 \n26-00575 PGE MORRO BAY (2) BHT 407 3-30 3-31 4-2 THRU 4-4 4-8 THRU 4-10-2026 FLIGHT REQUEST \n26-00575 PGE MORRO BAY (2) BHT 407 3-30 3-31 4-2 THRU 4-4 4-8 THRU 4-10-2026 NON CAP
URL:https://ghi.website/event/26-00575-pge-morro-bay-2-bht-407-3-30-3-31-4-2-thru-4-4-4-8-thru-4-10-2026-3/
END:VEVENT
BEGIN:VEVENT
DTSTART;VALUE=DATE:20260331
DTEND;VALUE=DATE:20260402
DTSTAMP:20260420T000811
CREATED:20260216T180342Z
LAST-MODIFIED:20260331T202146Z
UID:12725-1774915200-1775087999@ghi.website
SUMMARY:26-00368 PGE MOSS LANDING BHT 407 HEC CARGO 3-23 3-24-2026 3-31-2026
DESCRIPTION:26-00368 PGE MOSS LANDING BHT 407 HEC CARGO 3-23 3-24-2026 4-1-2026 FLIGHT REQUEST rev 3-31-2026 \n26-00368 PGE MOSS LANDING BHT 407 HEC CARGO 3-23 3-24-2026 3-31-2026 FLIGHT REQUEST \n26-00368 PGE MOSS LANDING BHT 407 HEC CARGO 3-23 3-24-2026 3-31-2026 NON CAP
URL:https://ghi.website/event/26-00368-pge-moss-landing-bht-407-hec-cargo-3-23-3-24-2026-3-31-2026-2/
END:VEVENT
BEGIN:VEVENT
DTSTART;VALUE=DATE:20260331
DTEND;VALUE=DATE:20260401
DTSTAMP:20260420T000811
CREATED:20260310T151558Z
LAST-MODIFIED:20260317T144714Z
UID:12817-1774915200-1775001599@ghi.website
SUMMARY:26-00594 PGE BALCH CAMP  BHT 407 HEC 3-31-2026
DESCRIPTION:26-00594 PGE BALCH CAMP BHT 407 HEC 3-31-2026 NON CAP \n26-00594 PGE BALCH CAMP BHT 407 HEC 3-31-2026 FLIGHT REQUEST
URL:https://ghi.website/event/26-00594-pge-balch-camp-bht-407-hec-3-31-2026/
END:VEVENT
BEGIN:VEVENT
DTSTART;VALUE=DATE:20260327
DTEND;VALUE=DATE:20260328
DTSTAMP:20260420T000811
CREATED:20260225T172519Z
LAST-MODIFIED:20260313T162407Z
UID:12760-1774569600-1774655999@ghi.website
SUMMARY:FR07639_TD 2282591 SCE BHT 407 POLE SET 3-27-2026 FLIGHT REQUEST
DESCRIPTION:FR07639_TD 2282591 SCE BHT 407 POLE SET 3-27-2026 FLIGHT REQUEST \nFR07639 Dear neighbor evacuation letter TOPANGA CA 3-27-2026 \nFR07639 TD 2282591 GHI Job Walk.Coordination Form edit v6.1 3-11-2026 signed \nFR07639 TD 2282591 GHI Job Walk.Coordination Form edit v6.1 3-11-2026 \nFR07639_TD 2282591 SCE BHT 407 POLE SET 3-27-2026 NON CAP \n 
URL:https://ghi.website/event/fr07639_td-2282591-sce-bht-407-pole-set-3-27-2026-flight-request/
END:VEVENT
BEGIN:VEVENT
DTSTART;VALUE=DATE:20260326
DTEND;VALUE=DATE:20260327
DTSTAMP:20260420T000811
CREATED:20260206T162843Z
LAST-MODIFIED:20260323T144136Z
UID:12694-1774483200-1774569599@ghi.website
SUMMARY:26-00303 PGE OLD WOMAN MOUNTAIN BK117 SHIP SHARE WITH 26-00304 3-26-2026
DESCRIPTION:Jerry_Root_TRAN-AVH-009a Waiver (Passenger) \nBlain_Fowler_TRAN-AVH-009a Waiver (Passenger) \nShane_Burke_Helicopter waiver_TRN-AVH-009a Waiver (Passenger) \n26-00303 PGE OLD WOMAN MOUNTAIN BK117 SHIP SHARE WITH 26-00304 3-26-2026 FLIGHT REQUEST \n26-00303 PGE OLD WOMAN MOUNTAIN BK117 SHIP SHARE WITH 26-00304 3-26-2026 NON CAP \nR. 303 \nR. 304
URL:https://ghi.website/event/26-00303-pge-old-woman-mountain-bk117-ship-share-with-26-00304-3-26-2026/
END:VEVENT
BEGIN:VEVENT
DTSTART;VALUE=DATE:20260326
DTEND;VALUE=DATE:20260327
DTSTAMP:20260420T000811
CREATED:20260206T162500Z
LAST-MODIFIED:20260323T144104Z
UID:12689-1774483200-1774569599@ghi.website
SUMMARY:26-00304 PGE OLD WOMAN MOUNTAIN BHT 407 PASSENGER FERRY 3-26-2026 SHIP SHARE WITH 26-00303
DESCRIPTION:26-00304 PGE OLD WOMAN MOUNTAIN BHT 407 PASSENGER FERRY 3-26-2026 FLIGHT REQUEST \n26-00303 PGE OLD WOMAN MOUNTAIN BK117 SHIP SHARE WITH 26-00304 3-26-2026 NON CAP \nR. 303 \nR. 304 \nJerry_Root_TRAN-AVH-009a Waiver (Passenger) \nBlain_Fowler_TRAN-AVH-009a Waiver (Passenger) \nShane_Burke_Helicopter waiver_TRN-AVH-009a Waiver (Passenger)
URL:https://ghi.website/event/26-00304-pge-old-woman-mountain-bht-407-passenger-ferry-3-26-2026/
END:VEVENT
BEGIN:VEVENT
DTSTART;TZID=America/Los_Angeles:20260324T080000
DTEND;TZID=America/Los_Angeles:20260325T170000
DTSTAMP:20260420T000811
CREATED:20260130T153156Z
LAST-MODIFIED:20260130T153203Z
UID:12678-1774339200-1774458000@ghi.website
SUMMARY:FOREST SERVICE INSPECTION ONLY BK 117 AVAILABLE
DESCRIPTION:
URL:https://ghi.website/event/forest-service-inspection-only-bk-117-available/
END:VEVENT
BEGIN:VEVENT
DTSTART;VALUE=DATE:20260323
DTEND;VALUE=DATE:20260325
DTSTAMP:20260420T000811
CREATED:20260216T180256Z
LAST-MODIFIED:20260311T152341Z
UID:12722-1774224000-1774396799@ghi.website
SUMMARY:26-00368 PGE MOSS LANDING BHT 407 HEC CARGO 3-23 3-24-2026 3-31-2026
DESCRIPTION:26-00368 PGE MOSS LANDING BHT 407 HEC CARGO 3-23 3-24-2026 3-31-2026 FLIGHT REQUEST \n26-00368 PGE MOSS LANDING BHT 407 HEC CARGO 3-23 3-24-2026 3-31-2026 NON CAP
URL:https://ghi.website/event/26-00368-pge-moss-landing-bht-407-hec-cargo-3-23-3-24-2026-3-31-2026/
END:VEVENT
BEGIN:VEVENT
DTSTART;VALUE=DATE:20260320
DTEND;VALUE=DATE:20260321
DTSTAMP:20260420T000811
CREATED:20260309T183027Z
LAST-MODIFIED:20260310T151209Z
UID:12808-1773964800-1774051199@ghi.website
SUMMARY:26-00586 PGE SANTA CRUZ BHT 205 POLE SET 3-20-2026
DESCRIPTION:26-00586 PGE SANTA CRUZ BHT 205 POLE SET 3-20-2026 NON CAP \n26-00586 PGE SANTA CRUZ BHT 205 POLE SET 3-20-2026 FLIGHT REQUEST
URL:https://ghi.website/event/26-00586-pge-santa-cruz-bht-407-pole-set-3-20-2026/
END:VEVENT
BEGIN:VEVENT
DTSTART;VALUE=DATE:20260317
DTEND;VALUE=DATE:20260321
DTSTAMP:20260420T000811
CREATED:20250927T005317Z
LAST-MODIFIED:20260319T161650Z
UID:12145-1773705600-1774051199@ghi.website
SUMMARY:25-03051 PGE FRESNO (2)  BHT 407 3-2 THRU 3-10 3-17 THRU 3-27-2026
DESCRIPTION:25-03051 PGE FRESNO (2) BHT 407 3-2 THRU 3-10 3-17 THRU 3-27-2026 non cap \n25-03051 PGE FRESNO (2) BHT 407 3-2 THRU 3-10 3-17 THRU 3-27-2026 FLIGHT REQUEST
URL:https://ghi.website/event/25-03051-pge-fresno-2-bht-407-3-2-thru-3-13-3-16-thru-3-27-2026-4/
END:VEVENT
BEGIN:VEVENT
DTSTART;VALUE=DATE:20260317
DTEND;VALUE=DATE:20260321
DTSTAMP:20260420T000811
CREATED:20250927T005225Z
LAST-MODIFIED:20260319T161723Z
UID:12143-1773705600-1774051199@ghi.website
SUMMARY:25-03051 PGE FRESNO (2)  BHT 407 3-2 THRU 3-10 3-17 THRU 3-27-2026
DESCRIPTION:25-03051 PGE FRESNO (2) BHT 407 3-2 THRU 3-10 3-17 THRU 3-27-2026 non cap \n25-03051 PGE FRESNO (2) BHT 407 3-2 THRU 3-10 3-17 THRU 3-27-2026 FLIGHT REQUEST
URL:https://ghi.website/event/25-03051-pge-fresno-2-bht-407-3-2-thru-3-13-3-16-thru-3-27-2026-3/
END:VEVENT
BEGIN:VEVENT
DTSTART;VALUE=DATE:20260317
DTEND;VALUE=DATE:20260318
DTSTAMP:20260420T000811
CREATED:20260302T145853Z
LAST-MODIFIED:20260309T142748Z
UID:12775-1773705600-1773791999@ghi.website
SUMMARY:FR07708 SCE FILLMORE BHT 205 POLE REPLACEMENT 3-17-26
DESCRIPTION:FR07708_20260227130321 SCE FILLMORE BHT 205 POLE 3-17-2026 FLIGHT REQUEST \nFR07708 Dear neighbor evacuation letter FILLMORE CA 3-17-2026 \nFR07708 GHI Job Walk.Coordination Form edit v6.1 3-5-2026 \nFR07708 GHI Job Walk.Coordination Form edit v6.1 3-5-2026 signed \nFR07708_20260227130321 SCE FILLMORE BHT 205 POLE 3-17-2026 NON CAP
URL:https://ghi.website/event/fr07708-sce-fillmore-bht-205-pole-replacement-3-17-26/
END:VEVENT
BEGIN:VEVENT
DTSTART;VALUE=DATE:20260314
DTEND;VALUE=DATE:20260321
DTSTAMP:20260420T000811
CREATED:20260309T150047Z
LAST-MODIFIED:20260309T182329Z
UID:12800-1773446400-1774051199@ghi.website
SUMMARY:26-00577 PGE MIDWAY BHT 407 3-14 THRU 3-20-2026
DESCRIPTION:25-00560 25-00577 PGE MIDWAY BHT (2) 407 HEC 3-13 TO 3-20-2026 NON CAP \n26-00577 PGE MIDWAY BHT 407 3-14 THRU 3-20-2026 FLIGHT REQUEST
URL:https://ghi.website/event/26-00577-pge-midway-bht-407-3-14-thru-3-20-2026/
END:VEVENT
BEGIN:VEVENT
DTSTART;VALUE=DATE:20260313
DTEND;VALUE=DATE:20260321
DTSTAMP:20260420T000811
CREATED:20260309T145244Z
LAST-MODIFIED:20260309T182252Z
UID:12797-1773360000-1774051199@ghi.website
SUMMARY:25-00560 PGE MIDWAY BHT 407 HEC 3-13 TO 3-20-2026
DESCRIPTION:25-00560 25-00577 PGE MIDWAY BHT (2) 407 HEC 3-13 TO 3-20-2026 NON CAP \n25-00560 PGE MIDWAY BHT 407 HEC 3-13 TO 3-20-2026 FLIGHT REQUEST
URL:https://ghi.website/event/25-00560-pge-midway-bht-407-hec-3-13-to-3-20-2026/
END:VEVENT
BEGIN:VEVENT
DTSTART;VALUE=DATE:20260306
DTEND;VALUE=DATE:20260307
DTSTAMP:20260420T000811
CREATED:20260227T131217Z
LAST-MODIFIED:20260227T134802Z
UID:12770-1772755200-1772841599@ghi.website
SUMMARY:26-00496 PGE SANTA CRUZ BHT 205 POLE SET 3-6-2026
DESCRIPTION:26-00496 PGE SANTA CRUZ BHT 205 POLE SET 3-6-2026 FLIGHT REQUEST \n26-00496 PGE SANTA CRUZ BHT 205 POLE SET 3-6-2026 NON CAP
URL:https://ghi.website/event/26-00496-pge-santa-cruz-bht-205-pole-set-3-6-2026/
END:VEVENT
BEGIN:VEVENT
DTSTART;VALUE=DATE:20260302
DTEND;VALUE=DATE:20260311
DTSTAMP:20260420T000811
CREATED:20250927T005142Z
LAST-MODIFIED:20260310T154449Z
UID:12141-1772409600-1773187199@ghi.website
SUMMARY:25-03051 PGE FRESNO (2)  BHT 407 3-2 THRU 3-10 3-17 THRU 3-27-2026
DESCRIPTION:25-03051 PGE FRESNO (2) BHT 407 3-2 THRU 3-10 3-17 THRU 3-27-2026 non cap \n25-03051 PGE FRESNO (2) BHT 407 3-2 THRU 3-10 3-17 THRU 3-27-2026 FLIGHT REQUEST
URL:https://ghi.website/event/25-03051-pge-fresno-2-bht-407-3-2-thru-3-13-3-16-thru-3-27-2026-2/
END:VEVENT
END:VCALENDAR