BEGIN:VCALENDAR
VERSION:2.0
PRODID:-//GHI Schedule - ECPv6.0.12//NONSGML v1.0//EN
CALSCALE:GREGORIAN
METHOD:PUBLISH
X-WR-CALNAME:GHI Schedule
X-ORIGINAL-URL:https://ghi.website
X-WR-CALDESC:Events for GHI Schedule
REFRESH-INTERVAL;VALUE=DURATION:PT1H
X-Robots-Tag:noindex
X-PUBLISHED-TTL:PT1H
BEGIN:VTIMEZONE
TZID:America/Los_Angeles
BEGIN:DAYLIGHT
TZOFFSETFROM:-0800
TZOFFSETTO:-0700
TZNAME:PDT
DTSTART:20260308T100000
END:DAYLIGHT
BEGIN:STANDARD
TZOFFSETFROM:-0700
TZOFFSETTO:-0800
TZNAME:PST
DTSTART:20261101T090000
END:STANDARD
END:VTIMEZONE
BEGIN:VEVENT
DTSTART;VALUE=DATE:20260415
DTEND;VALUE=DATE:20261016
DTSTAMP:20260419T223039
CREATED:20260326T153212Z
LAST-MODIFIED:20260327T151242Z
UID:12918-1776211200-1792108799@ghi.website
SUMMARY:26-00670 PGE MADERA AIRPORT EPSS STANDBY BHT 407 4-15-2026
DESCRIPTION:26-00670 PGE MADERA AIRPORT EPSS STANDBY BHT 407 4-15-2026 FLIGHT REQUEST
URL:https://ghi.website/event/26-00670-pge-madera-airport-epss-standby-bht-407-4-15-2026/
END:VEVENT
BEGIN:VEVENT
DTSTART;VALUE=DATE:20260427
DTEND;VALUE=DATE:20260501
DTSTAMP:20260419T223039
CREATED:20260414T153507Z
LAST-MODIFIED:20260414T190011Z
UID:12991-1777248000-1777593599@ghi.website
SUMMARY:26-00868 PGE KERN BHT 205 POLE SET 4-27 THRU 4-30-2026
DESCRIPTION:26-00868 PGE KERN BHT 205 POLE SET 4-27 THRU 4-30-2026 NON CAP. \n26-00868 PGE KERN BHT 205 POLE SET 4-27 THRU 4-30-2026 FLIGHT REQUEST
URL:https://ghi.website/event/pge-kern-bht-205-pending-paperwork/
END:VEVENT
BEGIN:VEVENT
DTSTART;VALUE=DATE:20260501
DTEND;VALUE=DATE:20260502
DTSTAMP:20260419T223039
CREATED:20260416T211825Z
LAST-MODIFIED:20260417T162544Z
UID:13006-1777593600-1777679999@ghi.website
SUMMARY:26-00937 PGE MARIPOSA BHT 205 HEC REMOVE LATIC TOWER 5-1-2026
DESCRIPTION:26-00937 PGE MARIPOSA BHT 205 HEC REMOVE LATIC TOWER 5-1-2026 FLIGHT REQUEST \n26-00937 PGE MARIPOSA BHT 205 HEC REMOVE LATIC TOWER 5-1-2026 NONE CAP
URL:https://ghi.website/event/26-00937-pge-mariposa-bht-205-hec-remove-latic-tower-5-1-2026/
END:VEVENT
BEGIN:VEVENT
DTSTART;VALUE=DATE:20260503
DTEND;VALUE=DATE:20260504
DTSTAMP:20260419T223039
CREATED:20260306T155815Z
LAST-MODIFIED:20260407T164750Z
UID:12792-1777766400-1777852799@ghi.website
SUMMARY:26-00552 PGE MOSS LANDING BHT 407 5-3-2026
DESCRIPTION:26-00552 PGE MOSS LANDING BHT 407 5-3-2026 FLIGHT REQUEST \n26-00552 PGE MOSS LANDING BHT 407 5-3-2026 NON CAP
URL:https://ghi.website/event/26-00552-pge-moss-landing-bht-407-5-3-2026/
END:VEVENT
BEGIN:VEVENT
DTSTART;VALUE=DATE:20260511
DTEND;VALUE=DATE:20260617
DTSTAMP:20260419T223039
CREATED:20260122T154233Z
LAST-MODIFIED:20260122T154236Z
UID:12634-1778457600-1781654399@ghi.website
SUMMARY:26-00179 PGE IR FILLMORE  5-11 THRU 6-13
DESCRIPTION:26-00179 PGE IR FILLMORE 2-17 THRU 4-11-2026 FLIGHT REQUEST
URL:https://ghi.website/event/26-00179-pge-ir-fillmore-5-11-thru-6-13/
END:VEVENT
BEGIN:VEVENT
DTSTART;VALUE=DATE:20260519
DTEND;VALUE=DATE:20260521
DTSTAMP:20260419T223039
CREATED:20260303T154059Z
LAST-MODIFIED:20260303T154059Z
UID:12781-1779148800-1779321599@ghi.website
SUMMARY:26-00500 PGE SLO DIABLO BHT 407 HEC 5-19 5-20-2026 FLIGHT REQUEST
DESCRIPTION:26-00500 PGE SLO DIABLO BHT 407 HEC 5-19 5-20-2026 FLIGHT REQUEST
URL:https://ghi.website/event/26-00500-pge-slo-diablo-bht-407-hec-5-19-5-20-2026-flight-request/
END:VEVENT
BEGIN:VEVENT
DTSTART;VALUE=DATE:20260707
DTEND;VALUE=DATE:20260816
DTSTAMP:20260419T223039
CREATED:20260122T154324Z
LAST-MODIFIED:20260122T154324Z
UID:12636-1783382400-1786838399@ghi.website
SUMMARY:26-00179 PGE IR FILLMORE  7-6 THRU 8-15
DESCRIPTION:26-00179 PGE IR FILLMORE 2-17 THRU 4-11-2026 FLIGHT REQUEST
URL:https://ghi.website/event/26-00179-pge-ir-fillmore-7-6-thru-8-15/
END:VEVENT
BEGIN:VEVENT
DTSTART;VALUE=DATE:20260914
DTEND;VALUE=DATE:20261011
DTSTAMP:20260419T223039
CREATED:20260122T154425Z
LAST-MODIFIED:20260122T154425Z
UID:12638-1789344000-1791676799@ghi.website
SUMMARY:26-00179 PGE IR FILLMORE  9-14 THRU 10-10
DESCRIPTION:26-00179 PGE IR FILLMORE 2-17 THRU 4-11-2026 FLIGHT REQUEST
URL:https://ghi.website/event/26-00179-pge-ir-fillmore-9-14-thru-10-10/
END:VEVENT
BEGIN:VEVENT
DTSTART;VALUE=DATE:20261102
DTEND;VALUE=DATE:20261122
DTSTAMP:20260419T223039
CREATED:20260122T154522Z
LAST-MODIFIED:20260122T154522Z
UID:12640-1793577600-1795305599@ghi.website
SUMMARY:26-00179 PGE IR FILLMORE  11-2 THRU 11-21
DESCRIPTION:26-00179 PGE IR FILLMORE 2-17 THRU 4-11-2026 FLIGHT REQUEST
URL:https://ghi.website/event/26-00179-pge-ir-fillmore-11-2-thru-11-21/
END:VEVENT
BEGIN:VEVENT
DTSTART;VALUE=DATE:20261201
DTEND;VALUE=DATE:20261220
DTSTAMP:20260419T223039
CREATED:20260122T154612Z
LAST-MODIFIED:20260122T154612Z
UID:12642-1796083200-1797724799@ghi.website
SUMMARY:26-00179 PGE IR FILLMORE  12-1 THRU 12-19 - 2026
DESCRIPTION:26-00179 PGE IR FILLMORE 2-17 THRU 4-11-2026 FLIGHT REQUEST
URL:https://ghi.website/event/26-00179-pge-ir-fillmore-12-1-thru-12-19-2026/
END:VEVENT
END:VCALENDAR