BEGIN:VCALENDAR
VERSION:2.0
PRODID:-//GHI Schedule - ECPv6.0.12//NONSGML v1.0//EN
CALSCALE:GREGORIAN
METHOD:PUBLISH
X-WR-CALNAME:GHI Schedule
X-ORIGINAL-URL:https://ghi.website
X-WR-CALDESC:Events for GHI Schedule
REFRESH-INTERVAL;VALUE=DURATION:PT1H
X-Robots-Tag:noindex
X-PUBLISHED-TTL:PT1H
BEGIN:VTIMEZONE
TZID:America/Los_Angeles
BEGIN:DAYLIGHT
TZOFFSETFROM:-0800
TZOFFSETTO:-0700
TZNAME:PDT
DTSTART:20240310T100000
END:DAYLIGHT
BEGIN:STANDARD
TZOFFSETFROM:-0700
TZOFFSETTO:-0800
TZNAME:PST
DTSTART:20241103T090000
END:STANDARD
BEGIN:DAYLIGHT
TZOFFSETFROM:-0800
TZOFFSETTO:-0700
TZNAME:PDT
DTSTART:20250309T100000
END:DAYLIGHT
BEGIN:STANDARD
TZOFFSETFROM:-0700
TZOFFSETTO:-0800
TZNAME:PST
DTSTART:20251102T090000
END:STANDARD
END:VTIMEZONE
BEGIN:VEVENT
DTSTART;VALUE=DATE:20250225
DTEND;VALUE=DATE:20250227
DTSTAMP:20260421T181255
CREATED:20250130T172124Z
LAST-MODIFIED:20250218T152500Z
UID:10654-1740441600-1740614399@ghi.website
SUMMARY:25-00226 PGE SLO HEC (2) BHT 407 HEC
DESCRIPTION:25-00226 PGE SLO SANTA MARIA (2)BHT407 HEC 2-25 2-26-2025 FLIGHT REQUEST REV 2-18-2025 \n25-00226 PGE SLO SANTA MARIA (2)BHT407 HEC 2-25 2-26-2025 NON CAP
URL:https://ghi.website/event/25-00226-pge-slo-hec-2-bht-407-hec-pending-paperwork/
END:VEVENT
BEGIN:VEVENT
DTSTART;VALUE=DATE:20250225
DTEND;VALUE=DATE:20250226
DTSTAMP:20260421T181255
CREATED:20250214T135047Z
LAST-MODIFIED:20250218T160700Z
UID:10689-1740441600-1740527999@ghi.website
SUMMARY:25-00352 PGE MORRO BAY BHT 407 HEC 2-25-2025
DESCRIPTION:25-00352 PGE MORRO BAY BHT 407 HEC 2-25-2025 NON CAP \n25-00352 PGE MORRO BAY BHT 407 HEC 2-25-2025 FLIGHT REQUEST
URL:https://ghi.website/event/25-00352-pge-morro-bay-bht-407-hec-2-25-2025/
END:VEVENT
BEGIN:VEVENT
DTSTART;VALUE=DATE:20250225
DTEND;VALUE=DATE:20250226
DTSTAMP:20260421T181255
CREATED:20250128T173111Z
LAST-MODIFIED:20250214T144538Z
UID:10642-1740441600-1740527999@ghi.website
SUMMARY:25-00203 PGE SAN MATEO BHT 407 POLE SET
DESCRIPTION:25-00203 PGE SAN MATEO BHT 407 POLE SET 2-25-2025 NON CAP \n25-00203 PGE SAN MATEO BHT 407 POLE SET 2-25-2025 FLIGHT REQUEST
URL:https://ghi.website/event/25-00203-pge-san-mateo-bht-407-pole-set/
END:VEVENT
BEGIN:VEVENT
DTSTART;VALUE=DATE:20250224
DTEND;VALUE=DATE:20250301
DTSTAMP:20260421T181255
CREATED:20250130T171810Z
LAST-MODIFIED:20250214T141935Z
UID:10651-1740355200-1740787199@ghi.website
SUMMARY:25-00205 PGE PASO ROBLES PATROL BHT 407 2-24 THRU 2-28-2025
DESCRIPTION:25-00205 PGE PASO ROBLES PATROL BHT 407 2-24 THRU 2-28-2025 FLIGHT REQUEST
URL:https://ghi.website/event/25-00205-pge-paso-robles-patrol-bht-407-2-24-thru-2-28-2025/
END:VEVENT
BEGIN:VEVENT
DTSTART;VALUE=DATE:20250218
DTEND;VALUE=DATE:20250220
DTSTAMP:20260421T181255
CREATED:20250130T171433Z
LAST-MODIFIED:20250214T201623Z
UID:10648-1739836800-1740009599@ghi.website
SUMMARY:25-00124  PGE DIABLO MONTEREY BHT 407 HEC
DESCRIPTION:25-00124 PGE DIABLO MONTEREY BHT 407 HEC 2-18 2-19-2025 NON CAP \n25-00124 PGE DIABLO MONTEREY BHT 407 REVISED FLIGHT REQUEST
URL:https://ghi.website/event/25-00124-pge-diablo-monterey-bht-407-hec/
END:VEVENT
BEGIN:VEVENT
DTSTART;VALUE=DATE:20250218
DTEND;VALUE=DATE:20250219
DTSTAMP:20260421T181255
CREATED:20250205T183207Z
LAST-MODIFIED:20250211T162150Z
UID:10666-1739836800-1739923199@ghi.website
SUMMARY:25-00277 PGE SLO BHT 205 POLE SET
DESCRIPTION:25-00277 PGE SLO AVILLA BEACH BHT 205 POLE SET 2-18-2025 NON CAP. \n25-00277 PGE SLO BHT 205 POLE SET 2-18-2025 FLIGHT REQUEST update to follow \n25-00277 PGE SLO BHT 205 POLE SET 2-18-2025 FLIGHT REQUEST
URL:https://ghi.website/event/25-00277-pge-slo-bht-205-pole-set/
END:VEVENT
BEGIN:VEVENT
DTSTART;VALUE=DATE:20250214
DTEND;VALUE=DATE:20250302
DTSTAMP:20260421T181255
CREATED:20250214T134529Z
LAST-MODIFIED:20250214T162142Z
UID:10686-1739491200-1740873599@ghi.website
SUMMARY:25-00053 PGE AETHON FILMORE
DESCRIPTION:25-00053 PGE AETHON FILMORE 2-14 3-1-2025 FLIGHT REQUEST
URL:https://ghi.website/event/25-00053-pge-aethon-filmore/
END:VEVENT
BEGIN:VEVENT
DTSTART;VALUE=DATE:20250211
DTEND;VALUE=DATE:20250212
DTSTAMP:20260421T181255
CREATED:20250121T182255Z
LAST-MODIFIED:20250121T182302Z
UID:10613-1739232000-1739318399@ghi.website
SUMMARY:25-00053 PGE AETHON IMAGING BHT 407 2-11-2025
DESCRIPTION:25-00053 PGE AETHON IMAGING BHT 407 2-11-2025 FLIGTH ERQUEST
URL:https://ghi.website/event/25-00053-pge-aethon-imaging-bht-407-2-11-2025/
END:VEVENT
BEGIN:VEVENT
DTSTART;VALUE=DATE:20250211
DTEND;VALUE=DATE:20250212
DTSTAMP:20260421T181255
CREATED:20241213T163453Z
LAST-MODIFIED:20241213T163453Z
UID:10540-1739232000-1739318399@ghi.website
SUMMARY:USFS INSPECTION N211GH N777GH N111GH N498PT
DESCRIPTION:
URL:https://ghi.website/event/usfs-inspection-n211gh-n777gh-n111gh-n498pt/
END:VEVENT
BEGIN:VEVENT
DTSTART;VALUE=DATE:20250130
DTEND;VALUE=DATE:20250201
DTSTAMP:20260421T181255
CREATED:20250108T195041Z
LAST-MODIFIED:20250128T170723Z
UID:10580-1738195200-1738367999@ghi.website
SUMMARY:25-00032 PGE SLO TEMBLOR BHT 407 HEC
DESCRIPTION:25-00032 PGE SLO TEMBLOR BHT 407 HEC 1-30 1-31-2025 NON CAP \n25-00032 PGE SLO TEMBLOR BHT 407 HEC FLIGHT REQUEST
URL:https://ghi.website/event/25-00032-pge-slo-temblor-bht-407-hec/
END:VEVENT
BEGIN:VEVENT
DTSTART;VALUE=DATE:20250127
DTEND;VALUE=DATE:20250128
DTSTAMP:20260421T181255
CREATED:20250109T184949Z
LAST-MODIFIED:20250122T175509Z
UID:10583-1737936000-1738022399@ghi.website
SUMMARY:25-00047 PGE SLO BHT 407 HEC
DESCRIPTION:25-00047 PGE SLO BHT 407 HEC 1-27-2025 FLIGHT REQUEST \n25-00047 PGE SLO BHT 407 HEC 1-27-2025 NON CAP
URL:https://ghi.website/event/25-00047-pge-slo-bht-407-hec/
END:VEVENT
BEGIN:VEVENT
DTSTART;VALUE=DATE:20250121
DTEND;VALUE=DATE:20250127
DTSTAMP:20260421T181255
CREATED:20250121T181643Z
LAST-MODIFIED:20250121T181643Z
UID:10607-1737417600-1737935999@ghi.website
SUMMARY:25-00131 PGE BFL PATROL BHT 407 1-20 THRU 1-26-2025
DESCRIPTION:25-00131 PGE BFL PATROL BHT 407 1-20 THRU 1-26-2025
URL:https://ghi.website/event/25-00131-pge-bfl-patrol-bht-407-1-20-thru-1-26-2025/
END:VEVENT
BEGIN:VEVENT
DTSTART;VALUE=DATE:20250121
DTEND;VALUE=DATE:20250127
DTSTAMP:20260421T181255
CREATED:20250121T181440Z
LAST-MODIFIED:20250121T181450Z
UID:10604-1737417600-1737935999@ghi.website
SUMMARY:25-00130 PGE BFL PATROL BHT 407 1-20 THRU 1-26-2025
DESCRIPTION:25-00130 PGE BFL PATROL BHT 407 1-20 THRU 1-26-2025
URL:https://ghi.website/event/25-00130-pge-bfl-patrol-bht-407-1-20-thru-1-26-2025/
END:VEVENT
BEGIN:VEVENT
DTSTART;VALUE=DATE:20250115
DTEND;VALUE=DATE:20250121
DTSTAMP:20260421T181255
CREATED:20250106T175636Z
LAST-MODIFIED:20250106T175636Z
UID:10575-1736899200-1737417599@ghi.website
SUMMARY:UH-1H AND BHT 407 TRAINING
DESCRIPTION:
URL:https://ghi.website/event/uh-1h-and-bht-407-training/
END:VEVENT
BEGIN:VEVENT
DTSTART;VALUE=DATE:20250115
DTEND;VALUE=DATE:20250116
DTSTAMP:20260421T181255
CREATED:20241220T164737Z
LAST-MODIFIED:20250110T164426Z
UID:10561-1736899200-1736985599@ghi.website
SUMMARY:24-03900 PGE MONTEREY BHT 407
DESCRIPTION:24-03900 PGE CHUALAR BHT 407 HEC POLE SET NON CAP 1-15-2025 \n24-03900 PGE MONTEREY BHT 407 1-15-2025 FLIGHT REQUEST \n \n \nR. 3900
URL:https://ghi.website/event/24-pge-monterey-pending-paperwork/
END:VEVENT
BEGIN:VEVENT
DTSTART;VALUE=DATE:20250115
DTEND;VALUE=DATE:20250116
DTSTAMP:20260421T181255
CREATED:20241209T193140Z
LAST-MODIFIED:20241209T193259Z
UID:10534-1736899200-1736985599@ghi.website
SUMMARY:24-03331 PGE NEVADA COUNTY BK 117 HEC
DESCRIPTION:24-03331 ALLEGHANY BK 117 POLE SET 1-15-2025 NON CAP REV 2 \n24-03331 PGE NEVADA COUNTY BK 117 HEC1-15-2025 FLIGHT REQUEST
URL:https://ghi.website/event/24-03331-pge-nevada-county-bk-117-hec/
END:VEVENT
BEGIN:VEVENT
DTSTART;VALUE=DATE:20250113
DTEND;VALUE=DATE:20250115
DTSTAMP:20260421T181255
CREATED:20250113T154325Z
LAST-MODIFIED:20250113T154325Z
UID:10598-1736726400-1736899199@ghi.website
SUMMARY:24-000068 PGE PATROL BFL BHT 407
DESCRIPTION:24-000068 PGE PATROL BFL BHT 407 FLIGHT REQUEST
URL:https://ghi.website/event/24-000068-pge-patrol-bfl-bht-407/
END:VEVENT
BEGIN:VEVENT
DTSTART;VALUE=DATE:20250113
DTEND;VALUE=DATE:20250115
DTSTAMP:20260421T181255
CREATED:20250113T154004Z
LAST-MODIFIED:20250113T154026Z
UID:10595-1736726400-1736899199@ghi.website
SUMMARY:24-00072 PGE PATRO BFL BHT 407
DESCRIPTION:24-00072 PGE PATRO BFL BHT 407 FLIGHT REQUEST \nPRE POSITON -1-13 FLY 1-14
URL:https://ghi.website/event/24-00072-pge-patro-bfl-bht-407/
END:VEVENT
BEGIN:VEVENT
DTSTART;VALUE=DATE:20250111
DTEND;VALUE=DATE:20250112
DTSTAMP:20260421T181255
CREATED:20241220T164342Z
LAST-MODIFIED:20250106T175544Z
UID:10558-1736553600-1736639999@ghi.website
SUMMARY:24-03893 PGE MONTEREY BHT 407 POLE SET
DESCRIPTION:24-03893 PGE PAICINES BHT 407 POLE 1-11-2025 NON CAP \nPGE2024-12-21 0917 24-03893
URL:https://ghi.website/event/24-03893-pge-monterey-bht-407-pole-set-2/
END:VEVENT
BEGIN:VEVENT
DTSTART;VALUE=DATE:20241220
DTEND;VALUE=DATE:20241221
DTSTAMP:20260421T181255
CREATED:20241220T164232Z
LAST-MODIFIED:20241220T164232Z
UID:10555-1734652800-1734739199@ghi.website
SUMMARY:24-03893 PGE MONTEREY BHT 407 POLE SET
DESCRIPTION:24-03893 PGE MONTEREY BHT 407 POLE SET 1-11-2025 FLIGHT REQUEST
URL:https://ghi.website/event/24-03893-pge-monterey-bht-407-pole-set/
END:VEVENT
BEGIN:VEVENT
DTSTART;VALUE=DATE:20241219
DTEND;VALUE=DATE:20241220
DTSTAMP:20260421T181255
CREATED:20241112T145212Z
LAST-MODIFIED:20241114T155729Z
UID:10459-1734566400-1734652799@ghi.website
SUMMARY:24-03315 PGE PIKE CITY BK117 POLE SET
DESCRIPTION:24-03315 PGE OAK VALLEY BK 117 POLE SET 12-19-2024 NON CAP REV 2 \n24-03315 PGE PIKE CITY BK117 POLE SET FLIGHT REQUEST 12-19-2024
URL:https://ghi.website/event/24-03315-pge-pike-city-bk117-pole-set-2/
END:VEVENT
BEGIN:VEVENT
DTSTART;VALUE=DATE:20241218
DTEND;VALUE=DATE:20241219
DTSTAMP:20260421T181255
CREATED:20241127T154946Z
LAST-MODIFIED:20241217T184627Z
UID:10517-1734480000-1734566399@ghi.website
SUMMARY:24-03724 PGE SANTA BARBARA BHT 407 POLE SET
DESCRIPTION:24-03724 PGE SANTA BARBARA BHT 407 POLE SET 12-18-2024 NON CAP \n24-03724 PGE SANTA BARBARA BHT 407 POLE SET 12-18-2024 FLIGHT REQUEST
URL:https://ghi.website/event/24-03724-pge-santa-barbara-bht-407-pole-set/
END:VEVENT
BEGIN:VEVENT
DTSTART;TZID=America/Los_Angeles:20241216T080000
DTEND;TZID=America/Los_Angeles:20241221T170000
DTSTAMP:20260421T181255
CREATED:20241125T154658Z
LAST-MODIFIED:20241125T154658Z
UID:10502-1734336000-1734800400@ghi.website
SUMMARY:24-03701 PGE AETHON IMAGINING N447GH
DESCRIPTION:24-03701 PGE AETHON IMAGINING 12-16 THRU 12-21-2024 FLIGHT REQUEST
URL:https://ghi.website/event/24-03701-pge-aethon-imagining-n447gh/
END:VEVENT
BEGIN:VEVENT
DTSTART;TZID=America/Los_Angeles:20241216T080000
DTEND;TZID=America/Los_Angeles:20241220T170000
DTSTAMP:20260421T181255
CREATED:20240118T162223Z
LAST-MODIFIED:20241127T161539Z
UID:9098-1734336000-1734714000@ghi.website
SUMMARY:AETHON IMAGING N447GH
DESCRIPTION:24-03701 PGE AETHON IMAGING BHT 407 12-16-2024 FLIGHT REQUEST
URL:https://ghi.website/event/aethon-imaging-n447gh-8/
END:VEVENT
BEGIN:VEVENT
DTSTART;TZID=America/Los_Angeles:20241216T080000
DTEND;TZID=America/Los_Angeles:20241217T170000
DTSTAMP:20260421T181255
CREATED:20241217T182118Z
LAST-MODIFIED:20241217T182118Z
UID:10545-1734336000-1734454800@ghi.website
SUMMARY:24-03792 PGE FRESNO BHT 407 HEC
DESCRIPTION:24-03792 PGE FRESNO BHT 407 HEC 12-16 12-17-2024 FLIGHT REQUEST
URL:https://ghi.website/event/24-03792-pge-fresno-bht-407-hec/
END:VEVENT
BEGIN:VEVENT
DTSTART;TZID=America/Los_Angeles:20241216T080000
DTEND;TZID=America/Los_Angeles:20241217T170000
DTSTAMP:20260421T181255
CREATED:20241217T182018Z
LAST-MODIFIED:20241217T182018Z
UID:10542-1734336000-1734454800@ghi.website
SUMMARY:24-03888 PGE YOSEMITE BHT 407 HEC 12-16 12-17-2024
DESCRIPTION:24-03888 PGE YOSEMITE BHT 407 HEC 12-16 12-17-2024 FLIGHT REQUEST
URL:https://ghi.website/event/24-03888-pge-yosemite-bht-407-hec-12-16-12-17-2024/
END:VEVENT
BEGIN:VEVENT
DTSTART;TZID=America/Los_Angeles:20241209T080000
DTEND;TZID=America/Los_Angeles:20241215T170000
DTSTAMP:20260421T181255
CREATED:20241209T191147Z
LAST-MODIFIED:20241209T191558Z
UID:10527-1733731200-1734282000@ghi.website
SUMMARY:24-03701 PGE BHT 407 AETHON FILMORE 12-9 THRU 12-15-2024
DESCRIPTION:24-03701 PGE BHT 407 AETHON FILMORE 12-9 THRU 12-15-2024 FLIGHT REQUEST
URL:https://ghi.website/event/24-03701-pge-bht-407-aethon-filmore-12-9-thru-12-15-2024/
END:VEVENT
BEGIN:VEVENT
DTSTART;VALUE=DATE:20241205
DTEND;VALUE=DATE:20241206
DTSTAMP:20260421T181255
CREATED:20241004T121636Z
LAST-MODIFIED:20241022T001703Z
UID:10169-1733356800-1733443199@ghi.website
SUMMARY:24-02996 PGE SANTA CRUZ BHT 205
DESCRIPTION:24-02996 PGE SANTA CRUZ BHT 205 FLIGHT REQUEST REV 1 12-5-2024 \n24-02996 PGE DAVENPORT BHT 205 POLE SET 10-24-2024 NON CAP \n24-02996 PGE SANTA CRUZ BHT 205 FLIGHT REQUEST
URL:https://ghi.website/event/24-02996-pge-santa-cruz-bht-205/
END:VEVENT
BEGIN:VEVENT
DTSTART;VALUE=DATE:20241203
DTEND;VALUE=DATE:20241204
DTSTAMP:20260421T181255
CREATED:20241114T230703Z
LAST-MODIFIED:20241126T184350Z
UID:10483-1733184000-1733270399@ghi.website
SUMMARY:24-03659 PGE SHASTA BK117 HEC POLE SET
DESCRIPTION:24-03659 24-03659 PGE SHASTA BK117 12-3-2024 NON CAP \nPGE SHASTA BK117 HEC POLE SET 12-3-2024 FLIGHT REQUEST
URL:https://ghi.website/event/24-03659-pge-shasta-bk117-hec-pole-set/
END:VEVENT
BEGIN:VEVENT
DTSTART;VALUE=DATE:20241202
DTEND;VALUE=DATE:20241203
DTSTAMP:20260421T181255
CREATED:20241114T155157Z
LAST-MODIFIED:20241126T182623Z
UID:10476-1733097600-1733183999@ghi.website
SUMMARY:24-03648 PGE SLO TEMBLOR BHT 407 CARGO
DESCRIPTION:24-03648 PGE SLO BURRITO CREEK BHT 407 12-2-2024 NON CAP \n24-03648 PGE SLO TEMBLOR BHT 407 CARGO 12-02-2024 FLIGHT REQUEST
URL:https://ghi.website/event/24-03648-pge-slo-temblor-bht-407-cargo/
END:VEVENT
END:VCALENDAR