BEGIN:VCALENDAR
VERSION:2.0
PRODID:-//GHI Schedule - ECPv6.0.12//NONSGML v1.0//EN
CALSCALE:GREGORIAN
METHOD:PUBLISH
X-WR-CALNAME:GHI Schedule
X-ORIGINAL-URL:https://ghi.website
X-WR-CALDESC:Events for GHI Schedule
REFRESH-INTERVAL;VALUE=DURATION:PT1H
X-Robots-Tag:noindex
X-PUBLISHED-TTL:PT1H
BEGIN:VTIMEZONE
TZID:America/Los_Angeles
BEGIN:DAYLIGHT
TZOFFSETFROM:-0800
TZOFFSETTO:-0700
TZNAME:PDT
DTSTART:20250309T100000
END:DAYLIGHT
BEGIN:STANDARD
TZOFFSETFROM:-0700
TZOFFSETTO:-0800
TZNAME:PST
DTSTART:20251102T090000
END:STANDARD
END:VTIMEZONE
BEGIN:VEVENT
DTSTART;VALUE=DATE:20250514
DTEND;VALUE=DATE:20250515
DTSTAMP:20260421T141404
CREATED:20250423T170540Z
LAST-MODIFIED:20250423T170540Z
UID:11171-1747180800-1747267199@ghi.website
SUMMARY:PGE HEALTH CHECK AUDIT
DESCRIPTION:
URL:https://ghi.website/event/pge-health-check-audit/
END:VEVENT
BEGIN:VEVENT
DTSTART;VALUE=DATE:20250513
DTEND;VALUE=DATE:20250608
DTSTAMP:20260421T141404
CREATED:20250429T151448Z
LAST-MODIFIED:20250429T151459Z
UID:11188-1747094400-1749340799@ghi.website
SUMMARY:25-01008  PGE AETHON BHT 407
DESCRIPTION:25-01008 PGE AETHON BHT 407 5-13 THRU 6-7-2025 FLIGHT REQUEST
URL:https://ghi.website/event/25-01008-pge-aethon-bht-407-5-13-thru-6-7-2025/
END:VEVENT
BEGIN:VEVENT
DTSTART;VALUE=DATE:20250512
DTEND;VALUE=DATE:20250514
DTSTAMP:20260421T141404
CREATED:20250423T170506Z
LAST-MODIFIED:20250423T170506Z
UID:11169-1747008000-1747180799@ghi.website
SUMMARY:BHT 407 DOI CHECK RIDES
DESCRIPTION:
URL:https://ghi.website/event/bht-407-doi-check-rides/
END:VEVENT
BEGIN:VEVENT
DTSTART;VALUE=DATE:20250507
DTEND;VALUE=DATE:20250508
DTSTAMP:20260421T141404
CREATED:20250328T143332Z
LAST-MODIFIED:20250424T154119Z
UID:11000-1746576000-1746662399@ghi.website
SUMMARY:25-00672 PGE SLO BHT 407 HEC
DESCRIPTION:25-00672 PGE SLO BHT 407 HEC 5-7-2025 NON CAP \n25-00672 PGE SLO BHT 407 HEC 5-7-2025 FLIGHT REQUEST
URL:https://ghi.website/event/25-00672-pge-slo-bht-407-hec-pending-paperwork/
END:VEVENT
BEGIN:VEVENT
DTSTART;VALUE=DATE:20250505
DTEND;VALUE=DATE:20250506
DTSTAMP:20260421T141404
CREATED:20250421T152116Z
LAST-MODIFIED:20250422T155915Z
UID:11152-1746403200-1746489599@ghi.website
SUMMARY:25-00896 PGE KERN COUNTY BHT 407
DESCRIPTION:25-00896 PGE KERN COUNTY BHT 407 5-5-2025 NON CAP \n25-00896 PGE KERN COUNTY BHT 407 5-5-2025 FLGITH REQUEST
URL:https://ghi.website/event/25-00896-pge-kern-county-bht-407-5-5-2025/
END:VEVENT
BEGIN:VEVENT
DTSTART;VALUE=DATE:20250505
DTEND;VALUE=DATE:20250506
DTSTAMP:20260421T141404
CREATED:20250327T165743Z
LAST-MODIFIED:20250424T160759Z
UID:10988-1746403200-1746489599@ghi.website
SUMMARY:25-00701 SLO BHT 205 POLE SET PAIRED WITH 25-00698
DESCRIPTION:25-00701 BHT 205 25-00698 BHT 407 PGE SLO 5-5-2025 NON CAP \n25-00701 PGE BHT 205 SLO PAIRED WITH 25-00698 5-5-2025 FLIGHT REQUEST
URL:https://ghi.website/event/25-00701-slo-bht-205-pending-paerwork/
END:VEVENT
BEGIN:VEVENT
DTSTART;VALUE=DATE:20250505
DTEND;VALUE=DATE:20250506
DTSTAMP:20260421T141404
CREATED:20250327T165708Z
LAST-MODIFIED:20250424T160827Z
UID:10986-1746403200-1746489599@ghi.website
SUMMARY:25-00698 SLO BHT407 HEC PAIRED WITH 25-00701
DESCRIPTION:25-00701 BHT 205 25-00698 BHT 407 PGE SLO 5-5-2025 NON CAP \n25-00698 PGE SLO BHT 407 HEC 5-5-2025 FLIGHT REQUEST
URL:https://ghi.website/event/25-00698-slo-bht407-pending-paperwork/
END:VEVENT
BEGIN:VEVENT
DTSTART;VALUE=DATE:20250504
DTEND;VALUE=DATE:20250505
DTSTAMP:20260421T141404
CREATED:20250430T144625Z
LAST-MODIFIED:20250430T150306Z
UID:11198-1746316800-1746403199@ghi.website
SUMMARY:24-03873 PGE KERN BHT 407 HEC 5-4-2025
DESCRIPTION:24-03873 PGE KERN BHT 407 HEC 5-4-2025 NON CAP \n24-03873 PGE KERN BHT 407 HEC 5-4-2025 FLIGHT REQUEST
URL:https://ghi.website/event/24-03873-pge-kern-bht-407-hec-5-4-2025/
END:VEVENT
BEGIN:VEVENT
DTSTART;VALUE=DATE:20250504
DTEND;VALUE=DATE:20250505
DTSTAMP:20260421T141404
CREATED:20250221T141936Z
LAST-MODIFIED:20250430T164807Z
UID:10740-1746316800-1746403199@ghi.website
SUMMARY:25-00344 PGE SLO MORRO BAY BHT 407
DESCRIPTION:25-00344 PGE SLO MORRO BAY BHT 407 4-06 THRU 4-12 4-28 THRU 5-2 5-4-2025 NON CAP \n25-00344 PGE SLO MORRO BAY BHT 407 4-06 THRU 4-12 4-28 THRU 5-2 5-4-2025 FLIGHT REQUEST \n25-00344 PGE SLO MORRO BAY BHT 407 4-06 THRU 4-12 4-28 THRU 5-2 5-4-2025 FLIGHT REQUEST REV 3-27-2025
URL:https://ghi.website/event/25-00325-00344-pge-slo-morro-bay-bht-407/
END:VEVENT
BEGIN:VEVENT
DTSTART;VALUE=DATE:20250502
DTEND;VALUE=DATE:20250503
DTSTAMP:20260421T141404
CREATED:20250417T134538Z
LAST-MODIFIED:20250421T161044Z
UID:11133-1746144000-1746230399@ghi.website
SUMMARY:25-00911 PGE MADERA OAKHURST BHT 205 POLE SET 5-2-2025
DESCRIPTION:25-00911 PGE MADERA OAKHURST BHT 205 POLE SET 5-2-2025 NON CAP \n25-00911 PGE MADERA OAKHURST BHT 205 POLE SET 5-2-2025 FLIGHT ERQUEST
URL:https://ghi.website/event/25-00911-pge-madera-oakhurst-bht-205-pole-set-5-2-2025/
END:VEVENT
BEGIN:VEVENT
DTSTART;VALUE=DATE:20250430
DTEND;VALUE=DATE:20250502
DTSTAMP:20260421T141404
CREATED:20250219T174820Z
LAST-MODIFIED:20250219T174917Z
UID:10729-1745971200-1746143999@ghi.website
SUMMARY:25-03440 SLO KERN BHT 407 4-30-5-1-2025
DESCRIPTION:25-03440 SLO KERN BHT 407 4-30-5-1-2025 FLIGHT REQUEST
URL:https://ghi.website/event/25-03440-slo-kern-bht-407-4-30-5-1-2025/
END:VEVENT
BEGIN:VEVENT
DTSTART;VALUE=DATE:20250429
DTEND;VALUE=DATE:20250504
DTSTAMP:20260421T141404
CREATED:20250221T141626Z
LAST-MODIFIED:20250328T171154Z
UID:10738-1745884800-1746316799@ghi.website
SUMMARY:25-00344 PGE SLO MORRO BAY BHT 407
DESCRIPTION:25-00344 PGE SLO MORRO BAY BHT 407 4-06 THRU 4-12 4-28 THRU 5-2 5-4-2025 NON CAP \n25-00344 PGE SLO MORRO BAY BHT 407 4-06 THRU 4-12 4-28 THRU 5-2 5-4-2025 FLIGHT REQUEST \n25-00344 PGE SLO MORRO BAY BHT 407 4-06 THRU 4-12 4-28 THRU 5-2 5-4-2025 FLIGHT REQUEST REV 3-27-2025
URL:https://ghi.website/event/25-00344-pge-slo-morro-bay-bht-407-4-06-thru-4-12-4-28-thru-5-2-5-4-2025-2/
END:VEVENT
BEGIN:VEVENT
DTSTART;VALUE=DATE:20250429
DTEND;VALUE=DATE:20250502
DTSTAMP:20260421T141404
CREATED:20250325T141028Z
LAST-MODIFIED:20250417T162728Z
UID:10950-1745884800-1746143999@ghi.website
SUMMARY:25-00654 PGE MONTEREY BHT 407
DESCRIPTION:25-00654 PGE MONTEREY BHT 407 4-29 THRU 5-1-2025 FLIGHT REQUEST \n25-00654 PGE MONTEREY BHT 407 4-29 THRU 5-1-2025 NON CAP
URL:https://ghi.website/event/25-00654-pge-monterey-bht-407-4-10-2025/
END:VEVENT
BEGIN:VEVENT
DTSTART;VALUE=DATE:20250428
DTEND;VALUE=DATE:20250501
DTSTAMP:20260421T141404
CREATED:20250414T153019Z
LAST-MODIFIED:20250430T143903Z
UID:11104-1745798400-1746057599@ghi.website
SUMMARY:25-00826 PGE COALINGA BHT 407 HEC
DESCRIPTION:25-00826 PGE COALINGA BHT 407 HEC 4-28 4-29-2025 NON CAP \n25-00826 PGE COALINGA BHT 407 HEC 4-28 4-29-2025 FLIGHT REQUEST REV 4-14-2025 \n25-00826 PGE COALINGA BHT 407 HEC 4-28 4-29-2025 FLIGHT REQUEST
URL:https://ghi.website/event/25-00826-pge-coalinga-bht-407-hec/
END:VEVENT
BEGIN:VEVENT
DTSTART;VALUE=DATE:20250428
DTEND;VALUE=DATE:20250429
DTSTAMP:20260421T141404
CREATED:20250313T163527Z
LAST-MODIFIED:20250417T143344Z
UID:10856-1745798400-1745884799@ghi.website
SUMMARY:25-00554 PGE MONTEREY COUNTY BHT 407
DESCRIPTION:25-00554 PGE MONTEREY COUNTY BHT 407 4-28-2025 NON CAP \n25-00554 PGE MONTEREY COUNTY BHT 407 4-28-2025
URL:https://ghi.website/event/25-00554-pge-monterey-county-bht-407/
END:VEVENT
BEGIN:VEVENT
DTSTART;VALUE=DATE:20250425
DTEND;VALUE=DATE:20250426
DTSTAMP:20260421T141404
CREATED:20250425T151527Z
LAST-MODIFIED:20250425T151527Z
UID:11178-1745539200-1745625599@ghi.website
SUMMARY:25-00995 PGE FRESNO PATROL BHT 407
DESCRIPTION:25-00995 PGE FRESNO PATROL BHT 407 4-25-2025 FLIGHT REQUEST
URL:https://ghi.website/event/25-00995-pge-fresno-patrol-bht-407/
END:VEVENT
BEGIN:VEVENT
DTSTART;VALUE=DATE:20250424
DTEND;VALUE=DATE:20250425
DTSTAMP:20260421T141404
CREATED:20250408T143343Z
LAST-MODIFIED:20250415T175837Z
UID:11060-1745452800-1745539199@ghi.website
SUMMARY:25-00811 PGE TEMPLETON BHT407 HEC POLE 4-24-2025
DESCRIPTION:25-00811 PGE TEMPLETON BHT407 HEC POLE 4-24-2025 NON CAP \n25-00811 PGE TEMPLETON BHT407 HEC POLE 4-24-2025 FLIGTH REQUEST
URL:https://ghi.website/event/25-00811-pge-templeton-bht407-hec-pole-4-24-2025/
END:VEVENT
BEGIN:VEVENT
DTSTART;VALUE=DATE:20250423
DTEND;VALUE=DATE:20250424
DTSTAMP:20260421T141404
CREATED:20250421T151831Z
LAST-MODIFIED:20250421T154454Z
UID:11148-1745366400-1745452799@ghi.website
SUMMARY:25-00944 PGE INYO SEQUOIA NP BHT 205
DESCRIPTION:25-00944 PGE INYO SEQUOIA NP BHT 205 4-23-2025 NON CAP \n25-00944 PGE INYO SEQUOIA NP BHT 205 4-23-2025 FLIGHT REQUEST
URL:https://ghi.website/event/25-00944-pge-inyo-sequoia-np-bht-205-4-23-2025/
END:VEVENT
BEGIN:VEVENT
DTSTART;VALUE=DATE:20250423
DTEND;VALUE=DATE:20250424
DTSTAMP:20260421T141404
CREATED:20250417T133735Z
LAST-MODIFIED:20250417T133742Z
UID:11129-1745366400-1745452799@ghi.website
SUMMARY:25-00771 PGE MARIPOSA BHT 407 HEC TOWER REPAIR
DESCRIPTION:25-00771 PGE MARIPOSA BHT 407 HEC TOWER REPAIR 4-16-2025 4-23-2025 FLIGHT REQUEST rev 4-17-2025 \n25-00771 PGE MARIPOSA BHT 407 HEC TOWER REPAIR 4-16-2025 4-23-2025 NON CAP revised 4-17-2025
URL:https://ghi.website/event/25-00771-pge-mariposa-bht-407-hec-tower-repair/
END:VEVENT
BEGIN:VEVENT
DTSTART;VALUE=DATE:20250423
DTEND;VALUE=DATE:20250424
DTSTAMP:20260421T141404
CREATED:20250310T143027Z
LAST-MODIFIED:20250417T135239Z
UID:10837-1745366400-1745452799@ghi.website
SUMMARY:25-00519 25-00699 PGE OLD WOMEN MOUNTAIN BK117 4-23-2025
DESCRIPTION:25-00699 PGE OLD WOMEN MOUNTAIN BK117 4-23-2025 SHIP SHARE WITH 25-00519 FLIGHT REQUEST REV 4-17-2025 \n25-00519 25-00699 PGE OLD WOMEN PROPANE PASSENGER 4-23-2025 NON CAP \n25-00519 PGE OLD WOMEN MOUNTAIN BK117 4-23-2025 REV 3-27-2025 \n25-00699 PGE OLD WOMEN MOUNTAIN BK117 4-23-2025 SHIP SHARE WITH 25-00519 FLIGHT REQUEST REV 3-27-2025 \n25-00699 PGE OLD WOMEN MOUNTAIN 4-23-2025 PASSENGER FLIGHT REQUEST \n 
URL:https://ghi.website/event/25-00519-pge-old-women-mountain-bk117-4-23-2025/
END:VEVENT
BEGIN:VEVENT
DTSTART;VALUE=DATE:20250421
DTEND;VALUE=DATE:20250422
DTSTAMP:20260421T141404
CREATED:20250421T151539Z
LAST-MODIFIED:20250421T151753Z
UID:11145-1745193600-1745279999@ghi.website
SUMMARY:25-00948 PGE MADERA PATROL BHT 407 4-21-2025
DESCRIPTION:25-00948 PGE MADERA PATROL BHT 407 4-21-2025 FLIGHT REQUEST
URL:https://ghi.website/event/25-00948-pge-madera-patrol-bht-407-4-21-2025/
END:VEVENT
BEGIN:VEVENT
DTSTART;VALUE=DATE:20250421
DTEND;VALUE=DATE:20250422
DTSTAMP:20260421T141404
CREATED:20250411T165420Z
LAST-MODIFIED:20250415T165411Z
UID:11085-1745193600-1745279999@ghi.website
SUMMARY:25-00873 PGE BALCH CAMP BHT 205 POLE SET
DESCRIPTION:25-00873 PGE BALCH CAMP BHT 205 POLE SET 4-21-2025 NON CAP \n25-00873 PGE BALCH CAMP BHT 205 POLE SET 4-21-2025 FLIGHT REQUEST
URL:https://ghi.website/event/25-00873-pge-balch-camp-bht-205-pole-set/
END:VEVENT
BEGIN:VEVENT
DTSTART;VALUE=DATE:20250416
DTEND;VALUE=DATE:20250417
DTSTAMP:20260421T141404
CREATED:20250404T155310Z
LAST-MODIFIED:20250408T174118Z
UID:11047-1744761600-1744847999@ghi.website
SUMMARY:25-00771 PGE MARIPOSA BHT 407 HEC TOWER REPAIR 4-16-2025
DESCRIPTION:25-00771 PGE MARIPOSA BHT 407 HEC TOWER REPAIR 4-16-2025 NON CAP \n25-00771 PGE MARIPOSA BHT 407 HEC TOWER REPAIR 4-16-2025 FLIGHT REQUEST
URL:https://ghi.website/event/25-00771-pge-mariposa-bht-407-hec-tower-repair-4-16-2025/
END:VEVENT
BEGIN:VEVENT
DTSTART;VALUE=DATE:20250414
DTEND;VALUE=DATE:20251101
DTSTAMP:20260421T141404
CREATED:20250214T181552Z
LAST-MODIFIED:20250409T140913Z
UID:10706-1744588800-1761955199@ghi.website
SUMMARY:25-00709 EPSS PGE MADERIA N829DP
DESCRIPTION:PGE2025-04-08 1834 25-00709 \n25-00709 PGE MEDERA EPSS STANDBY 4-15-2025 FLIGHT REQUEST
URL:https://ghi.website/event/epss-pge-maderia-n829dp/
END:VEVENT
BEGIN:VEVENT
DTSTART;VALUE=DATE:20250414
DTEND;VALUE=DATE:20250417
DTSTAMP:20260421T141404
CREATED:20250409T142019Z
LAST-MODIFIED:20250409T161844Z
UID:11072-1744588800-1744847999@ghi.website
SUMMARY:25-00832 PGE FRESNO MERCED BHT 407
DESCRIPTION:25-00832 PGE FRESNO MERCED BHT 407 4-14 4-16-2025 4-22 4-25-2025 NON CAP \n25-00832 PGE FRESNO MERCED BHT 407 4-14 4-16-2025 4-22 4-25-2025 FLIGHT REQUEST
URL:https://ghi.website/event/25-00832-pge-fresno-merced-bht-407/
END:VEVENT
BEGIN:VEVENT
DTSTART;VALUE=DATE:20250414
DTEND;VALUE=DATE:20250415
DTSTAMP:20260421T141404
CREATED:20250313T163244Z
LAST-MODIFIED:20250408T153811Z
UID:10853-1744588800-1744675199@ghi.website
SUMMARY:25-00526 PGE MERCED BHT 407 4-14-2025
DESCRIPTION:25-00526 PGE MERCED BHT 407 4-14-2025 NON CAP \n25-00526 PGE MERCED BHT 407 4-14-2025 FLIGHT REQUEST
URL:https://ghi.website/event/25-00526-pge-merced-bht-407-4-14-2025/
END:VEVENT
BEGIN:VEVENT
DTSTART;VALUE=DATE:20250411
DTEND;VALUE=DATE:20250413
DTSTAMP:20260421T141404
CREATED:20250325T152529Z
LAST-MODIFIED:20250402T170015Z
UID:10958-1744329600-1744502399@ghi.website
SUMMARY:25-00669 PGE SLO BHT 407 HEC (2)
DESCRIPTION:25-00669 PGE SLO (2) BHT 407 4-11 4-12-2025 FLIGHT REQUEST \n25-00669 PGE SLO (2) BHT 407 4-11 4-12-2025 NON CAP
URL:https://ghi.website/event/25-00669-pge-slo-bht-407-hec-pending-paperwork-2/
END:VEVENT
BEGIN:VEVENT
DTSTART;VALUE=DATE:20250411
DTEND;VALUE=DATE:20250413
DTSTAMP:20260421T141404
CREATED:20250325T152407Z
LAST-MODIFIED:20250402T170047Z
UID:10956-1744329600-1744502399@ghi.website
SUMMARY:25-00669 PGE SLO BHT 407 HEC (2)
DESCRIPTION:25-00669 PGE SLO (2) BHT 407 4-11 4-12-2025 FLIGHT REQUEST \n25-00669 PGE SLO (2) BHT 407 4-11 4-12-2025 NON CAP
URL:https://ghi.website/event/25-00669-pge-slo-bht-407-hec-pending-paperwork/
END:VEVENT
BEGIN:VEVENT
DTSTART;VALUE=DATE:20250411
DTEND;VALUE=DATE:20250412
DTSTAMP:20260421T141404
CREATED:20250320T144855Z
LAST-MODIFIED:20250402T143843Z
UID:10889-1744329600-1744415999@ghi.website
SUMMARY:25-00628 PGE KERN BHT 205 POLE SET
DESCRIPTION:25-00628 PGE KERN BHT 205 POLE SET 4-11-2025 NON CAP \n25-00628 PGE KERN BHT 205 POLE SET 4-11-2025 FLIGHT REQUEST
URL:https://ghi.website/event/25-00628-pge-kern-bht-205-pole-set-4-9-2025/
END:VEVENT
BEGIN:VEVENT
DTSTART;VALUE=DATE:20250409
DTEND;VALUE=DATE:20250410
DTSTAMP:20260421T141404
CREATED:20250321T022249Z
LAST-MODIFIED:20250402T141052Z
UID:10907-1744156800-1744243199@ghi.website
SUMMARY:25-00556 PGE MONTEREY BHT 407 (2) PENDING FAA APPROVAL
DESCRIPTION:25-00556 PGE MONTEREY BHT 407 (1) 4-8 4-10 (2) 4-9-2025 FLIGTH REQUEST
URL:https://ghi.website/event/25-00556-monterey-hec-b407-4-10-second-ship/
END:VEVENT
END:VCALENDAR