BEGIN:VCALENDAR
VERSION:2.0
PRODID:-//GHI Schedule - ECPv6.0.12//NONSGML v1.0//EN
CALSCALE:GREGORIAN
METHOD:PUBLISH
X-WR-CALNAME:GHI Schedule
X-ORIGINAL-URL:https://ghi.website
X-WR-CALDESC:Events for GHI Schedule
REFRESH-INTERVAL;VALUE=DURATION:PT1H
X-Robots-Tag:noindex
X-PUBLISHED-TTL:PT1H
BEGIN:VTIMEZONE
TZID:America/Los_Angeles
BEGIN:DAYLIGHT
TZOFFSETFROM:-0800
TZOFFSETTO:-0700
TZNAME:PDT
DTSTART:20240310T100000
END:DAYLIGHT
BEGIN:STANDARD
TZOFFSETFROM:-0700
TZOFFSETTO:-0800
TZNAME:PST
DTSTART:20241103T090000
END:STANDARD
END:VTIMEZONE
BEGIN:VEVENT
DTSTART;TZID=America/Los_Angeles:20241003T080000
DTEND;TZID=America/Los_Angeles:20241003T170000
DTSTAMP:20260422T151509
CREATED:20240920T160045Z
LAST-MODIFIED:20240930T170758Z
UID:10037-1727942400-1727974800@ghi.website
SUMMARY:24-02810 PGE MARIPOSA BHT 205 POLE SET
DESCRIPTION:PGE 2024-09-26 1134 24-02810 \n24-02847 24-02810 MARIPOSA YOSEMITE AIRPORT 1-3-2024 NON CAP \n24-02810 PGE MARIPOSA BHT 205 POLE SET FLIGHT REQUEST
URL:https://ghi.website/event/24-02810-pge-mariposa-bht-205-pole-set/
END:VEVENT
BEGIN:VEVENT
DTSTART;TZID=America/Los_Angeles:20241002T080000
DTEND;TZID=America/Los_Angeles:20241004T170000
DTSTAMP:20260422T151509
CREATED:20240926T155252Z
LAST-MODIFIED:20240926T155252Z
UID:10091-1727856000-1728061200@ghi.website
SUMMARY:PALM SPRINGS ARIEL TRAM
DESCRIPTION:
URL:https://ghi.website/event/palm-springs-ariel-tram-2/
END:VEVENT
BEGIN:VEVENT
DTSTART;TZID=America/Los_Angeles:20241002T080000
DTEND;TZID=America/Los_Angeles:20241003T170000
DTSTAMP:20260422T151509
CREATED:20240909T165745Z
LAST-MODIFIED:20240930T170938Z
UID:9957-1727856000-1727974800@ghi.website
SUMMARY:24-02672 PGE OLD WOMEN MOUNTAIN PASSENGER ONLY BHT 407
DESCRIPTION:24-02672 PGE OLD WOMEN MOUNTAIN PASSENGER ONLY 10-2MOB 10-3 WORK FLIGHT REQUEST \n10-2 PRE POSIOTION \n10-3 WORK
URL:https://ghi.website/event/24-02672-pge-old-women-mountain-passenger-only-bht-407/
END:VEVENT
BEGIN:VEVENT
DTSTART;TZID=America/Los_Angeles:20241002T080000
DTEND;TZID=America/Los_Angeles:20241002T170000
DTSTAMP:20260422T151509
CREATED:20240927T133837Z
LAST-MODIFIED:20240930T163107Z
UID:10100-1727856000-1727888400@ghi.website
SUMMARY:24-02869 PGE SIERRA COUNTY BKT 205 POLE SET
DESCRIPTION:24-02869 PGE SIERRA COUNTY GREEN VALLEY BHT 205 10-2-2024 NON CAP \nPGE 2024-09-30 0636 24-02869 \n 
URL:https://ghi.website/event/24-02869-pge-sierra-county-bkt-205-pole-set/
END:VEVENT
BEGIN:VEVENT
DTSTART;TZID=America/Los_Angeles:20241002T080000
DTEND;TZID=America/Los_Angeles:20241002T170000
DTSTAMP:20260422T151509
CREATED:20240913T155711Z
LAST-MODIFIED:20240913T155711Z
UID:10017-1727856000-1727888400@ghi.website
SUMMARY:24-02281 PGE PATROL FRESNO
DESCRIPTION:24-02281 PGE PATROL FRESNO FLIGHT REQUEST
URL:https://ghi.website/event/24-02281-pge-patrol-fresno/
END:VEVENT
BEGIN:VEVENT
DTSTART;TZID=America/Los_Angeles:20241001T080000
DTEND;TZID=America/Los_Angeles:20241001T170000
DTSTAMP:20260422T151509
CREATED:20240920T154730Z
LAST-MODIFIED:20240925T000821Z
UID:10034-1727769600-1727802000@ghi.website
SUMMARY:24-02818 PGE MT TAM BHT 407 HEC
DESCRIPTION:24-02818 PGE MT TAM BHT 407 HEC FLIGHT REQUEST \n24-02794 24-02797 24-02818 PGE MT TAM BHT 407 BHT 205 POLE SET HEC 10-1-2024 NON CAP
URL:https://ghi.website/event/24-02818-pge-mt-tam-bht-407-hec/
END:VEVENT
BEGIN:VEVENT
DTSTART;TZID=America/Los_Angeles:20241001T080000
DTEND;TZID=America/Los_Angeles:20241001T170000
DTSTAMP:20260422T151509
CREATED:20240920T154145Z
LAST-MODIFIED:20240925T000741Z
UID:10031-1727769600-1727802000@ghi.website
SUMMARY:24-02794 PGE MT TAM BHT 205 DOUBLE BOOKED WITH 24-02787
DESCRIPTION:24-02794 PGE MT TAM BHT 205 FLIGHT REQUEST \n24-02794 24-02797 24-02818 PGE MT TAM BHT 407 BHT 205 POLE SET HEC 10-1-2024 NON CAP \n 
URL:https://ghi.website/event/24-02794-pge-mt-tam-bht-205-double-booked-with-24-02787/
END:VEVENT
BEGIN:VEVENT
DTSTART;TZID=America/Los_Angeles:20241001T080000
DTEND;TZID=America/Los_Angeles:20241001T170000
DTSTAMP:20260422T151509
CREATED:20240920T153815Z
LAST-MODIFIED:20240925T000906Z
UID:10028-1727769600-1727802000@ghi.website
SUMMARY:24-02787 PGE MT TAM BHT 205 POLE SET
DESCRIPTION:24-02794 24-02797 24-02818 PGE MT TAM BHT 407 BHT 205 POLE SET HEC 10-1-2024 NON CAP \n24-02787 PGE MT TAM BHT 205 FLIGHT REQUEST
URL:https://ghi.website/event/24-02787-pge-mt-tam-bht-205-pole-set/
END:VEVENT
BEGIN:VEVENT
DTSTART;TZID=America/Los_Angeles:20240930T080000
DTEND;TZID=America/Los_Angeles:20241001T170000
DTSTAMP:20260422T151509
CREATED:20240910T145454Z
LAST-MODIFIED:20240918T201849Z
UID:9990-1727683200-1727802000@ghi.website
SUMMARY:SIERRA HYDROGRAPHICS UPPER TYNDALL ANNUAL BACK COUNTRY WORK N111GH OR BK117
DESCRIPTION:State Lakes Lat. 36 55.589’  Long. 118 34.395’  elev. 10\,400’ \nAt this site if is vertical lift straight up from the landing spot. How much weight do you think you can safely land and lift of with? We have roughly 1100 pounds worth of people and tools /equipment. \n  \nUpper Tyndall Lat. 36 38.831’  Long. 118 23.837’  elev. 11\,500’ \n  \nParadise Peak Lat. 36 28.625’  Long. 118 41.881’  elev. 9\,370’ \n  \nMitchell Meadow Lat. 36 44.169’  Long. 118 42.730’  elev. 10\,026’
URL:https://ghi.website/event/sierra-hydrographics-upper-tyndall-annual-back-country-work/
END:VEVENT
BEGIN:VEVENT
DTSTART;TZID=America/Los_Angeles:20240930T080000
DTEND;TZID=America/Los_Angeles:20240930T170000
DTSTAMP:20260422T151509
CREATED:20240930T141821Z
LAST-MODIFIED:20240930T141953Z
UID:10116-1727683200-1727715600@ghi.website
SUMMARY:24-02954 PGE PSPS SANTA MARIA
DESCRIPTION:24-02954 PGE PSPS SANTA MARIA 9-30-2024 FLGITH REQUEST
URL:https://ghi.website/event/24-02954-pge-psps-santa-maria/
END:VEVENT
BEGIN:VEVENT
DTSTART;TZID=America/Los_Angeles:20240928T080000
DTEND;TZID=America/Los_Angeles:20240929T170000
DTSTAMP:20260422T151509
CREATED:20240926T175603Z
LAST-MODIFIED:20240926T181027Z
UID:10093-1727510400-1727629200@ghi.website
SUMMARY:24-02426 PGE KERN BK117 HEC
DESCRIPTION:24-02426 PGE KERN BK117 BHT 407 HEC FLIGHT REQUEST REV 9-26 \n24-02426 PGE LOST HILLS BHT407 HEC INSULATORS 9-26 9-28-2024 NON CAP
URL:https://ghi.website/event/24-02426-pge-kern-bk117-hec/
END:VEVENT
BEGIN:VEVENT
DTSTART;TZID=America/Los_Angeles:20240928T080000
DTEND;TZID=America/Los_Angeles:20240928T170000
DTSTAMP:20260422T151509
CREATED:20240829T152603Z
LAST-MODIFIED:20240926T180844Z
UID:9905-1727510400-1727542800@ghi.website
SUMMARY:24-02426 PGE KERN BHT 407 HEC
DESCRIPTION:24-02426 PGE KERN BK117 BHT 407 HEC FLIGHT REQUEST REV 9-26 \n  \n24-02426 PGE LOST HILLS BHT407 HEC INSULATORS 9-26 9-28-2024 NON CAP \n24-02426 PGE KERN BHT 407 HEC
URL:https://ghi.website/event/24-02426-pge-kern-bht-407-hec/
END:VEVENT
BEGIN:VEVENT
DTSTART;TZID=America/Los_Angeles:20240925T080000
DTEND;TZID=America/Los_Angeles:20240925T170000
DTSTAMP:20260422T151509
CREATED:20240906T163155Z
LAST-MODIFIED:20240923T180901Z
UID:9954-1727251200-1727283600@ghi.website
SUMMARY:24-02661 PGE OAKHURST BK117 POLE SET
DESCRIPTION:24-02661 PGE BK117 POLE SET FLIGHT REQUEST \n  \n24-02661 PGE OAKHURST BK117 POLE SET 9-25-2024 NON CAP
URL:https://ghi.website/event/24-02661-pge-oakhurst-bht-205-pole-set/
END:VEVENT
BEGIN:VEVENT
DTSTART;TZID=America/Los_Angeles:20240923T080000
DTEND;TZID=America/Los_Angeles:20240926T170000
DTSTAMP:20260422T151509
CREATED:20240913T174411Z
LAST-MODIFIED:20240920T201148Z
UID:10020-1727078400-1727370000@ghi.website
SUMMARY:24-02676 PGE MONTEREY BHT 205 POLE SET
DESCRIPTION:MOB ON 9-22 WORK ON 9-23 THRU 9-26 \n24-02676 PGE MONTEREY CA BHT 205 FLIGHT REQUEST \n24-02676 PGE MONTEREY BHT 205 POLE SET NON CAP 9-23 THRU 9-26
URL:https://ghi.website/event/24-02676-pge-monterey-bht-205-pole-set/
END:VEVENT
BEGIN:VEVENT
DTSTART;TZID=America/Los_Angeles:20240922T080000
DTEND;TZID=America/Los_Angeles:20240927T170000
DTSTAMP:20260422T151509
CREATED:20240909T172259Z
LAST-MODIFIED:20240920T220338Z
UID:9962-1726992000-1727456400@ghi.website
SUMMARY:24-02565 PGE MONTEREY BHT 407 HEC
DESCRIPTION:PGE 2024-09-05 1406 24-02565 \n24-02565 PGE MONTEREY BHT 407 HEC 9-22 THRU 9-27 NON CAP \n24-02565 PGE MONTEREY BHT 407 HEC FLIGHT REQUEST REV 9-18-2024
URL:https://ghi.website/event/24-02565-pge-monterey-bht-407-hec/
END:VEVENT
BEGIN:VEVENT
DTSTART;TZID=America/Los_Angeles:20240921T080000
DTEND;TZID=America/Los_Angeles:20240921T170000
DTSTAMP:20260422T151509
CREATED:20240829T151553Z
LAST-MODIFIED:20240912T145832Z
UID:9903-1726905600-1726938000@ghi.website
SUMMARY:CASTAIC ROCK BAGS UH-1H
DESCRIPTION:Q2024-513 CASTAIC ROCK PROJECT UH-1H NON CAP 9-10-2024
URL:https://ghi.website/event/castaic-rock-bags-uh-1h/
END:VEVENT
BEGIN:VEVENT
DTSTART;TZID=America/Los_Angeles:20240918T080000
DTEND;TZID=America/Los_Angeles:20240918T170000
DTSTAMP:20260422T151509
CREATED:20240909T171923Z
LAST-MODIFIED:20240912T145220Z
UID:9959-1726646400-1726678800@ghi.website
SUMMARY:24-02502 PGE CALAVERAS BK117 POLE SET
DESCRIPTION:24-02502 PGE CALAVERAS BK117 POLE SET 9-18-2024 FLIGHT REQUEST \n24-02502 PGE CALAVERAS BK117 POLE SET 9-18-2024 NON CAP
URL:https://ghi.website/event/24-02502-pge-calaveras-bk117-pole-set/
END:VEVENT
BEGIN:VEVENT
DTSTART;TZID=America/Los_Angeles:20240917T080000
DTEND;TZID=America/Los_Angeles:20240917T170000
DTSTAMP:20260422T151509
CREATED:20240820T180519Z
LAST-MODIFIED:20240904T212955Z
UID:9855-1726560000-1726592400@ghi.website
SUMMARY:24-02367 PGE SANTA CRUZ BHT BK117  CAP REQUIRED
DESCRIPTION:24-02367 PGE SANTA CRUZ POLE SET 9-17-2024 CAP_Approved \n24-02367 PGE SANTA CRUZ BHT FLIGHT REQUEST \n24-02367 PGE SANTA CRUZ BHT FLIGHT REQUEST
URL:https://ghi.website/event/24-02367-pge-santa-cruz-bht-bht-205-cap-required/
END:VEVENT
BEGIN:VEVENT
DTSTART;TZID=America/Los_Angeles:20240916T080000
DTEND;TZID=America/Los_Angeles:20240916T170000
DTSTAMP:20260422T151509
CREATED:20240913T154719Z
LAST-MODIFIED:20240913T154719Z
UID:10014-1726473600-1726506000@ghi.website
SUMMARY:24-02670 PGE RECON FLIGHT FOR  24-02565
DESCRIPTION:PGE 2024-09-05 1406 24-02565
URL:https://ghi.website/event/24-02670-pge-recon-flight-for-24-02565/
END:VEVENT
BEGIN:VEVENT
DTSTART;TZID=America/Los_Angeles:20240914T080000
DTEND;TZID=America/Los_Angeles:20240928T170000
DTSTAMP:20260422T151509
CREATED:20240627T184450Z
LAST-MODIFIED:20240812T163707Z
UID:9606-1726300800-1727542800@ghi.website
SUMMARY:PALM SPRINGS AERIAL TRAMWAY
DESCRIPTION:
URL:https://ghi.website/event/palm-springs-aerial-tramway/
END:VEVENT
BEGIN:VEVENT
DTSTART;TZID=America/Los_Angeles:20240914T080000
DTEND;TZID=America/Los_Angeles:20240917T170000
DTSTAMP:20260422T151509
CREATED:20240801T155007Z
LAST-MODIFIED:20240910T163523Z
UID:9787-1726300800-1726592400@ghi.website
SUMMARY:24-02128 PGE MERCED (2) BHT 407 HEC
DESCRIPTION:24-02128 PGE MERCED GUSTINE CA HEC WIRE PULL NON CAP 9-9 THRU 9-19 \n24-02128 PGE HEC MERCED COUNTY FLIGHT REQUEST 9-5 \n24-02128 PGE HEC MERCED COUNTY FLIGHT REQUEST
URL:https://ghi.website/event/24-02128-pge-merced-2-bht-407-hec/
END:VEVENT
BEGIN:VEVENT
DTSTART;TZID=America/Los_Angeles:20240912T080000
DTEND;TZID=America/Los_Angeles:20240912T170000
DTSTAMP:20260422T151509
CREATED:20240912T142822Z
LAST-MODIFIED:20240912T142903Z
UID:10001-1726128000-1726160400@ghi.website
SUMMARY:24-02276 PGE EPPS PATROL N63MJ
DESCRIPTION:24-02276 PGE PATROL FRESNO
URL:https://ghi.website/event/24-02276-pge-epps-patrol-n63mj/
END:VEVENT
BEGIN:VEVENT
DTSTART;TZID=America/Los_Angeles:20240909T080000
DTEND;TZID=America/Los_Angeles:20241005T170000
DTSTAMP:20260422T151509
CREATED:20240828T183351Z
LAST-MODIFIED:20240828T183439Z
UID:9895-1725868800-1728147600@ghi.website
SUMMARY:24-02474 PGE AETHON IMAGING N447GH
DESCRIPTION:24-02474 PGE AETHON IMAGING N447GH FLIGHT REQUEST
URL:https://ghi.website/event/24-02474-pge-aethon-imaging-n447gh/
END:VEVENT
BEGIN:VEVENT
DTSTART;TZID=America/Los_Angeles:20240909T080000
DTEND;TZID=America/Los_Angeles:20240919T170000
DTSTAMP:20260422T151509
CREATED:20240805T163938Z
LAST-MODIFIED:20240910T163353Z
UID:9803-1725868800-1726765200@ghi.website
SUMMARY:24-02128 PGE MERCED BHT 407 HEC PULLING ROPE
DESCRIPTION:24-02128 PGE HEC MERCED COUNTY FLIGHT REQUEST 9-5 \n24-02128 PGE MERCED GUSTINE CA HEC WIRE PULL NON CAP 9-9 THRU 9-19 \n24-02128 PGE HEC MERCED COUNTY FLIGHT REQUEST
URL:https://ghi.website/event/24-02128-pge-merced-2-bht-407-hec-3/
END:VEVENT
BEGIN:VEVENT
DTSTART;TZID=America/Los_Angeles:20240909T080000
DTEND;TZID=America/Los_Angeles:20240913T170000
DTSTAMP:20260422T151509
CREATED:20240729T182752Z
LAST-MODIFIED:20240829T181412Z
UID:9766-1725868800-1726246800@ghi.website
SUMMARY:24-02086 PGE SLO 2 BHT 407 9-3 THRU 9-6 AND 9-9 THRU 9-13 HEC
DESCRIPTION:PGE 2024-07-29 1639 24-02086 \n24-02086 PGE SLO (2) BHT407 HEC CARGO 9-3 THRU 9-13 \n24-02086 PGE SLO 2 BHT 407 HEC 9-3 THRU 9-6 ADN 9-9 THRU 9-13 FLIGHT REQUEST
URL:https://ghi.website/event/24-02086-pge-slo-2-bht-407-9-3-thru-9-6-and-9-9-thru-9-13-hec-3/
END:VEVENT
BEGIN:VEVENT
DTSTART;TZID=America/Los_Angeles:20240909T080000
DTEND;TZID=America/Los_Angeles:20240913T170000
DTSTAMP:20260422T151509
CREATED:20240729T182708Z
LAST-MODIFIED:20240829T181542Z
UID:9764-1725868800-1726246800@ghi.website
SUMMARY:24-02086 PGE SLO 2 BHT 407 9-3 THRU 9-6 AND 9-9 THRU 9-13 HEC
DESCRIPTION:PGE 2024-07-29 1639 24-02086 \n24-02086 PGE SLO (2) BHT407 HEC CARGO 9-3 THRU 9-13
URL:https://ghi.website/event/24-02086-pge-slo-2-bht-407-9-3-thru-9-6-and-9-9-thru-9-13-hec-2/
END:VEVENT
BEGIN:VEVENT
DTSTART;TZID=America/Los_Angeles:20240907T080000
DTEND;TZID=America/Los_Angeles:20240913T170000
DTSTAMP:20260422T151509
CREATED:20240724T152613Z
LAST-MODIFIED:20240912T163842Z
UID:9733-1725696000-1726246800@ghi.website
SUMMARY:24-02017 PGE NEVADA COUNTY BHT 205 CONCRETE CARGO
DESCRIPTION:24-02017 PGE NEVADA COUNTY FLIGHT REQUEST 9-7 THRU 9-13-2024 \n24-02017 PGE NEVADA COUNTY BEAR VALLEY BHT 205 CARGO 9-7 YHRU 9-13 NON CAP \n24-02017 PGE NEVADA COUNTY FLIGHT REQUEST rev 8-15-2024 \n24-02017 PGE NEVADA COUNTY BEAR VALLEY BHT 205 CARGO 8-8 8-9-2024 NON CAP \nPGE 2024-07-24 1452 24-02017 \n24-02017 PGE NEVADA COUNTY FLIGHT REQUEST
URL:https://ghi.website/event/24-02017-pge-nevada-county-bht-205-concrete-cargo/
END:VEVENT
BEGIN:VEVENT
DTSTART;TZID=America/Los_Angeles:20240906T080000
DTEND;TZID=America/Los_Angeles:20240906T170000
DTSTAMP:20260422T151509
CREATED:20240829T183951Z
LAST-MODIFIED:20240829T190357Z
UID:9924-1725609600-1725642000@ghi.website
SUMMARY:24-02201 PGE PISMO BEACH BHT 407
DESCRIPTION:  \n24-02201 PGE ARROYO GRANDE BHT 407 HEC 9-6-2024 \n24-02201 PGE SLO BHT 407 HEC INSULATORS FLIGHT REQUEST 8-29-2024
URL:https://ghi.website/event/24-02201-pge-pismo-beach-bht-407/
END:VEVENT
BEGIN:VEVENT
DTSTART;TZID=America/Los_Angeles:20240901T080000
DTEND;TZID=America/Los_Angeles:20241031T170000
DTSTAMP:20260422T151509
CREATED:20240829T212302Z
LAST-MODIFIED:20240829T212302Z
UID:9931-1725177600-1730394000@ghi.website
SUMMARY:24-01???? PGE N718GH PSPS
DESCRIPTION:
URL:https://ghi.website/event/24-01-pge-n718gh-psps/
END:VEVENT
BEGIN:VEVENT
DTSTART;TZID=America/Los_Angeles:20240828T080000
DTEND;TZID=America/Los_Angeles:20240831T170000
DTSTAMP:20260422T151509
CREATED:20240729T184804Z
LAST-MODIFIED:20240826T152758Z
UID:9777-1724832000-1725123600@ghi.website
SUMMARY:24-02084 PGE HALF MOON BAY BHT 407
DESCRIPTION:24-02083 24-02084 PGE HALF MOON BAY POLE SET 8-28 THRU 8-31-2024 NON CAP \n24-02084 PGE HALF MOON BAY BHT 407 FLIGHT REQUEST
URL:https://ghi.website/event/24-02084-pge-half-moon-bay-bht-407/
END:VEVENT
END:VCALENDAR