BEGIN:VCALENDAR
VERSION:2.0
PRODID:-//GHI Schedule - ECPv6.0.12//NONSGML v1.0//EN
CALSCALE:GREGORIAN
METHOD:PUBLISH
X-WR-CALNAME:GHI Schedule
X-ORIGINAL-URL:https://ghi.website
X-WR-CALDESC:Events for GHI Schedule
REFRESH-INTERVAL;VALUE=DURATION:PT1H
X-Robots-Tag:noindex
X-PUBLISHED-TTL:PT1H
BEGIN:VTIMEZONE
TZID:America/Los_Angeles
BEGIN:DAYLIGHT
TZOFFSETFROM:-0800
TZOFFSETTO:-0700
TZNAME:PDT
DTSTART:20240310T100000
END:DAYLIGHT
BEGIN:STANDARD
TZOFFSETFROM:-0700
TZOFFSETTO:-0800
TZNAME:PST
DTSTART:20241103T090000
END:STANDARD
END:VTIMEZONE
BEGIN:VEVENT
DTSTART;VALUE=DATE:20241219
DTEND;VALUE=DATE:20241220
DTSTAMP:20260422T041318
CREATED:20241112T145212Z
LAST-MODIFIED:20241114T155729Z
UID:10459-1734566400-1734652799@ghi.website
SUMMARY:24-03315 PGE PIKE CITY BK117 POLE SET
DESCRIPTION:24-03315 PGE OAK VALLEY BK 117 POLE SET 12-19-2024 NON CAP REV 2 \n24-03315 PGE PIKE CITY BK117 POLE SET FLIGHT REQUEST 12-19-2024
URL:https://ghi.website/event/24-03315-pge-pike-city-bk117-pole-set-2/
END:VEVENT
BEGIN:VEVENT
DTSTART;VALUE=DATE:20241218
DTEND;VALUE=DATE:20241219
DTSTAMP:20260422T041318
CREATED:20241127T154946Z
LAST-MODIFIED:20241217T184627Z
UID:10517-1734480000-1734566399@ghi.website
SUMMARY:24-03724 PGE SANTA BARBARA BHT 407 POLE SET
DESCRIPTION:24-03724 PGE SANTA BARBARA BHT 407 POLE SET 12-18-2024 NON CAP \n24-03724 PGE SANTA BARBARA BHT 407 POLE SET 12-18-2024 FLIGHT REQUEST
URL:https://ghi.website/event/24-03724-pge-santa-barbara-bht-407-pole-set/
END:VEVENT
BEGIN:VEVENT
DTSTART;TZID=America/Los_Angeles:20241216T080000
DTEND;TZID=America/Los_Angeles:20241221T170000
DTSTAMP:20260422T041318
CREATED:20241125T154658Z
LAST-MODIFIED:20241125T154658Z
UID:10502-1734336000-1734800400@ghi.website
SUMMARY:24-03701 PGE AETHON IMAGINING N447GH
DESCRIPTION:24-03701 PGE AETHON IMAGINING 12-16 THRU 12-21-2024 FLIGHT REQUEST
URL:https://ghi.website/event/24-03701-pge-aethon-imagining-n447gh/
END:VEVENT
BEGIN:VEVENT
DTSTART;TZID=America/Los_Angeles:20241216T080000
DTEND;TZID=America/Los_Angeles:20241220T170000
DTSTAMP:20260422T041318
CREATED:20240118T162223Z
LAST-MODIFIED:20241127T161539Z
UID:9098-1734336000-1734714000@ghi.website
SUMMARY:AETHON IMAGING N447GH
DESCRIPTION:24-03701 PGE AETHON IMAGING BHT 407 12-16-2024 FLIGHT REQUEST
URL:https://ghi.website/event/aethon-imaging-n447gh-8/
END:VEVENT
BEGIN:VEVENT
DTSTART;TZID=America/Los_Angeles:20241216T080000
DTEND;TZID=America/Los_Angeles:20241217T170000
DTSTAMP:20260422T041318
CREATED:20241217T182118Z
LAST-MODIFIED:20241217T182118Z
UID:10545-1734336000-1734454800@ghi.website
SUMMARY:24-03792 PGE FRESNO BHT 407 HEC
DESCRIPTION:24-03792 PGE FRESNO BHT 407 HEC 12-16 12-17-2024 FLIGHT REQUEST
URL:https://ghi.website/event/24-03792-pge-fresno-bht-407-hec/
END:VEVENT
BEGIN:VEVENT
DTSTART;TZID=America/Los_Angeles:20241216T080000
DTEND;TZID=America/Los_Angeles:20241217T170000
DTSTAMP:20260422T041318
CREATED:20241217T182018Z
LAST-MODIFIED:20241217T182018Z
UID:10542-1734336000-1734454800@ghi.website
SUMMARY:24-03888 PGE YOSEMITE BHT 407 HEC 12-16 12-17-2024
DESCRIPTION:24-03888 PGE YOSEMITE BHT 407 HEC 12-16 12-17-2024 FLIGHT REQUEST
URL:https://ghi.website/event/24-03888-pge-yosemite-bht-407-hec-12-16-12-17-2024/
END:VEVENT
BEGIN:VEVENT
DTSTART;TZID=America/Los_Angeles:20241209T080000
DTEND;TZID=America/Los_Angeles:20241215T170000
DTSTAMP:20260422T041318
CREATED:20241209T191147Z
LAST-MODIFIED:20241209T191558Z
UID:10527-1733731200-1734282000@ghi.website
SUMMARY:24-03701 PGE BHT 407 AETHON FILMORE 12-9 THRU 12-15-2024
DESCRIPTION:24-03701 PGE BHT 407 AETHON FILMORE 12-9 THRU 12-15-2024 FLIGHT REQUEST
URL:https://ghi.website/event/24-03701-pge-bht-407-aethon-filmore-12-9-thru-12-15-2024/
END:VEVENT
BEGIN:VEVENT
DTSTART;VALUE=DATE:20241205
DTEND;VALUE=DATE:20241206
DTSTAMP:20260422T041318
CREATED:20241004T121636Z
LAST-MODIFIED:20241022T001703Z
UID:10169-1733356800-1733443199@ghi.website
SUMMARY:24-02996 PGE SANTA CRUZ BHT 205
DESCRIPTION:24-02996 PGE SANTA CRUZ BHT 205 FLIGHT REQUEST REV 1 12-5-2024 \n24-02996 PGE DAVENPORT BHT 205 POLE SET 10-24-2024 NON CAP \n24-02996 PGE SANTA CRUZ BHT 205 FLIGHT REQUEST
URL:https://ghi.website/event/24-02996-pge-santa-cruz-bht-205/
END:VEVENT
BEGIN:VEVENT
DTSTART;VALUE=DATE:20241203
DTEND;VALUE=DATE:20241204
DTSTAMP:20260422T041318
CREATED:20241114T230703Z
LAST-MODIFIED:20241126T184350Z
UID:10483-1733184000-1733270399@ghi.website
SUMMARY:24-03659 PGE SHASTA BK117 HEC POLE SET
DESCRIPTION:24-03659 24-03659 PGE SHASTA BK117 12-3-2024 NON CAP \nPGE SHASTA BK117 HEC POLE SET 12-3-2024 FLIGHT REQUEST
URL:https://ghi.website/event/24-03659-pge-shasta-bk117-hec-pole-set/
END:VEVENT
BEGIN:VEVENT
DTSTART;VALUE=DATE:20241202
DTEND;VALUE=DATE:20241203
DTSTAMP:20260422T041318
CREATED:20241114T155157Z
LAST-MODIFIED:20241126T182623Z
UID:10476-1733097600-1733183999@ghi.website
SUMMARY:24-03648 PGE SLO TEMBLOR BHT 407 CARGO
DESCRIPTION:24-03648 PGE SLO BURRITO CREEK BHT 407 12-2-2024 NON CAP \n24-03648 PGE SLO TEMBLOR BHT 407 CARGO 12-02-2024 FLIGHT REQUEST
URL:https://ghi.website/event/24-03648-pge-slo-temblor-bht-407-cargo/
END:VEVENT
BEGIN:VEVENT
DTSTART;VALUE=DATE:20241201
DTEND;VALUE=DATE:20241214
DTSTAMP:20260422T041318
CREATED:20241120T215445Z
LAST-MODIFIED:20241213T163321Z
UID:10494-1733011200-1734134399@ghi.website
SUMMARY:24-03685 PGE HUMBOLT HEC   BHT 407
DESCRIPTION:24-03685 PGE EUREKA BHT 407 HEC (2) 12-0 THRU 12-14-2024 NON CAP \n24-03685 PGE HUMBOLT HEC (2) BHT 407 12-02 THRU 12-14-2024 FLIGHT REQUEST rev 2
URL:https://ghi.website/event/24-03685-pge-humbolt-hec-2-bht-407/
END:VEVENT
BEGIN:VEVENT
DTSTART;VALUE=DATE:20241201
DTEND;VALUE=DATE:20241214
DTSTAMP:20260422T041318
CREATED:20241120T215400Z
LAST-MODIFIED:20241213T163302Z
UID:10491-1733011200-1734134399@ghi.website
SUMMARY:24-03685 PGE HUMBOLT HEC BHT 407
DESCRIPTION:24-03685 PGE HUMBOLT HEC (2) BHT 407 12-02 THRU 12-14-2024 FLIGHT REQUEST rev 2. \n  \n24-03685 PGE EUREKA BHT 407 HEC (2) 12-0 THRU 12-14-2024 NON CAP
URL:https://ghi.website/event/24-03685-pge-humbolt-hec-bht-407/
END:VEVENT
BEGIN:VEVENT
DTSTART;VALUE=DATE:20241125
DTEND;VALUE=DATE:20241126
DTSTAMP:20260422T041318
CREATED:20241029T173531Z
LAST-MODIFIED:20241029T173531Z
UID:10356-1732492800-1732579199@ghi.website
SUMMARY:Castaic Rock Job UH-1H
DESCRIPTION:
URL:https://ghi.website/event/castaic-rock-job-uh-1h/
END:VEVENT
BEGIN:VEVENT
DTSTART;VALUE=DATE:20241120
DTEND;VALUE=DATE:20241121
DTSTAMP:20260422T041318
CREATED:20241111T210250Z
LAST-MODIFIED:20241119T174316Z
UID:10444-1732060800-1732147199@ghi.website
SUMMARY:24-03583 PGE TOULUMNE BHT 205 POLE SET
DESCRIPTION:24-03461 24-03583 PGE SONORA BHT 205 AND BHT 407 11-20-2024 NON CAP \n24-03583 PGE TOULUMNE GHT 205 POLE SET 11-20-2024 FLIGHT REQUEST
URL:https://ghi.website/event/24-03583-pge-toulumne-bht-205-pole-set/
END:VEVENT
BEGIN:VEVENT
DTSTART;VALUE=DATE:20241120
DTEND;VALUE=DATE:20241121
DTSTAMP:20260422T041318
CREATED:20241111T205933Z
LAST-MODIFIED:20241119T174356Z
UID:10441-1732060800-1732147199@ghi.website
SUMMARY:24-03461 PGE TOULUME COUNTY BHT 407
DESCRIPTION:24-03461 24-03583 PGE SONORA BHT 205 AND BHT 407 11-20-2024 NON CAP \n24-03461 PGE TOULUME COUNTY BHT 407 11-20-2024 FLIGHT REQUEST
URL:https://ghi.website/event/24-03461-pge-toulume-county-bht-407/
END:VEVENT
BEGIN:VEVENT
DTSTART;VALUE=DATE:20241120
DTEND;VALUE=DATE:20241121
DTSTAMP:20260422T041318
CREATED:20241111T205402Z
LAST-MODIFIED:20241111T214220Z
UID:10439-1732060800-1732147199@ghi.website
SUMMARY:24-03428 PGE BHT 407  PATROL AC SHARE WITH 24-03429
DESCRIPTION:24-03429 PGE PATROL 24-03428 CARGO FRESNO BHT 407 11-20-2024 NON CAP \n24-03428 PGE BHT 407 PATROL11-20-2024 FLIGHT REQUEST REV 2
URL:https://ghi.website/event/24-03428-pge-bk117-patrol/
END:VEVENT
BEGIN:VEVENT
DTSTART;VALUE=DATE:20241120
DTEND;VALUE=DATE:20241121
DTSTAMP:20260422T041318
CREATED:20241030T175257Z
LAST-MODIFIED:20241111T214414Z
UID:10359-1732060800-1732147199@ghi.website
SUMMARY:24-03429 PATROL 24-03428 CARGO BK117 FRESNO
DESCRIPTION:24-03429 PGE BHT 407 CARGO 11-20-2024 FLIGHT REQUEST REV 2 \n24-03429 PGE PATROL 24-03428 CARGO FRESNO BHT 407 11-20-2024 NON CAP
URL:https://ghi.website/event/24-03429-patrol-24-03428-cargo-bk117-pending-paperwrok/
END:VEVENT
BEGIN:VEVENT
DTSTART;VALUE=DATE:20241116
DTEND;VALUE=DATE:20241118
DTSTAMP:20260422T041318
CREATED:20241106T195502Z
LAST-MODIFIED:20241113T205453Z
UID:10427-1731715200-1731887999@ghi.website
SUMMARY:24-03502 PGE SLO DIABLO BHT 407 HEC MIDSPAN
DESCRIPTION:24-03502 DIABLO AVILA BEACH BHT 407 HEC 11-16 AND 11-17-2024 NON CAP \n24-03502 PGE SLO DIABLO BHT 407 HEC MIDSPAN 11-16 11-17-2024 FLIGHT REQUEST
URL:https://ghi.website/event/24-03502-pge-slo-diablo-bht-407-hec-midspan/
END:VEVENT
BEGIN:VEVENT
DTSTART;VALUE=DATE:20241116
DTEND;VALUE=DATE:20241118
DTSTAMP:20260422T041318
CREATED:20241028T195716Z
LAST-MODIFIED:20241107T222259Z
UID:10336-1731715200-1731887999@ghi.website
SUMMARY:24-03223 PGE DIABLO SLO (2) BHT 407 HEC
DESCRIPTION:24-03223 PGE DIABLO SLO (2) BHT 407 HEC CARGO 11-13 11-14 11-16 11-17-2024 NON CAP \n24-03223 PGE DIABLO SLO (2) BHT 407 HEC FLIGHT REQUEST
URL:https://ghi.website/event/24-03223-pge-diablo-slo-2-bht-407-hec-4/
END:VEVENT
BEGIN:VEVENT
DTSTART;VALUE=DATE:20241116
DTEND;VALUE=DATE:20241118
DTSTAMP:20260422T041318
CREATED:20241028T195652Z
LAST-MODIFIED:20241107T222235Z
UID:10334-1731715200-1731887999@ghi.website
SUMMARY:24-03223 PGE DIABLO SLO (2) BHT 407 HEC
DESCRIPTION:24-03223 PGE DIABLO SLO (2) BHT 407 HEC CARGO 11-13 11-14 11-16 11-17-2024 NON CAP \n24-03223 PGE DIABLO SLO (2) BHT 407 HEC FLIGHT REQUEST
URL:https://ghi.website/event/24-03223-pge-diablo-slo-2-bht-407-hec-3/
END:VEVENT
BEGIN:VEVENT
DTSTART;TZID=America/Los_Angeles:20241114T080000
DTEND;TZID=America/Los_Angeles:20241114T170000
DTSTAMP:20260422T041318
CREATED:20241002T152352Z
LAST-MODIFIED:20241002T152352Z
UID:10146-1731571200-1731603600@ghi.website
SUMMARY:PGE AUDIT
DESCRIPTION:
URL:https://ghi.website/event/pge-audit/
END:VEVENT
BEGIN:VEVENT
DTSTART;VALUE=DATE:20241113
DTEND;VALUE=DATE:20241115
DTSTAMP:20260422T041318
CREATED:20241028T195425Z
LAST-MODIFIED:20241107T222131Z
UID:10332-1731456000-1731628799@ghi.website
SUMMARY:24-03223 PGE DIABLO SLO (2) BHT 407 HEC
DESCRIPTION:24-03223 PGE DIABLO SLO (2) BHT 407 HEC FLIGHT REQUEST \n24-03223 PGE DIABLO SLO (2) BHT 407 HEC CARGO 11-13 11-14 11-16 11-17-2024 NON CAP
URL:https://ghi.website/event/24-03223-pge-diablo-slo-2-bht-407-hec-2/
END:VEVENT
BEGIN:VEVENT
DTSTART;VALUE=DATE:20241113
DTEND;VALUE=DATE:20241115
DTSTAMP:20260422T041318
CREATED:20241028T195404Z
LAST-MODIFIED:20241107T222209Z
UID:10329-1731456000-1731628799@ghi.website
SUMMARY:24-03223 PGE DIABLO SLO (2) BHT 407 HEC
DESCRIPTION:24-03223 PGE DIABLO SLO (2) BHT 407 HEC FLIGHT REQUEST \n24-03223 PGE DIABLO SLO (2) BHT 407 HEC CARGO 11-13 11-14 11-16 11-17-2024 NON CAP
URL:https://ghi.website/event/24-03223-pge-diablo-slo-2-bht-407-hec/
END:VEVENT
BEGIN:VEVENT
DTSTART;TZID=America/Los_Angeles:20241112T080000
DTEND;TZID=America/Los_Angeles:20241117T170000
DTSTAMP:20260422T041318
CREATED:20240822T164147Z
LAST-MODIFIED:20240822T164147Z
UID:9883-1731398400-1731862800@ghi.website
SUMMARY:DOI BURRO KINGMAN N407GH
DESCRIPTION:TRAVEL ON 12TH WORK ON 13-17 NOVEMBER \nSHARE FUEL TRUCK \nCONTACT SEAN JACKSON 928-231-1941
URL:https://ghi.website/event/doi-burro-kingman-n407gh/
END:VEVENT
BEGIN:VEVENT
DTSTART;TZID=America/Los_Angeles:20241112T080000
DTEND;TZID=America/Los_Angeles:20241117T170000
DTSTAMP:20260422T041318
CREATED:20240822T164042Z
LAST-MODIFIED:20240822T164053Z
UID:9881-1731398400-1731862800@ghi.website
SUMMARY:DOI BURRO KINGMAN N111GH
DESCRIPTION:TRAVEL ON 12TH WORK ON 13-17 NOVEMBER \nSHARE FUEL TRUCK \nCONTACT SEAN JACKSON 928-231-1941
URL:https://ghi.website/event/doi-burro-kingman-n111gh/
END:VEVENT
BEGIN:VEVENT
DTSTART;VALUE=DATE:20241112
DTEND;VALUE=DATE:20241113
DTSTAMP:20260422T041318
CREATED:20241112T144355Z
LAST-MODIFIED:20241112T144456Z
UID:10456-1731369600-1731455999@ghi.website
SUMMARY:24-03627 PGE PATROL EPSP 63 MJ
DESCRIPTION:24-03627 PGE EPATROL 11-12-2024 FLIGHT REQUEST
URL:https://ghi.website/event/24-03627-pge-patrol-epsp-63-mj/
END:VEVENT
BEGIN:VEVENT
DTSTART;VALUE=DATE:20241111
DTEND;VALUE=DATE:20241113
DTSTAMP:20260422T041318
CREATED:20241017T153934Z
LAST-MODIFIED:20241106T181809Z
UID:10270-1731283200-1731455999@ghi.website
SUMMARY:24-03138 PGE SLO DIABLO (2) BHT 407 HEC 11-11 11-12-2024
DESCRIPTION:24-03138 PGE KERN DIABLO BHT 407 (2) 11-11 AND 11-12-2024 NON CAP \n24-03138 PGE SLO DIABLO (2) BHT 407 HEC 11-11 11-12-2024 FLIGHT REQUEST revised 11-6-2024 \n24-03138 PGE SLO DIABLO (2) BHT 407 HEC 11-11 11-12-2024 FLIGHT REQUEST
URL:https://ghi.website/event/24-03138-pge-slo-diablo-2-bht-407-hec-11-11-11-12-2024/
END:VEVENT
BEGIN:VEVENT
DTSTART;VALUE=DATE:20241111
DTEND;VALUE=DATE:20241113
DTSTAMP:20260422T041318
CREATED:20241016T170139Z
LAST-MODIFIED:20241106T181741Z
UID:10234-1731283200-1731455999@ghi.website
SUMMARY:24-03138 PGE SLO DIABLO (2) BHT 407 HEC
DESCRIPTION:24-03138 PGE KERN DIABLO BHT 407 (2) 11-11 AND 11-12-2024 NON CAP \n24-03138 PGE SLO DIABLO (2) BHT 407 HEC 11-11 11-12-2024 FLIGHT REQUEST revised 11-6-2024 \n24-03138 PGE SLO DIABLO (2) BHT 407 HEC 11-11 11-12-2024 FLIGHT REQUEST
URL:https://ghi.website/event/24-03138-pge-slo-bht-407-hec-pending-paperwork-2/
END:VEVENT
BEGIN:VEVENT
DTSTART;VALUE=DATE:20241110
DTEND;VALUE=DATE:20241116
DTSTAMP:20260422T041318
CREATED:20241106T194541Z
LAST-MODIFIED:20241106T194730Z
UID:10425-1731196800-1731715199@ghi.website
SUMMARY:24-03140 PGE AETHON IMAGING
DESCRIPTION:
URL:https://ghi.website/event/24-03140-pge-aethon-imaging/
END:VEVENT
BEGIN:VEVENT
DTSTART;VALUE=DATE:20241109
DTEND;VALUE=DATE:20241110
DTSTAMP:20260422T041318
CREATED:20241106T194428Z
LAST-MODIFIED:20241106T194438Z
UID:10422-1731110400-1731196799@ghi.website
SUMMARY:24-03140 PGE AETHON PATROL BHT 407
DESCRIPTION:24-03140 PGE AETHON FILLMORE FLIGHT REQUEST REV 2 11-6-2024
URL:https://ghi.website/event/24-03140-pge-aethon-patrol-bht-407/
END:VEVENT
END:VCALENDAR