BEGIN:VCALENDAR
VERSION:2.0
PRODID:-//GHI Schedule - ECPv6.0.12//NONSGML v1.0//EN
CALSCALE:GREGORIAN
METHOD:PUBLISH
X-ORIGINAL-URL:https://ghi.website
X-WR-CALDESC:Events for GHI Schedule
REFRESH-INTERVAL;VALUE=DURATION:PT1H
X-Robots-Tag:noindex
X-PUBLISHED-TTL:PT1H
BEGIN:VTIMEZONE
TZID:America/Los_Angeles
BEGIN:DAYLIGHT
TZOFFSETFROM:-0800
TZOFFSETTO:-0700
TZNAME:PDT
DTSTART:20250309T100000
END:DAYLIGHT
BEGIN:STANDARD
TZOFFSETFROM:-0700
TZOFFSETTO:-0800
TZNAME:PST
DTSTART:20251102T090000
END:STANDARD
END:VTIMEZONE
BEGIN:VEVENT
DTSTART;VALUE=DATE:20250910
DTEND;VALUE=DATE:20250914
DTSTAMP:20260420T183810
CREATED:20250707T145223Z
LAST-MODIFIED:20250905T192139Z
UID:11485-1757462400-1757807999@ghi.website
SUMMARY:25-01840 PGE MONTEREY BK 117 9-10 THRU 9-13-2025
DESCRIPTION:25-01840 PGE MONTEREY BK 117 9-10 THRU 9-13-2025 FLIGHT REQUEST \n25-01840 PGE MONTEREY BK 117 9-10 THRU 9-13-2025 NON CAP
URL:https://ghi.website/event/25-01840-pge-monterey-bk-117-9-10-thru-9-13-2025/
END:VEVENT
BEGIN:VEVENT
DTSTART;VALUE=DATE:20250911
DTEND;VALUE=DATE:20250912
DTSTAMP:20260420T183810
CREATED:20250910T143937Z
LAST-MODIFIED:20250910T170157Z
UID:11967-1757548800-1757635199@ghi.website
SUMMARY:25-02377 PGE ALLEGHANY SIERRA COUNTY BHT 205 POLE SET 9-11-2025
DESCRIPTION:25-02377 PGE ALLEGHANY SIERRA COUNTY BHT 205 POLE SET 9-11-2025 NON CAP \n25-02377 PGE ALLEGHANY SIERRA COUNTY BHT 205 POLE SET 9-11-2025 FLIGHT REQUEST
URL:https://ghi.website/event/25-02377-pge-alleghany-sierra-county-bht-205-pole-set-9-11-2025/
END:VEVENT
BEGIN:VEVENT
DTSTART;VALUE=DATE:20250911
DTEND;VALUE=DATE:20250914
DTSTAMP:20260420T183810
CREATED:20250818T152503Z
LAST-MODIFIED:20250905T194859Z
UID:11805-1757548800-1757807999@ghi.website
SUMMARY:25-01849 PGE MONTEREY COUNTY MOSS LANDING BHT 407 9-11 THRU 9-13-2025
DESCRIPTION:25-01849 PGE MONTEREY COUNTY MOSS LANDING BHT 407 9-11 THRU 9-13-2025 FLGITH REQUEST \n25-01849 PGE MONTEREY COUNTY MOSS LANDING BHT 407 9-11 THRU 9-13-2025 NON CAP
URL:https://ghi.website/event/25-01849-pge-monterey-county-moss-landing-bht-407-9-11-thru-9-13-2025/
END:VEVENT
BEGIN:VEVENT
DTSTART;VALUE=DATE:20250912
DTEND;VALUE=DATE:20250913
DTSTAMP:20260420T183810
CREATED:20250910T144823Z
LAST-MODIFIED:20250910T144823Z
UID:11970-1757635200-1757721599@ghi.website
SUMMARY:25-02739 PGE MADERA COUNTY HEC TRAINING BHT 407 9-12-2025
DESCRIPTION:25-02739 PGE MADERA COUNTY HEC TRAINING BHT 407 9-12-2025 FLIGHT REQUEST
URL:https://ghi.website/event/25-02739-pge-madera-county-hec-training-bht-407-9-12-2025/
END:VEVENT
BEGIN:VEVENT
DTSTART;VALUE=DATE:20250912
DTEND;VALUE=DATE:20250913
DTSTAMP:20260420T183810
CREATED:20250915T143207Z
LAST-MODIFIED:20250915T143207Z
UID:11984-1757635200-1757721599@ghi.website
SUMMARY:25-02815 PGE BHT 407 MARIPOSA PATROL 9-12-2025
DESCRIPTION:25-02815 PGE BHT 407 MARIPOSA PATROL 9-12-2025 FLIGHT REQUEST
URL:https://ghi.website/event/25-02815-pge-bht-407-mariposa-patrol-9-12-2025/
END:VEVENT
BEGIN:VEVENT
DTSTART;VALUE=DATE:20250915
DTEND;VALUE=DATE:20250916
DTSTAMP:20260420T183810
CREATED:20250818T150757Z
LAST-MODIFIED:20250909T155105Z
UID:11797-1757894400-1757980799@ghi.website
SUMMARY:25-01850 PGE MONTEREY COUNTY MOSS LANDING BK 117 HEC  9-15 AND 9-19 THRU 9-25-2025
DESCRIPTION:25-01850 PGE MONTEREY COUNTY MOSS LANDING BK 117 HEC 9-15 AND 9-19 THRU 9-25-2025 FLGIHT REQUEST \n25-01850 PGE MONTEREY COUNTY MOSS LANDING BK 117 HEC 9-15 AND 9-19 THRU 9-25-2025 FLGIHT REQUEST REV 1 \n25-01850 PGE MONTEREY COUNTY MOSS LANDING BK 117 HEC 9-15 AND 9-19 THRU 9-25-2025 NON CAP
URL:https://ghi.website/event/25-01850-pge-monterey-county-moss-landing-bk-117-hec-9-15-and-9-19-thru-9-25-2025/
END:VEVENT
BEGIN:VEVENT
DTSTART;VALUE=DATE:20250915
DTEND;VALUE=DATE:20250918
DTSTAMP:20260420T183810
CREATED:20250818T150308Z
LAST-MODIFIED:20250910T182226Z
UID:11794-1757894400-1758153599@ghi.website
SUMMARY:25-02338 PGE KERN BHT 407 HEC 9-15 THRU 9-17-2025
DESCRIPTION:25-02338 PGE KERN BHT 407 HEC 9-15 THRU 9-17-2025 FLIGHT REQUEST \n25-02338 PGE KERN BHT 407 HEC 9-15 THRU 9-17-2025 NON CAP
URL:https://ghi.website/event/25-02338-pge-kern-bht-407-hec-9-15-thru-9-17-2025/
END:VEVENT
BEGIN:VEVENT
DTSTART;VALUE=DATE:20250916
DTEND;VALUE=DATE:20250917
DTSTAMP:20260420T183810
CREATED:20250707T150016Z
LAST-MODIFIED:20250910T181519Z
UID:11491-1757980800-1758067199@ghi.website
SUMMARY:25-01839 PGE MONTEREY Bk117 HEC  9-16
DESCRIPTION:25-01839 PGE MONTEREY Bk117 HEC 9-15 THRU 9-17-2025 FLIGHT REQUEST \nPOSITIONING LEG 9-15 \n25-01839 PGE MONTEREY BK 117 HEC 9-14 9-15 THRU 9-16-2025 NON CAP
URL:https://ghi.website/event/25-01839-pge-monterey-bht-407-hec-9-15-thru-9-17-2025/
END:VEVENT
BEGIN:VEVENT
DTSTART;VALUE=DATE:20250916
DTEND;VALUE=DATE:20250917
DTSTAMP:20260420T183810
CREATED:20250829T143347Z
LAST-MODIFIED:20250910T173314Z
UID:11867-1757980800-1758067199@ghi.website
SUMMARY:25-02579 PGE FRESNO BK117  9-16 AND 10-01-2025
DESCRIPTION:25-02579 PGE FRESNO BK117 9-16 AND 10-01-2025 FLIGHT REQUEST \n25-02579 PGE FRESNO BK117 9-16 AND 10-01-2025 NON CAP
URL:https://ghi.website/event/25-02579-pge-fresno-bk117-9-16-and-10-01-2025/
END:VEVENT
BEGIN:VEVENT
DTSTART;TZID=America/Los_Angeles:20250917T080000
DTEND;TZID=America/Los_Angeles:20250922T170000
DTSTAMP:20260420T183810
CREATED:20250918T143535Z
LAST-MODIFIED:20250918T143535Z
UID:12043-1758096000-1758560400@ghi.website
SUMMARY:25-02893 PGE FRSNO BALCH BHT 407 HEC POLE SET 9-17 THRU 9-22-2025
DESCRIPTION:25-02893 PGE FRSNO BALCH BHT 407 HEC POLE SET 9-17 THRU 9-22-2025 FLIGHT REQUEST
URL:https://ghi.website/event/25-02893-pge-frsno-balch-bht-407-hec-pole-set-9-17-thru-9-22-2025/
END:VEVENT
BEGIN:VEVENT
DTSTART;VALUE=DATE:20250919
DTEND;VALUE=DATE:20250926
DTSTAMP:20260420T183810
CREATED:20250818T150948Z
LAST-MODIFIED:20250909T155130Z
UID:11803-1758240000-1758844799@ghi.website
SUMMARY:25-01850 PGE MONTEREY COUNTY MOSS LANDING (2) BK 117 HEC  9-19 THRU 9-25-2025
DESCRIPTION:25-01850 PGE MONTEREY COUNTY MOSS LANDING BK 117 HEC 9-15 AND 9-19 THRU 9-25-2025 FLGIHT REQUEST \n25-01850 PGE MONTEREY COUNTY MOSS LANDING BK 117 HEC 9-15 AND 9-19 THRU 9-25-2025 FLGIHT REQUEST REV 1 \n25-01850 PGE MONTEREY COUNTY MOSS LANDING BK 117 HEC 9-15 AND 9-19 THRU 9-25-2025 NON CAP
URL:https://ghi.website/event/25-01850-pge-monterey-county-moss-landing-2-bk-117-hec-9-19-thru-9-25-2025-2/
END:VEVENT
BEGIN:VEVENT
DTSTART;TZID=America/Los_Angeles:20250919T080000
DTEND;TZID=America/Los_Angeles:20250925T170000
DTSTAMP:20260420T183810
CREATED:20250818T150904Z
LAST-MODIFIED:20250909T155204Z
UID:11800-1758268800-1758819600@ghi.website
SUMMARY:25-01850 PGE MONTEREY COUNTY MOSS LANDING  (2) BK 117 HEC  9-19 THRU 9-25-2025
DESCRIPTION:25-01850 PGE MONTEREY COUNTY MOSS LANDING BK 117 HEC 9-15 AND 9-19 THRU 9-25-2025 FLGIHT REQUEST \n25-01850 PGE MONTEREY COUNTY MOSS LANDING BK 117 HEC 9-15 AND 9-19 THRU 9-25-2025 FLGIHT REQUEST REV 1 \n25-01850 PGE MONTEREY COUNTY MOSS LANDING BK 117 HEC 9-15 AND 9-19 THRU 9-25-2025 NON CAP
URL:https://ghi.website/event/25-01850-pge-monterey-county-moss-landing-2-bk-117-hec-9-19-thru-9-25-2025/
END:VEVENT
BEGIN:VEVENT
DTSTART;VALUE=DATE:20250921
DTEND;VALUE=DATE:20250922
DTSTAMP:20260420T183810
CREATED:20250715T163006Z
LAST-MODIFIED:20250904T145804Z
UID:11588-1758412800-1758499199@ghi.website
SUMMARY:25-01787 PGE MORRO BAY BHT 407 HEC 9-7 AND 9-21-2025
DESCRIPTION:25-01787 PGE MORRO BAY BHT 407 HEC 9-7 AND 9-21-2025 FLIGHT REQUEST \n25-01787 PGE MORRO BAY BHT 407 HEC 9-7 AND 9-21-2025 NON CAP
URL:https://ghi.website/event/25-01787-pge-slo-bht-407-hec-pending-paperwork-2/
END:VEVENT
BEGIN:VEVENT
DTSTART;VALUE=DATE:20250922
DTEND;VALUE=DATE:20251009
DTSTAMP:20260420T183810
CREATED:20250311T151312Z
LAST-MODIFIED:20250922T162252Z
UID:10842-1758499200-1759967999@ghi.website
SUMMARY:PALM SPRINGS AERIAL TRAMWAY 2025 SUPPORT MOB ON 22 WORK START 23
DESCRIPTION:Crew Manifiest – Shutdown 2025 \nMOVING PEOPLE AND POSIBLE EXTERNAL LOADS UP TO 500 LBS. \nChris Bartsch \nVP Tramway Systems \nPalm Springs Aerial Tramway \n1 Tram Way \nPalm Springs\, CA 92262 \nCell: (760) 831-0300 \nWork: (760) 325-1449 ext 135 \nDirect: (760) 969-4367 \nE-mail: cbartsch@pstramway.com
URL:https://ghi.website/event/palm-springs-aerial-tramway-2025-support/
END:VEVENT
BEGIN:VEVENT
DTSTART;VALUE=DATE:20250923
DTEND;VALUE=DATE:20250925
DTSTAMP:20260420T183810
CREATED:20250915T144558Z
LAST-MODIFIED:20250918T163246Z
UID:11996-1758585600-1758758399@ghi.website
SUMMARY:25-02781 TUOLUMNE BHT 205 POLE SET  9-23 AND 9-24-2025
DESCRIPTION:25-02781 TUOLUMNE BHT 205 POLE SET 9-24 AND 9-25-2025 FLIGHT REQUEST \n25-02781 TUOLUMNE BHT 205 POLE SET 9-24 AND 9-25-2025 NON CAP
URL:https://ghi.website/event/25-02781-tuolumne-bht-205-pole-set-9-24-and-9-25-2025/
END:VEVENT
BEGIN:VEVENT
DTSTART;VALUE=DATE:20250925
DTEND;VALUE=DATE:20250926
DTSTAMP:20260420T183810
CREATED:20250915T144252Z
LAST-MODIFIED:20250917T155241Z
UID:11993-1758758400-1758844799@ghi.website
SUMMARY:25-02788 PGE MARIN BHT 205 POLE SET 9-25-2025
DESCRIPTION:25-02788 PGE MARIN BHT 205 POLE SET 9-25-2025 FLIGHT REQUEST \n25-02788 PGE MARIN BHT 205 POLE SET 9-25-2025 NON CAP
URL:https://ghi.website/event/25-02788-pge-marin-bht-205-pole-set-9-25-2025/
END:VEVENT
BEGIN:VEVENT
DTSTART;VALUE=DATE:20250927
DTEND;VALUE=DATE:20250928
DTSTAMP:20260420T183810
CREATED:20250915T143514Z
LAST-MODIFIED:20250918T165411Z
UID:11987-1758931200-1759017599@ghi.website
SUMMARY:25-02813 PGE TOULUMNE BHT 205 POLE SET 9-27-2025
DESCRIPTION:25-02813 PGE TOULUMNE BHT 205 POLE SET 9-27-2025 FLIGHT REQUEST \n25-02813 PGE TOULUMNE BHT 205 POLE SET 9-27-2025 NON CAP
URL:https://ghi.website/event/25-02813-pge-toulumne-bht-205-pole-set-9-27-2025/
END:VEVENT
BEGIN:VEVENT
DTSTART;VALUE=DATE:20250928
DTEND;VALUE=DATE:20250929
DTSTAMP:20260420T183810
CREATED:20250812T144505Z
LAST-MODIFIED:20250923T161601Z
UID:11767-1759017600-1759103999@ghi.website
SUMMARY:25-02284 PGE MONTEREY BHT 205 POLE SET  8-28-2025
DESCRIPTION:25-02284 PGE MONTEREY BHT 205 POLE SET 8-28-2025 FLIGHT REQUEST \n25-02284 PGE MONTEREY BHT 205 POLE SET 8-28-2025 NON CAP
URL:https://ghi.website/event/25-02284-pge-monterey-bht-205-pole-set-8-28-2025/
END:VEVENT
BEGIN:VEVENT
DTSTART;VALUE=DATE:20251001
DTEND;VALUE=DATE:20251002
DTSTAMP:20260420T183810
CREATED:20250917T204127Z
LAST-MODIFIED:20250924T181844Z
UID:12027-1759276800-1759363199@ghi.website
SUMMARY:25-02852 PGE MERCED BHT 407 BHT 407 BK117 10-1 AND 10-2 TRHU 10-5-2025
DESCRIPTION:25-02852 PGE MERCED BHT 407 BHT 407 BK117 10-1 AND 10-2 TRHU 10-5-2025 NON CAP \n25-02852 PGE MERCED BHT 407 BHT 407 BK117 10-1 AND 10-2 TRHU 10-5-2025 FLIGHT REQUEST
URL:https://ghi.website/event/25-02852-pge-merced-bht-407-bht-407-bk117-10-1-and-10-2-trhu-10-5-2025-2/
END:VEVENT
BEGIN:VEVENT
DTSTART;VALUE=DATE:20251001
DTEND;VALUE=DATE:20251002
DTSTAMP:20260420T183810
CREATED:20250915T143903Z
LAST-MODIFIED:20250915T143903Z
UID:11990-1759276800-1759363199@ghi.website
SUMMARY:25-02799 PGE KERN BHT 407 RECON 10-1-2025
DESCRIPTION:25-02799 PGE KERN BHT 407 RECON 10-1-2025 FLIGHT REQUEST
URL:https://ghi.website/event/25-02799-pge-kern-bht-407-recon-10-1-2025/
END:VEVENT
BEGIN:VEVENT
DTSTART;VALUE=DATE:20251001
DTEND;VALUE=DATE:20251002
DTSTAMP:20260420T183810
CREATED:20250916T143937Z
LAST-MODIFIED:20250917T203705Z
UID:12001-1759276800-1759363199@ghi.website
SUMMARY:25-02848 PGE KERN AIR CHAIR TRAINING SHIP SHARE WITH 25-02799 BHT 407 10-1-2025
DESCRIPTION:25-02848 PGE KERN AIR CHAIR TRAINING SHIP SHARE WITH 25-02799 BHT 407 10-1-2025 FLIGHT REQUEST \n25-02848 PGE KERN AIR CHAIR TRAINING SHIP SHARE WITH 25-02799 BHT 407 10-1-2025 FLIGHT REQUEST REV 1
URL:https://ghi.website/event/25-02848-pge-kern-air-chair-training-ship-share-with-25-02799-bht-407-10-1-2025/
END:VEVENT
BEGIN:VEVENT
DTSTART;VALUE=DATE:20251001
DTEND;VALUE=DATE:20251002
DTSTAMP:20260420T183810
CREATED:20250917T204207Z
LAST-MODIFIED:20250924T181818Z
UID:12029-1759276800-1759363199@ghi.website
SUMMARY:25-02852 PGE MERCED BHT 407 BHT 407 BK117 10-1 AND 10-2 TRHU 10-5-2025
DESCRIPTION:25-02852 PGE MERCED BHT 407 BHT 407 BK117 10-1 AND 10-2 TRHU 10-5-2025 NON CAP \n25-02852 PGE MERCED BHT 407 BHT 407 BK117 10-1 AND 10-2 TRHU 10-5-2025 FLIGHT REQUEST
URL:https://ghi.website/event/25-02852-pge-merced-bht-407-bht-407-bk117-10-1-and-10-2-trhu-10-5-2025-3/
END:VEVENT
BEGIN:VEVENT
DTSTART;VALUE=DATE:20251002
DTEND;VALUE=DATE:20251005
DTSTAMP:20260420T183810
CREATED:20250917T204310Z
LAST-MODIFIED:20250924T182018Z
UID:12033-1759363200-1759622399@ghi.website
SUMMARY:25-02852 PGE MERCED BHT 407 BHT 407 BK117 10-1 AND 10-2 TRHU 10-4-2025
DESCRIPTION:25-02852 PGE MERCED BHT 407 BHT 407 BK117 10-1 AND 10-2 TRHU 10-5-2025 NON CAP \n25-02852 PGE MERCED BHT 407 BHT 407 BK117 10-1 AND 10-2 TRHU 10-5-2025 FLIGHT REQUEST
URL:https://ghi.website/event/25-02852-pge-merced-bht-407-bht-407-bk117-10-1-and-10-2-trhu-10-5-2025-5/
END:VEVENT
BEGIN:VEVENT
DTSTART;VALUE=DATE:20251002
DTEND;VALUE=DATE:20251005
DTSTAMP:20260420T183810
CREATED:20250917T204336Z
LAST-MODIFIED:20250924T182044Z
UID:12035-1759363200-1759622399@ghi.website
SUMMARY:25-02852 PGE MERCED BHT 407 BHT 407 BK117 10-1 AND 10-2 TRHU 10-4-2025
DESCRIPTION:25-02852 PGE MERCED BHT 407 BHT 407 BK117 10-1 AND 10-2 TRHU 10-5-2025 NON CAP \n25-02852 PGE MERCED BHT 407 BHT 407 BK117 10-1 AND 10-2 TRHU 10-5-2025 FLIGHT REQUEST
URL:https://ghi.website/event/25-02852-pge-merced-bht-407-bht-407-bk117-10-1-and-10-2-trhu-10-5-2025-6/
END:VEVENT
BEGIN:VEVENT
DTSTART;VALUE=DATE:20251003
DTEND;VALUE=DATE:20251004
DTSTAMP:20260420T183810
CREATED:20251001T151012Z
LAST-MODIFIED:20251001T174023Z
UID:12147-1759449600-1759535999@ghi.website
SUMMARY:25-03089 PGE CABRILLO BHT205 10-3-2025
DESCRIPTION:25-03089 PGE CABRILLO BHT205 10-3-2025 FLIGHT REQUEST \n25-03089 PGE CABRILLO BHT205 10-3-2025 NON CAP
URL:https://ghi.website/event/25-03089-pge-cabrillo-bht205-10-3-2025/
END:VEVENT
BEGIN:VEVENT
DTSTART;VALUE=DATE:20251005
DTEND;VALUE=DATE:20251008
DTSTAMP:20260420T183810
CREATED:20251001T152706Z
LAST-MODIFIED:20251001T172403Z
UID:12150-1759622400-1759881599@ghi.website
SUMMARY:25-02871 PGE FRESNO WISHON 10-5 THRU 10-7 (2) BHT 407 10-8 THRU 10-11 (1) BHT 407
DESCRIPTION:25-02871 PGE FRESNO WISHON 10-5 THRU 10-7 (2) BHT 407 10-8 THRU 10-11 (1) BHT 407 FLIGTH REQUEST \n25-02871 PGE FRESNO WISHON 10-5 THRU 10-7 (2) BHT 407 10-8 THRU 10-11 (1) BHT 407 NON CAP
URL:https://ghi.website/event/25-02871-pge-fresno-wishon-10-5-thru-10-7-2-bht-407-10-8-thru-10-11-1-bht-407/
END:VEVENT
BEGIN:VEVENT
DTSTART;VALUE=DATE:20251005
DTEND;VALUE=DATE:20251008
DTSTAMP:20260420T183810
CREATED:20251001T152733Z
LAST-MODIFIED:20251001T172328Z
UID:12153-1759622400-1759881599@ghi.website
SUMMARY:25-02871 PGE FRESNO WISHON 10-5 THRU 10-7 (2) BHT 407 10-8 THRU 10-11 (1) BHT 407
DESCRIPTION:25-02871 PGE FRESNO WISHON 10-5 THRU 10-7 (2) BHT 407 10-8 THRU 10-11 (1) BHT 407 NON CAP \n25-02871 PGE FRESNO WISHON 10-5 THRU 10-7 (2) BHT 407 10-8 THRU 10-11 (1) BHT 407 FLIGTH REQUEST
URL:https://ghi.website/event/25-02871-pge-fresno-wishon-10-5-thru-10-7-2-bht-407-10-8-thru-10-11-1-bht-407-2/
END:VEVENT
BEGIN:VEVENT
DTSTART;VALUE=DATE:20251006
DTEND;VALUE=DATE:20251007
DTSTAMP:20260420T183810
CREATED:20250902T153248Z
LAST-MODIFIED:20250917T194420Z
UID:11892-1759708800-1759795199@ghi.website
SUMMARY:25-02480 PGE MONTEREY BK 117 10-6 10-9 10-13 10-15 10-20 10-27-2025
DESCRIPTION:25-02480 PGE MONTEREY BK 117 10-6 10-9 10-13 10-15 10-20 10-27-2025 FLIGHT REQUEST \n25-02480 PGE MONTEREY BK 117 10-6 10-9 10-13 10-15 10-20 10-27-2025 NON CAP
URL:https://ghi.website/event/25-02480-pge-monterey-bk-117-10-6-10-9-10-13-10-15-10-20-10-27-2025/
END:VEVENT
BEGIN:VEVENT
DTSTART;VALUE=DATE:20251006
DTEND;VALUE=DATE:20251007
DTSTAMP:20260420T183810
CREATED:20250925T162208Z
LAST-MODIFIED:20251001T180550Z
UID:12080-1759708800-1759795199@ghi.website
SUMMARY:25-02974 PGE KERN COUNTY BHT 205 POLE SET 10-6-2025
DESCRIPTION:25-02974 PGE KERN COUNTY BHT 205 POLE SET 10-6-2025 NON CAP \n25-02974 PGE KERN COUNTY BHT 205 POLE SET 10-6-2025 FLIGHT REQUEST
URL:https://ghi.website/event/25-02974-pge-kern-county-bht-205-pole-set-10-6-2025/
END:VEVENT
BEGIN:VEVENT
DTSTART;VALUE=DATE:20251008
DTEND;VALUE=DATE:20251009
DTSTAMP:20260420T183810
CREATED:20250925T162607Z
LAST-MODIFIED:20251001T190232Z
UID:12083-1759881600-1759967999@ghi.website
SUMMARY:25-02972 PGE TULARE COUNTY BHT 205 POLE SET 10-8-2025
DESCRIPTION:25-02972 PGE TULARE COUNTY BHT 205 POLE SET 10-8-2025 FLIGHT REQUEST \n25-02972 PGE TULARE COUNTY BHT 205 POLE SET 10-8-2025 NON CAP
URL:https://ghi.website/event/25-02972-pge-tulare-county-bht-205-pole-set-10-8-2025/
END:VEVENT
END:VCALENDAR