BEGIN:VCALENDAR
VERSION:2.0
PRODID:-//GHI Schedule - ECPv6.0.12//NONSGML v1.0//EN
CALSCALE:GREGORIAN
METHOD:PUBLISH
X-ORIGINAL-URL:https://ghi.website
X-WR-CALDESC:Events for GHI Schedule
REFRESH-INTERVAL;VALUE=DURATION:PT1H
X-Robots-Tag:noindex
X-PUBLISHED-TTL:PT1H
BEGIN:VTIMEZONE
TZID:America/Los_Angeles
BEGIN:DAYLIGHT
TZOFFSETFROM:-0800
TZOFFSETTO:-0700
TZNAME:PDT
DTSTART:20250309T100000
END:DAYLIGHT
BEGIN:STANDARD
TZOFFSETFROM:-0700
TZOFFSETTO:-0800
TZNAME:PST
DTSTART:20251102T090000
END:STANDARD
BEGIN:DAYLIGHT
TZOFFSETFROM:-0800
TZOFFSETTO:-0700
TZNAME:PDT
DTSTART:20260308T100000
END:DAYLIGHT
BEGIN:STANDARD
TZOFFSETFROM:-0700
TZOFFSETTO:-0800
TZNAME:PST
DTSTART:20261101T090000
END:STANDARD
END:VTIMEZONE
BEGIN:VEVENT
DTSTART;VALUE=DATE:20251107
DTEND;VALUE=DATE:20251108
DTSTAMP:20260420T165824
CREATED:20251024T151449Z
LAST-MODIFIED:20251029T150053Z
UID:12303-1762473600-1762559999@ghi.website
SUMMARY:25-03328 PGE FRESNO BHT 205 POLE SET 11-07-2025
DESCRIPTION:25-03328 PGE FRESNO BHT 205 POLE SET 11-07-2025 NON CAP \n25-03328 PGE AUBERRY BHT 205 POLE SET 11-07-2025 FLIGHT REQUEST
URL:https://ghi.website/event/25-03328-pge-fresno-bht-205-pole-set-11-07-2025/
END:VEVENT
BEGIN:VEVENT
DTSTART;VALUE=DATE:20251108
DTEND;VALUE=DATE:20251109
DTSTAMP:20260420T165824
CREATED:20250924T153128Z
LAST-MODIFIED:20251104T170622Z
UID:12069-1762560000-1762646399@ghi.website
SUMMARY:25-02933 PGE SLO BHT 407 HEC 11-08-2025
DESCRIPTION:25-02933 PGE SLO BHT 407 HEC 11-08-2025 FLGHT REQUEST \n25-02933 PGE SLO BHT 407 HEC 11-08-2025 NON CAP
URL:https://ghi.website/event/25-02933-pge-slo-bht-407-hec-11-08-2025/
END:VEVENT
BEGIN:VEVENT
DTSTART;VALUE=DATE:20251108
DTEND;VALUE=DATE:20251109
DTSTAMP:20260420T165824
CREATED:20251107T141422Z
LAST-MODIFIED:20251107T145512Z
UID:12357-1762560000-1762646399@ghi.website
SUMMARY:25-03127 PGE CALAVERAS BHT 205 11-8-2025
DESCRIPTION:25-03127 PGE CALAVERAS BHT 205 11-8-2025 FLIGHT REQUEST \n25-03127 PGE CALAVERAS BHT 205 11-8-2025 NON CAP
URL:https://ghi.website/event/25-03127-pge-calaveras-bht-205-11-8-2025/
END:VEVENT
BEGIN:VEVENT
DTSTART;VALUE=DATE:20251110
DTEND;VALUE=DATE:20251111
DTSTAMP:20260420T165824
CREATED:20250812T144128Z
LAST-MODIFIED:20251105T174711Z
UID:11764-1762732800-1762819199@ghi.website
SUMMARY:25-02217 PGE SANTA BARBARA COUNTY BHT 407 HEC 11-10-2025
DESCRIPTION:25-02217 PGE SANTA BARBARA COUNTY BHT 407 HEC 11-10-2025 FLIGHT REQUEST \n25-02217 PGE SANTA BARBARA COUNTY BHT 407 HEC 11-10-2025 NON CAP
URL:https://ghi.website/event/25-02217-pge-santa-barbara-county-bht-407-hec-11-10-2025/
END:VEVENT
BEGIN:VEVENT
DTSTART;VALUE=DATE:20251111
DTEND;VALUE=DATE:20251112
DTSTAMP:20260420T165824
CREATED:20251017T173309Z
LAST-MODIFIED:20251105T153325Z
UID:12265-1762819200-1762905599@ghi.website
SUMMARY:25-03260 PGE SAN JOAQUIN BHT 205 POLE SET 11-11-2025
DESCRIPTION:25-03260 PGE SAN JOAQUIN BHT 205 POLE SET 10-29-2025 FLIGHT REQUEST \n25-03260 PGE SAN JOAQUIN BHT 205 POLE SET 11-11-2025 FLIGHT REQUEST rev 1 \n25-03260 PGE SAN JOAQUIN BHT 205 POLE SET 11-11-2025 NON CAP \n 
URL:https://ghi.website/event/25-03260-pge-san-joaquin-bht-205-pole-set-10-29-2025/
END:VEVENT
BEGIN:VEVENT
DTSTART;VALUE=DATE:20251111
DTEND;VALUE=DATE:20251112
DTSTAMP:20260420T165824
CREATED:20251124T160214Z
LAST-MODIFIED:20251124T160351Z
UID:12442-1762819200-1762905599@ghi.website
SUMMARY:25-03600 PGE KERN LOS BANOS MIDWAY BHT 407 HEC 12-11-2025
DESCRIPTION:25-03600 PGE KERN LOS BANOS MIDWAY BHT 407 HEC 12-11-2025 FLIGHT REQUEST
URL:https://ghi.website/event/25-03600-pge-kern-los-banos-midway-bht-407-hec-12-11-2025/
END:VEVENT
BEGIN:VEVENT
DTSTART;VALUE=DATE:20251117
DTEND;VALUE=DATE:20251119
DTSTAMP:20260420T165824
CREATED:20250926T234409Z
LAST-MODIFIED:20251110T162314Z
UID:12102-1763337600-1763510399@ghi.website
SUMMARY:25-03041 PGE FRESNO (1) BHT 407 11-17 THRU 11-18 (2)BHT407 11-19 THRU 11-22 12-01 THRU12-12 12-15 THRU 12-20-2025
DESCRIPTION:25-03041 PGE FRESNO BHT 407 NON CAP \n25-03041 PGE FRESNO FLIGHT REQUEST
URL:https://ghi.website/event/25-03041-pge-fresno-1-bht-407-11-17-thru-11-18-2bht407-11-19-thru-11-22-12-01-thru12-12-12-15-thru-12-20-2025/
END:VEVENT
BEGIN:VEVENT
DTSTART;VALUE=DATE:20251117
DTEND;VALUE=DATE:20251119
DTSTAMP:20260420T165824
CREATED:20251113T172542Z
LAST-MODIFIED:20251113T173018Z
UID:12396-1763337600-1763510399@ghi.website
SUMMARY:25-03047 PGE MERCED BHT 205 11-17 AND 11-18-2025 FLIGHT REQUEST
DESCRIPTION:25-03047 PGE MERCED BHT 205 11-17 AND 11-18-2025 FLIGHT REQUEST \n25-03047 PGE FRESNO BHT205 11-17 AND 11-18-2025 NON CAP
URL:https://ghi.website/event/25-03047-pge-merced-bht-205-11-17-and-11-18-2025-flight-request/
END:VEVENT
BEGIN:VEVENT
DTSTART;VALUE=DATE:20251118
DTEND;VALUE=DATE:20251119
DTSTAMP:20260420T165824
CREATED:20251113T165339Z
LAST-MODIFIED:20251113T165620Z
UID:12388-1763424000-1763510399@ghi.website
SUMMARY:25-03126 PGE WEST POINT BK117 POLE SET 11-18-2025
DESCRIPTION:25-03126 PGE WEST POINT BK117 POLE SET 11-18-2025 FLIGHT REQUEST rev 1 \n25-03126 PGE WEST POINT BK117 POLE SET 11-18-2025 NON CAP rev1
URL:https://ghi.website/event/25-03126-pge-west-point-bk117-pole-set-11-18-2025/
END:VEVENT
BEGIN:VEVENT
DTSTART;VALUE=DATE:20251118
DTEND;VALUE=DATE:20251119
DTSTAMP:20260420T165824
CREATED:20251118T171003Z
LAST-MODIFIED:20251118T171100Z
UID:12415-1763424000-1763510399@ghi.website
SUMMARY:25-03561 PGE SANTA YNEZ PATROL 11-18-2025
DESCRIPTION:25-03561 PGE SANTA YNEZ PATROL 11-18-2025 FLIGHT REQUEST
URL:https://ghi.website/event/25-03561-pge-santa-ynez-patrol-11-18-2025/
END:VEVENT
BEGIN:VEVENT
DTSTART;VALUE=DATE:20251119
DTEND;VALUE=DATE:20251121
DTSTAMP:20260420T165824
CREATED:20251118T144122Z
LAST-MODIFIED:20251118T173737Z
UID:12412-1763510400-1763683199@ghi.website
SUMMARY:25-03551 PGE FRESNO BK117 POLE SET 11-19 AND 11-20-2025
DESCRIPTION:25-03551 PGE FRESNO BK117 POLE SET 11-19 AND 11-20-2025 FLIGHT REQUEST \n25-03551 PGE FRESNO BK117 POLE SET 11-19 AND 11-20-2025 NON CAP
URL:https://ghi.website/event/25-03551-pge-fresno-bk117-pole-set-11-19-and-11-20-2025/
END:VEVENT
BEGIN:VEVENT
DTSTART;VALUE=DATE:20251119
DTEND;VALUE=DATE:20251123
DTSTAMP:20260420T165824
CREATED:20250926T234447Z
LAST-MODIFIED:20251110T162341Z
UID:12105-1763510400-1763855999@ghi.website
SUMMARY:25-03041 PGE FRESNO (1) BHT 407 11-17 THRU 11-18 (2)BHT407 11-19 THRU 11-22 12-01 THRU12-12 12-15 THRU 12-20-2025
DESCRIPTION:25-03041 PGE FRESNO FLIGHT REQUEST \n25-03041 PGE FRESNO BHT 407 NON CAP
URL:https://ghi.website/event/25-03041-pge-fresno-1-bht-407-11-17-thru-11-18-2bht407-11-19-thru-11-22-12-01-thru12-12-12-15-thru-12-20-2025-2/
END:VEVENT
BEGIN:VEVENT
DTSTART;VALUE=DATE:20251119
DTEND;VALUE=DATE:20251123
DTSTAMP:20260420T165824
CREATED:20250926T234538Z
LAST-MODIFIED:20251110T162414Z
UID:12107-1763510400-1763855999@ghi.website
SUMMARY:25-03041 PGE FRESNO (1) BHT 407 11-17 THRU 11-18 (2)BHT407 11-19 THRU 11-22 12-01 THRU12-12 12-15 THRU 12-20-2025
DESCRIPTION:25-03041 PGE FRESNO FLIGHT REQUEST. \n25-03041 PGE FRESNO BHT 407 NON CAP \n 
URL:https://ghi.website/event/25-03041-pge-fresno-1-bht-407-11-17-thru-11-18-2bht407-11-19-thru-11-22-12-01-thru12-12-12-15-thru-12-20-2025-3/
END:VEVENT
BEGIN:VEVENT
DTSTART;VALUE=DATE:20251120
DTEND;VALUE=DATE:20251121
DTSTAMP:20260420T165824
CREATED:20251114T201307Z
LAST-MODIFIED:20251114T201324Z
UID:12404-1763596800-1763683199@ghi.website
SUMMARY:BHT 205 BISHOP CESSNA RECOVERY
DESCRIPTION:7100 FT ELEVATION
URL:https://ghi.website/event/bht-205-bishop-cessna-recovery/
END:VEVENT
BEGIN:VEVENT
DTSTART;VALUE=DATE:20251121
DTEND;VALUE=DATE:20251122
DTSTAMP:20260420T165824
CREATED:20251113T170909Z
LAST-MODIFIED:20251119T144952Z
UID:12392-1763683200-1763769599@ghi.website
SUMMARY:25-03260 PGE SAN JOAQUIN BHT 205 POLE SET 11-21-2025
DESCRIPTION:25-03260 PGE SAN JOAQUIN BHT 205 POLE SET 11-21-2025 FLIGHT REQUEST rev 2 \n25-03260 PGE SAN JOAQUIN BHT 205 POLE SET 11-21-2025 NON CAP REV 2
URL:https://ghi.website/event/25-03260-pge-san-joaquin-bht-205-pole-set-11-21-2025/
END:VEVENT
BEGIN:VEVENT
DTSTART;VALUE=DATE:20251201
DTEND;VALUE=DATE:20251213
DTSTAMP:20260420T165824
CREATED:20250926T234631Z
LAST-MODIFIED:20251110T162445Z
UID:12110-1764547200-1765583999@ghi.website
SUMMARY:25-03041 PGE FRESNO (1) BHT 407 11-17 THRU 11-18 (2)BHT407 11-19 THRU 11-22 12-01 THRU12-12 12-15 THRU 12-20-2025
DESCRIPTION:25-03041 PGE FRESNO FLIGHT REQUEST \n25-03041 PGE FRESNO BHT 407 NON CAP
URL:https://ghi.website/event/25-03041-pge-fresno-1-bht-407-11-17-thru-11-18-2bht407-11-19-thru-11-22-12-01-thru12-12-12-15-thru-12-20-2025-4/
END:VEVENT
BEGIN:VEVENT
DTSTART;VALUE=DATE:20251201
DTEND;VALUE=DATE:20251213
DTSTAMP:20260420T165824
CREATED:20250926T234713Z
LAST-MODIFIED:20251110T162512Z
UID:12112-1764547200-1765583999@ghi.website
SUMMARY:25-03041 PGE FRESNO (1) BHT 407 11-17 THRU 11-18 (2)BHT407 11-19 THRU 11-22 12-01 THRU12-12 12-15 THRU 12-20-2025
DESCRIPTION:25-03041 PGE FRESNO FLIGHT REQUEST \n25-03041 PGE FRESNO BHT 407 NON CAP
URL:https://ghi.website/event/25-03041-pge-fresno-1-bht-407-11-17-thru-11-18-2bht407-11-19-thru-11-22-12-01-thru12-12-12-15-thru-12-20-2025-5/
END:VEVENT
BEGIN:VEVENT
DTSTART;VALUE=DATE:20251202
DTEND;VALUE=DATE:20251203
DTSTAMP:20260420T165824
CREATED:20251121T163710Z
LAST-MODIFIED:20251125T150022Z
UID:12420-1764633600-1764719999@ghi.website
SUMMARY:25-03544 PGE KERN BHT 407 HEC 12-2-2025
DESCRIPTION:25-03544 PGE KERN BHT 407 HEC 12-2-2025 FLIGHT REQUEST \n25-03544 PGE KERN BHT 407 HEC 12-2-2025 NON CAP
URL:https://ghi.website/event/25-03544-pge-kern-bht-407-hec-12-2-2025/
END:VEVENT
BEGIN:VEVENT
DTSTART;VALUE=DATE:20251204
DTEND;VALUE=DATE:20251206
DTSTAMP:20260420T165824
CREATED:20251124T154809Z
LAST-MODIFIED:20251125T161318Z
UID:12435-1764806400-1764979199@ghi.website
SUMMARY:25-03599 PGE KERN LOS BANOS BHT 205 HEC 12-4 THRU 12-5-2025
DESCRIPTION:25-03599 PGE KERN LOS BANOS BHT 205 HEC 12-4 THRU 12-5-2025 FLIGHT REQUEST \n25-03599 PGE KERN LOS BANOS BHT 205 HEC 12-4 THRU 12-5-2025 NON CAP \n25-03599 PGE KERN LOS BANOS BHT 205 HEC 12-4 THRU 12-5-2025 FLIGHT REQUEST rev 1
URL:https://ghi.website/event/25-03599-pge-kern-los-banos-bht-205-hec-12-4-thru-12-5-2025/
END:VEVENT
BEGIN:VEVENT
DTSTART;VALUE=DATE:20251209
DTEND;VALUE=DATE:20251210
DTSTAMP:20260420T165824
CREATED:20251111T142010Z
LAST-MODIFIED:20251202T144518Z
UID:12382-1765238400-1765324799@ghi.website
SUMMARY:25-03506 PGE SLO BK 117 HEC MIDSPAN AIRCHAIR 12-9-2025
DESCRIPTION:25-03506 PGE SLOBK 117 HEC MIDSPAN AIRCHAIR 12-9-2025 FLIGHT REQUEST REV 1 \n25-03506 PGE SLO BHT 407 HEC MIDSPAN AIRCHAIR 12-9-2025 \n25-03506 PGE SLO BHT 407 HEC MIDSPAN AIRCHAIR 12-9-2025 NON CAP
URL:https://ghi.website/event/25-03506-pge-slo-bht-407-hec-midspan-airchair-12-9-2025/
END:VEVENT
BEGIN:VEVENT
DTSTART;VALUE=DATE:20251209
DTEND;VALUE=DATE:20251210
DTSTAMP:20260420T165824
CREATED:20251202T165726Z
LAST-MODIFIED:20251204T170457Z
UID:12463-1765238400-1765324799@ghi.website
SUMMARY:25-03382 PGE FRESNO TULARE COUNTY BHT 205 POLE SET 12-9-2025
DESCRIPTION:25-03382 PGE FRESNO TULARE COUNTY BHT 205 POLE SET 12-9-2025 FLIGHT REQUEST \n25-03382 PGE FRESNO TULARE COUNTY BHT 205 POLE SET 12-9-2025 NON CAP
URL:https://ghi.website/event/25-03382-pge-fresno-tulare-county-bht-205-pole-set-12-9-2025/
END:VEVENT
BEGIN:VEVENT
DTSTART;VALUE=DATE:20251210
DTEND;VALUE=DATE:20251215
DTSTAMP:20260420T165824
CREATED:20251114T201614Z
LAST-MODIFIED:20251204T183747Z
UID:12406-1765324800-1765756799@ghi.website
SUMMARY:25-03533 PGE SLO SANTA MARIA BK 117  HEC 12-10 THRU 12-14-2025
DESCRIPTION:25-03533 PGE SLO SANTA MARIA BK 117 HEC 12-10 THRU 12-14-2025 NON CAP \n25-03533 PGE SLO SANTA MARIA BHT 407 HEC 12-10 THRU 12-14-2025 FLIGHT REQUEST \n25-03533 PGE SLO SANTA MARIA BK 117 HEC 12-10 THRU 12-14-2025 FLIGHT REQUEST REV 1
URL:https://ghi.website/event/25-03533-pge-slo-santa-maria-bht-407-hec-12-10-thru-12-14-2025/
END:VEVENT
BEGIN:VEVENT
DTSTART;VALUE=DATE:20251215
DTEND;VALUE=DATE:20251220
DTSTAMP:20260420T165824
CREATED:20250926T234816Z
LAST-MODIFIED:20251219T155110Z
UID:12114-1765756800-1766188799@ghi.website
SUMMARY:25-03041 PGE FRESNO (1) BHT 407 11-17 THRU 11-18 (2)BHT407 11-19 THRU 11-22 12-01 THRU12-12 12-15 THRU 12-19-2025
DESCRIPTION:25-03041 PGE FRESNO FLIGHT REQUEST \n25-03041 PGE FRESNO BHT 407 NON CAP
URL:https://ghi.website/event/25-03041-pge-fresno-1-bht-407-11-17-thru-11-18-2bht407-11-19-thru-11-22-12-01-thru12-12-12-15-thru-12-20-2025-6/
END:VEVENT
BEGIN:VEVENT
DTSTART;TZID=America/Los_Angeles:20251215T080000
DTEND;TZID=America/Los_Angeles:20251219T170000
DTSTAMP:20260420T165824
CREATED:20251219T155135Z
LAST-MODIFIED:20251219T155135Z
UID:12509-1765785600-1766163600@ghi.website
SUMMARY:25-03041 PGE FRESNO (1) BHT 407 11-17 THRU 11-18 (2)BHT407 11-19 THRU 11-22 12-01 THRU12-12 12-15 THRU 12-19-2025
DESCRIPTION:
URL:https://ghi.website/event/25-03041-pge-fresno-1-bht-407-11-17-thru-11-18-2bht407-11-19-thru-11-22-12-01-thru12-12-12-15-thru-12-19-2025/
END:VEVENT
BEGIN:VEVENT
DTSTART;VALUE=DATE:20251216
DTEND;VALUE=DATE:20251217
DTSTAMP:20260420T165824
CREATED:20251107T141838Z
LAST-MODIFIED:20251210T153403Z
UID:12360-1765843200-1765929599@ghi.website
SUMMARY:25-03489 PGE SLO BHT 205 POLE SET 12-16-2025
DESCRIPTION:25-03489 PGE SLO BHT 205 POLE SET 12-16-2025 NON CAP \n25-03489 PGE SLO BHT 205 POLE SET 11-19-2025 FLIGHT REQUEST \n25-03489 PGE SLO BHT 205 POLE SET 12-16-2025 FLIGHT REQUEST rev 1 \n 
URL:https://ghi.website/event/25-03489-pge-slo-bht-205-pole-set-11-19-2025/
END:VEVENT
BEGIN:VEVENT
DTSTART;VALUE=DATE:20260105
DTEND;VALUE=DATE:20260117
DTSTAMP:20260420T165824
CREATED:20250926T231854Z
LAST-MODIFIED:20251229T174347Z
UID:12093-1767571200-1768607999@ghi.website
SUMMARY:25-03048 PGE  FRESNO (2) BHT 407 1-5 THRU 1-16 1-19 THRU 1-30-2026
DESCRIPTION:  \n25-03048 PGE FRESNO (2) BHT 407 1-5 THRU 1-16 1-19 THRU 1-30-2026 FLIGHT REQUEST \n25-03048 PGE FRESNO (2) BHT 407 1-5 THRU 1-16 1-19 THRU 1-30-2026 NON CAP
URL:https://ghi.website/event/25-03048-pge-fresno-2-bht-407-1-5-thru-1-16-1-19-thru-1-30-2025/
END:VEVENT
BEGIN:VEVENT
DTSTART;VALUE=DATE:20260105
DTEND;VALUE=DATE:20260117
DTSTAMP:20260420T165824
CREATED:20250926T232045Z
LAST-MODIFIED:20260123T180108Z
UID:12096-1767571200-1768607999@ghi.website
SUMMARY:25-03048 PGE  FRESNO (2) BHT 407 1-5 THRU 1-16 1-19 THRU 1-30-2025
DESCRIPTION:25-03048 PGE FRESNO (2) BHT 407 1-5 THRU 1-16 1-19 THRU 1-30-2026 NON CAP \n25-03048 PGE FRESNO (2) BHT 407 1-5 THRU 1-16 1-19 THRU 1-30-2026 FLIGHT REQUEST
URL:https://ghi.website/event/25-03048-pge-fresno-2-bht-407-1-5-thru-1-16-1-19-thru-1-30-2025-2/
END:VEVENT
BEGIN:VEVENT
DTSTART;VALUE=DATE:20260111
DTEND;VALUE=DATE:20260112
DTSTAMP:20260420T165824
CREATED:20251105T143958Z
LAST-MODIFIED:20260107T160848Z
UID:12346-1768089600-1768175999@ghi.website
SUMMARY:25-03456 PGE FRESNO BHT 407 HEC 01-11-2026
DESCRIPTION:25-03456 PGE FRESNO BHT 407 HEC 11-22-2025 FLIGHT REQUEST \n25-03456 PGE FRESNO BHT 407 HEC 1-11-2026 FLIGHT REQUEST \n25-03456 PGE FRESNO BHT 407 HEC 1-11-2026 NON CAP
URL:https://ghi.website/event/25-03456-pge-fresno-bht-407-hec-11-22-2025/
END:VEVENT
BEGIN:VEVENT
DTSTART;VALUE=DATE:20260112
DTEND;VALUE=DATE:20260117
DTSTAMP:20260420T165824
CREATED:20260106T152236Z
LAST-MODIFIED:20260109T144439Z
UID:12528-1768176000-1768607999@ghi.website
SUMMARY:SCE BHT 205 HEC POLE SET LA CANADA ASUZA
DESCRIPTION:D27 BROADCAST 33KV TD2305522 ST1_2-4801520E ST3_4-4801277E HELO SET APPROVAL \nTD2305522 BROADCAST 33 KV – PROGRAM W NTO – ORTIZ – 1-27-2026 \nTD2305522_VARIOUS_MAP_997869 \nFR 07521 LA CANADA FLINTRIDGE BHT 205 HEC POLE SET 1-12 THRU 1-27-2026 NON CAP \nFR 07521 SCE Job Walk.Coordination Form 1-8-2026 \nGHI ASUZA 1-12-2026 SpecialUsesAviationNotificationForm-MSUP \nsigned FR 07521 SCE Job Walk.Coordination Form 1-8-2026
URL:https://ghi.website/event/sce-bht-205-hec-pole-set-palmdale-paperwork-pending/
END:VEVENT
BEGIN:VEVENT
DTSTART;VALUE=DATE:20260119
DTEND;VALUE=DATE:20260124
DTSTAMP:20260420T165824
CREATED:20260106T152305Z
LAST-MODIFIED:20260108T175024Z
UID:12530-1768780800-1769212799@ghi.website
SUMMARY:SCE BHT 205 HEC POLE SET LA CANADA ASUZA
DESCRIPTION:FR07521_20260108094725 \nFR 07521 SCE Job Walk.Coordination Form 1-8-2026 \nTD2305522_VARIOUS_MAP_997869 \nTD2305522 BROADCAST 33 KV – PROGRAM W NTO – ORTIZ – 1-27-2026 \nD27 BROADCAST 33KV TD2305522 ST1_2-4801520E ST3_4-4801277E HELO SET APPROVAL \nFR 07521 LA CANADA FLINTRIDGE BHT 205 HEC POLE SET 1-12 THRU 1-27-2026 NON CAP
URL:https://ghi.website/event/sce-bht-205-hec-pole-set-palmdale-paperwork-pending-2/
END:VEVENT
END:VCALENDAR