BEGIN:VCALENDAR
VERSION:2.0
PRODID:-//GHI Schedule - ECPv6.0.12//NONSGML v1.0//EN
CALSCALE:GREGORIAN
METHOD:PUBLISH
X-WR-CALNAME:GHI Schedule
X-ORIGINAL-URL:https://ghi.website
X-WR-CALDESC:Events for GHI Schedule
REFRESH-INTERVAL;VALUE=DURATION:PT1H
X-Robots-Tag:noindex
X-PUBLISHED-TTL:PT1H
BEGIN:VTIMEZONE
TZID:America/Los_Angeles
BEGIN:DAYLIGHT
TZOFFSETFROM:-0800
TZOFFSETTO:-0700
TZNAME:PDT
DTSTART:20240310T100000
END:DAYLIGHT
BEGIN:STANDARD
TZOFFSETFROM:-0700
TZOFFSETTO:-0800
TZNAME:PST
DTSTART:20241103T090000
END:STANDARD
END:VTIMEZONE
BEGIN:VEVENT
DTSTART;VALUE=DATE:20241101
DTEND;VALUE=DATE:20241103
DTSTAMP:20260422T155240
CREATED:20241029T160538Z
LAST-MODIFIED:20241030T205414Z
UID:10351-1730419200-1730591999@ghi.website
SUMMARY:24-03406 PGE KERN CARGO HEC BHT 407
DESCRIPTION:24-03406 PGE KERN SHAFTER CARGO HEC BHT 407 11-1 ND 11-2 11-6 AND 11-7 NON CAP \n24-03406 PGE KERN CARGO HEC BHT 407 FLIGHT REQUEST
URL:https://ghi.website/event/24-03406-pge-kern-cargo-hec-bht-407/
END:VEVENT
BEGIN:VEVENT
DTSTART;VALUE=DATE:20241101
DTEND;VALUE=DATE:20241102
DTSTAMP:20260422T155240
CREATED:20241023T192508Z
LAST-MODIFIED:20241030T194112Z
UID:10310-1730419200-1730505599@ghi.website
SUMMARY:24-03330 PGE MADERA BHT 407 HEC ACADEMY SUPPORT
DESCRIPTION:24-03330 PGE MEDERA PGE ACADEMY 11-1-2024 NON CAP \n24-03330 PGE MADERA BHT 407 HEC FLIGHT REQUEST 11-1-2024
URL:https://ghi.website/event/24-03330-pge-madera-bht-407-hec/
END:VEVENT
BEGIN:VEVENT
DTSTART;VALUE=DATE:20241101
DTEND;VALUE=DATE:20241102
DTSTAMP:20260422T155240
CREATED:20241021T234552Z
LAST-MODIFIED:20241030T200335Z
UID:10290-1730419200-1730505599@ghi.website
SUMMARY:24-02804 PGE SANTA BARBARA COUNTY BHT 407
DESCRIPTION:24-02804 PGE SOLVANG BHT 407 HEC POLE SET 11-1-2024 NON CAP \n24-02804 PGE SANTA BARBARA COUNTY BHT 407 11-1-2024 FLIGHT REQUEST
URL:https://ghi.website/event/24-02804-pge-santa-barbara-county-bht-407/
END:VEVENT
BEGIN:VEVENT
DTSTART;VALUE=DATE:20241031
DTEND;VALUE=DATE:20241101
DTSTAMP:20260422T155240
CREATED:20241011T140557Z
LAST-MODIFIED:20241030T183439Z
UID:10196-1730332800-1730419199@ghi.website
SUMMARY:24-02794 PGE MT TAM BHT 205 1-31-2024 POLE SET
DESCRIPTION:24-02794 PGE MT TAM BHT 205 FLIGHT REQUEST 10-31 \n24-02794 24-03188 PGE MT TAM BHT 407 BHT 205 POLE SET HEC 10-31-2024 NON CAP
URL:https://ghi.website/event/24-02794-pge-mt-tam-bht-205-1-31-2024-pole-set/
END:VEVENT
BEGIN:VEVENT
DTSTART;VALUE=DATE:20241031
DTEND;VALUE=DATE:20241101
DTSTAMP:20260422T155240
CREATED:20241015T145717Z
LAST-MODIFIED:20241030T183345Z
UID:10220-1730332800-1730419199@ghi.website
SUMMARY:24-03188 PGE MT TAM PAIRED WITH 24-02794
DESCRIPTION:  \n24-02794 24-03188 PGE MT TAM BHT 407 BHT 205 POLE SET HEC 10-31-2024 NON CAP \n24-03188 PGE MT TAM BHT407 FLIGHT REQUEST 10-31
URL:https://ghi.website/event/24-03188-pge-mt-tam-paired-with-24-02794/
END:VEVENT
BEGIN:VEVENT
DTSTART;VALUE=DATE:20241030
DTEND;VALUE=DATE:20241031
DTSTAMP:20260422T155240
CREATED:20241021T235049Z
LAST-MODIFIED:20241029T001347Z
UID:10293-1730246400-1730332799@ghi.website
SUMMARY:24-03337 PGE SHASTA COUNTY BK117 POLE SET HEC
DESCRIPTION:24-03337 CEDAR CREEK SHASTA BK117 10-30-2024 NON CAP \n24-03337 PGE SHASTA COUNTY BK117 POLE SET HEC FLIGHT REQUEST 10-30-2024 \n24-03337 PGE SHASTA COUNTY BK117 POLE SET HEC FLIGHT REQUEST 10-30-2024
URL:https://ghi.website/event/24-03337-pge-shasta-county-bk117-pole-set-hec/
END:VEVENT
BEGIN:VEVENT
DTSTART;VALUE=DATE:20241030
DTEND;VALUE=DATE:20241031
DTSTAMP:20260422T155240
CREATED:20241015T211431Z
LAST-MODIFIED:20241028T233848Z
UID:10229-1730246400-1730332799@ghi.website
SUMMARY:24-03168 PGE SHASTA BHT 407 PAIRED WITH 24-03203
DESCRIPTION:24-03168 24-03203 PGE SHINGLETOWN BHT 407 BHT 205 10-30 -2024 NON CAP \nPGE 2024-10-22 1511 24-03168 \n24-03168 PGE SHASTA BHT 407 PAIRED WITH 24-03203 FLIGHT REQUEST
URL:https://ghi.website/event/24-03168-pge-shasta-bht-407-paired-with-24-03203/
END:VEVENT
BEGIN:VEVENT
DTSTART;VALUE=DATE:20241030
DTEND;VALUE=DATE:20241031
DTSTAMP:20260422T155240
CREATED:20241015T211123Z
LAST-MODIFIED:20241028T234018Z
UID:10225-1730246400-1730332799@ghi.website
SUMMARY:24-03203 PGE SHASTA COUNTY BHT 205 POLE SET PAIRED WITH 24-03168
DESCRIPTION:24-03168 24-03203 PGE SHINGLETOWN BHT 407 BHT 205 10-30 -2024 NON CAP \n24-03203 PGE SHASTA COUNTY BHT 205 POLE SET FLIGTH REQUEST \n24-03203 PGE SHASTA COUNTY BHT 205 POLE SET FLIGTH REQUEST
URL:https://ghi.website/event/24-03203-pge-shasta-county-bht-205-pole-set-paired-with-24-03168/
END:VEVENT
BEGIN:VEVENT
DTSTART;VALUE=DATE:20241029
DTEND;VALUE=DATE:20241030
DTSTAMP:20260422T155240
CREATED:20241021T234119Z
LAST-MODIFIED:20241028T221633Z
UID:10287-1730160000-1730246399@ghi.website
SUMMARY:24-03314 PGE TUOLUMME COUNTY BK117 POLE SET
DESCRIPTION:24-03314 TUOLUMNE DON PEDRO LAKE BK117 POLE SET NON CAP 10-29-2024 \n3314 \n24-03314 PGE TUOLUMME COUNTY BL117 FLIGHT REQUEST 10-29-2024
URL:https://ghi.website/event/24-03314-pge-tuolumme-county-bk117-pole-set/
END:VEVENT
BEGIN:VEVENT
DTSTART;TZID=America/Los_Angeles:20241028T080000
DTEND;TZID=America/Los_Angeles:20241028T170000
DTSTAMP:20260422T155240
CREATED:20241007T151635Z
LAST-MODIFIED:20241007T151642Z
UID:10172-1730102400-1730134800@ghi.website
SUMMARY:N211GH MAINTENANCE 10-28
DESCRIPTION:
URL:https://ghi.website/event/n211gh-maintenance-10-28/
END:VEVENT
BEGIN:VEVENT
DTSTART;VALUE=DATE:20241026
DTEND;VALUE=DATE:20241027
DTSTAMP:20260422T155240
CREATED:20240920T160906Z
LAST-MODIFIED:20241017T192507Z
UID:10046-1729900800-1729987199@ghi.website
SUMMARY:24-02839 PGE SANTA MARIA BHT 407 (2)
DESCRIPTION:24-02839 PGE SANTA MARIA (2) BHT 407 HEC 10-26-2024 NON CAP \n24-02839 PGE SANTA MARIA BHT 407 (2) FLIGHT REQUEST
URL:https://ghi.website/event/24-02839-pge-santa-maria-bht-407-2-2/
END:VEVENT
BEGIN:VEVENT
DTSTART;VALUE=DATE:20241026
DTEND;VALUE=DATE:20241027
DTSTAMP:20260422T155240
CREATED:20240920T160838Z
LAST-MODIFIED:20241017T192634Z
UID:10043-1729900800-1729987199@ghi.website
SUMMARY:24-02839 PGE SANTA MARIA BHT 407 (2)
DESCRIPTION:24-02839 PGE SANTA MARIA (2) BHT 407 HEC 10-26-2024 NON CAP \n24-02839 PGE SANTA MARIA BHT 407 (2) FLIGHT REQUEST
URL:https://ghi.website/event/24-02839-pge-santa-maria-bht-407-2/
END:VEVENT
BEGIN:VEVENT
DTSTART;VALUE=DATE:20241025
DTEND;VALUE=DATE:20241026
DTSTAMP:20260422T155240
CREATED:20241011T135633Z
LAST-MODIFIED:20241017T182957Z
UID:10192-1729814400-1729900799@ghi.website
SUMMARY:24-03148 PGE AMADOR  BHT 205 CARGO
DESCRIPTION:24-03148 PGE AMADOR BHT 205 POLE SET FLIGHT REQUEST \n24-03148 PGE AMADOR CARBONDALE BHT 205 POLE SET 10-25-2024 NON CAP
URL:https://ghi.website/event/24-03046-pge-shasta-bht-205-cargo-2/
END:VEVENT
BEGIN:VEVENT
DTSTART;TZID=America/Los_Angeles:20241023T080000
DTEND;TZID=America/Los_Angeles:20241024T170000
DTSTAMP:20260422T155240
CREATED:20241015T210740Z
LAST-MODIFIED:20241022T212014Z
UID:10223-1729670400-1729789200@ghi.website
SUMMARY:RUNNING SPRINGS (50) POLE SET LIGHT
DESCRIPTION:FAIR LIFT RUNNING SPRINGS POLE SET 10-23 10-24-2024 NON CAP
URL:https://ghi.website/event/running-springs-50-pole-set-light/
END:VEVENT
BEGIN:VEVENT
DTSTART;VALUE=DATE:20241023
DTEND;VALUE=DATE:20241024
DTSTAMP:20260422T155240
CREATED:20241011T152133Z
LAST-MODIFIED:20241016T214445Z
UID:10202-1729641600-1729727999@ghi.website
SUMMARY:24-03153 PGE PIKE CITY SIERRA COUNTY BK117
DESCRIPTION:24-03153 OAK VALLEY BK117 POLE SET 10-23-2024 NON CAP \n24-03153 PGE PIKE CITY SIERRA COUNTY BK117 FLIGHT REQUEST \n 
URL:https://ghi.website/event/24-pge-orville-bht-205-pole-set-pending-paperwork/
END:VEVENT
BEGIN:VEVENT
DTSTART;VALUE=DATE:20241023
DTEND;VALUE=DATE:20241024
DTSTAMP:20260422T155240
CREATED:20241021T233300Z
LAST-MODIFIED:20241021T233350Z
UID:10283-1729641600-1729727999@ghi.website
SUMMARY:24-03153 PGE PIKE CITY SIERRA COUNTY BK117 (2)
DESCRIPTION:  \n24-03153 OAK VALLEY BK117 POLE SET 10-23-2024 NON CAP \n24-03153 PGE PIKE CITY SIERRA COUNTY BK117 FLIGHT REQUEST REV110-23-2034
URL:https://ghi.website/event/24-03153-pge-pike-city-sierra-county-bk117-2/
END:VEVENT
BEGIN:VEVENT
DTSTART;TZID=America/Los_Angeles:20241022T080000
DTEND;TZID=America/Los_Angeles:20241023T170000
DTSTAMP:20260422T155240
CREATED:20241004T113340Z
LAST-MODIFIED:20241016T181209Z
UID:10166-1729584000-1729702800@ghi.website
SUMMARY:24-03053 PGE TEMPLETON 407 HEC
DESCRIPTION:24-03053 PGE COALINGA BHT 407 HEC NON CAP 10-22 10-23-2024 NON CAP \n24-03053 PGE TEMPLETON BHT 407 HEC FLIGHT REQUEST \n24-03053 PGE TEMPLETON BHT 407 HEC FLIGHT REQUEST
URL:https://ghi.website/event/24-03053-pge-templeton-407-hec/
END:VEVENT
BEGIN:VEVENT
DTSTART;TZID=America/Los_Angeles:20241021T080000
DTEND;TZID=America/Los_Angeles:20241022T170000
DTSTAMP:20260422T155240
CREATED:20240621T183634Z
LAST-MODIFIED:20241016T174727Z
UID:9591-1729497600-1729616400@ghi.website
SUMMARY:24-01354 PGE SLO BHT 407 HEC
DESCRIPTION:24-01354 MCKITTRICK KERN BHT 407 HEC 10-21 10-22-2024 NON CAP \n1354 \nPGE 2024-06-26 1036 24-01354
URL:https://ghi.website/event/24-01354-pge-slo-bht-hec-pending-paperwork/
END:VEVENT
BEGIN:VEVENT
DTSTART;VALUE=DATE:20241021
DTEND;VALUE=DATE:20241022
DTSTAMP:20260422T155240
CREATED:20241017T152538Z
LAST-MODIFIED:20241017T152538Z
UID:10261-1729468800-1729555199@ghi.website
SUMMARY:24-02702 PGE MORRO BAY BK 117 HEC INSULATORS
DESCRIPTION:24-02702 PGE SANTA MARGARITA BK117 BHT 407 HEC NON CAP 10-20 THRU 10-21-2024 REV 1 \n24-02702 PGE MORRO BAY (1) BK 117 (1) BHT 407 HEC INSULATORS FLIGHT REQUEST rev 1
URL:https://ghi.website/event/24-02702-pge-morro-bay-bk-117-hec-insulators/
END:VEVENT
BEGIN:VEVENT
DTSTART;VALUE=DATE:20241020
DTEND;VALUE=DATE:20241023
DTSTAMP:20260422T155240
CREATED:20241011T134901Z
LAST-MODIFIED:20241014T164145Z
UID:10190-1729382400-1729641599@ghi.website
SUMMARY:24-03046 PGE SHASTA BHT 205 CARGO
DESCRIPTION:24-03046 PGE WHISKEYTOWN BHT 205 POLE SET 10-20 THRU 10-22 NON CAP \n24-03046 PGE WISKEYTOWN LAKE BHT 205 CARGO FLIGHT REQUEST \nPREPOSITION ON THE 20TH WORK ON TEH 21ST AND 22ND
URL:https://ghi.website/event/24-03046-pge-shasta-bht-205-cargo/
END:VEVENT
BEGIN:VEVENT
DTSTART;VALUE=DATE:20241020
DTEND;VALUE=DATE:20241022
DTSTAMP:20260422T155240
CREATED:20241017T152655Z
LAST-MODIFIED:20241017T152703Z
UID:10263-1729382400-1729555199@ghi.website
SUMMARY:24-02702 PGE MORRO BAY BHT 407 HEC INSULATORS
DESCRIPTION:24-02702 PGE SANTA MARGARITA BK117 BHT 407 HEC NON CAP 10-20 THRU 10-21-2024 REV 1 \n24-02702 PGE MORRO BAY (1) BK 117 (1) BHT 407 HEC INSULATORS FLIGHT REQUEST rev 1
URL:https://ghi.website/event/24-02702-pge-morro-bay-bht-407-hec-insulators/
END:VEVENT
BEGIN:VEVENT
DTSTART;VALUE=DATE:20241018
DTEND;VALUE=DATE:20241019
DTSTAMP:20260422T155240
CREATED:20240910T210514Z
LAST-MODIFIED:20241011T134235Z
UID:9993-1729209600-1729295999@ghi.website
SUMMARY:SIERRA RESEARCH CENTER THREE RIVERS
DESCRIPTION:GHI 10-18-2024 SEKI-108C Helicopter_Flight_Request_Park_Cooperators_7.2023 \nSEQUIOA NATIONAL PARK SIERRA RESEARCH CENTER NON CAP 10-18-2024
URL:https://ghi.website/event/sierra-research-center-three-rivers/
END:VEVENT
BEGIN:VEVENT
DTSTART;TZID=America/Los_Angeles:20241016T080000
DTEND;TZID=America/Los_Angeles:20241020T170000
DTSTAMP:20260422T155240
CREATED:20240925T162925Z
LAST-MODIFIED:20241009T172035Z
UID:10087-1729065600-1729443600@ghi.website
SUMMARY:MOVIE SHOOT BHT 205
DESCRIPTION:
URL:https://ghi.website/event/movie-shoot-bht-205/
END:VEVENT
BEGIN:VEVENT
DTSTART;VALUE=DATE:20241015
DTEND;VALUE=DATE:20241016
DTSTAMP:20260422T155240
CREATED:20241009T174652Z
LAST-MODIFIED:20241014T153511Z
UID:10188-1728950400-1729036799@ghi.website
SUMMARY:24-03111 PGE LAKE COUNTY BHT 205
DESCRIPTION:24-03111 PGE MIDDLETOWN BHT 205 POLE SET NON CAP 10-15-2024 \n24-03111 PGE LAKE COUNTY BHT 205 10-15-2024 FLIGHT REQUEST
URL:https://ghi.website/event/24-03111-pge-lake-county-bht-205/
END:VEVENT
BEGIN:VEVENT
DTSTART;VALUE=DATE:20241015
DTEND;VALUE=DATE:20241016
DTSTAMP:20260422T155240
CREATED:20240930T142721Z
LAST-MODIFIED:20241008T164107Z
UID:10121-1728950400-1729036799@ghi.website
SUMMARY:SAN DIEGO
DESCRIPTION:
URL:https://ghi.website/event/san-diego/
END:VEVENT
BEGIN:VEVENT
DTSTART;TZID=America/Los_Angeles:20241014T080000
DTEND;TZID=America/Los_Angeles:20241019T170000
DTSTAMP:20260422T155240
CREATED:20241004T112050Z
LAST-MODIFIED:20241004T112050Z
UID:10164-1728892800-1729357200@ghi.website
SUMMARY:24-02474 AETHON IMAGING
DESCRIPTION:24-02474 AETHON IMAGING
URL:https://ghi.website/event/24-02474-aethon-imaging/
END:VEVENT
BEGIN:VEVENT
DTSTART;TZID=America/Los_Angeles:20241008T080000
DTEND;TZID=America/Los_Angeles:20241008T170000
DTSTAMP:20260422T155240
CREATED:20240930T192758Z
LAST-MODIFIED:20240930T192807Z
UID:10136-1728374400-1728406800@ghi.website
SUMMARY:MOVIE BHT 205 INSPECTION
DESCRIPTION:
URL:https://ghi.website/event/moviebht-205-inspection/
END:VEVENT
BEGIN:VEVENT
DTSTART;TZID=America/Los_Angeles:20241007T080000
DTEND;TZID=America/Los_Angeles:20241011T170000
DTSTAMP:20260422T155240
CREATED:20241004T111956Z
LAST-MODIFIED:20241004T111956Z
UID:10161-1728288000-1728666000@ghi.website
SUMMARY:24-02474 AETHON IMAGING N718GH
DESCRIPTION:24-02474 AETHON IMAGING
URL:https://ghi.website/event/24-02474-aethon-imaging-n718gh/
END:VEVENT
BEGIN:VEVENT
DTSTART;TZID=America/Los_Angeles:20241007T080000
DTEND;TZID=America/Los_Angeles:20241011T170000
DTSTAMP:20260422T155240
CREATED:20240909T174139Z
LAST-MODIFIED:20241003T220723Z
UID:9974-1728288000-1728666000@ghi.website
SUMMARY:24-02569 PGE CAYUMA COUNTY BHT 407
DESCRIPTION:24-02590 24-02569 PGE CAYUMA BK117 (2) BHT 407 (1) BHT 205 10-7 THRU 10-11-2024 \n24-02569 PGE CUYAMA (3) HEC FLIGHT REQUEST
URL:https://ghi.website/event/24-02569-pge-cayuma-county-bht-407-2/
END:VEVENT
BEGIN:VEVENT
DTSTART;TZID=America/Los_Angeles:20241007T080000
DTEND;TZID=America/Los_Angeles:20241011T170000
DTSTAMP:20260422T155240
CREATED:20240909T174104Z
LAST-MODIFIED:20241003T220627Z
UID:9972-1728288000-1728666000@ghi.website
SUMMARY:24-02569 PGE CAYUMA COUNTY BHT 407
DESCRIPTION:24-02569 PGE CUYAMA (3) HEC FLIGHT REQUEST \n24-02590 24-02569 PGE CAYUMA BK117 (2) BHT 407 (1) BHT 205 10-7 THRU 10-11-2024
URL:https://ghi.website/event/24-02569-pge-cayuma-county-bht-407/
END:VEVENT
END:VCALENDAR