BEGIN:VCALENDAR
VERSION:2.0
PRODID:-//GHI Schedule - ECPv6.0.12//NONSGML v1.0//EN
CALSCALE:GREGORIAN
METHOD:PUBLISH
X-WR-CALNAME:GHI Schedule
X-ORIGINAL-URL:https://ghi.website
X-WR-CALDESC:Events for GHI Schedule
REFRESH-INTERVAL;VALUE=DURATION:PT1H
X-Robots-Tag:noindex
X-PUBLISHED-TTL:PT1H
BEGIN:VTIMEZONE
TZID:America/Los_Angeles
BEGIN:DAYLIGHT
TZOFFSETFROM:-0800
TZOFFSETTO:-0700
TZNAME:PDT
DTSTART:20240310T100000
END:DAYLIGHT
BEGIN:STANDARD
TZOFFSETFROM:-0700
TZOFFSETTO:-0800
TZNAME:PST
DTSTART:20241103T090000
END:STANDARD
END:VTIMEZONE
BEGIN:VEVENT
DTSTART;TZID=America/Los_Angeles:20240529T080000
DTEND;TZID=America/Los_Angeles:20240602T170000
DTSTAMP:20260423T025906
CREATED:20240425T190608Z
LAST-MODIFIED:20240425T190608Z
UID:9426-1716969600-1717347600@ghi.website
SUMMARY:BK 117 PILOT FLIGHT TRAINING
DESCRIPTION:
URL:https://ghi.website/event/bk-117-pilot-flight-training/
END:VEVENT
BEGIN:VEVENT
DTSTART;TZID=America/Los_Angeles:20240528T080000
DTEND;TZID=America/Los_Angeles:20240531T170000
DTSTAMP:20260423T025906
CREATED:20240508T215758Z
LAST-MODIFIED:20240508T215758Z
UID:9469-1716883200-1717174800@ghi.website
SUMMARY:CANTINA PRODUCTIONS MOAB UT BHT 407 N111GH
DESCRIPTION:5-28  FERRY \n5/29 RIG PREP \n5/30 SHOOT DAY \n5/31 FERRY
URL:https://ghi.website/event/cantina-productions-moab-ut-bht-407-n111gh/
END:VEVENT
BEGIN:VEVENT
DTSTART;TZID=America/Los_Angeles:20240528T080000
DTEND;TZID=America/Los_Angeles:20240528T170000
DTSTAMP:20260423T025906
CREATED:20240425T190530Z
LAST-MODIFIED:20240425T190530Z
UID:9424-1716883200-1716915600@ghi.website
SUMMARY:BK 117 GROUND TRAINING
DESCRIPTION:
URL:https://ghi.website/event/bk-117-ground-training/
END:VEVENT
BEGIN:VEVENT
DTSTART;TZID=America/Los_Angeles:20240524T080000
DTEND;TZID=America/Los_Angeles:20240524T170000
DTSTAMP:20260423T025906
CREATED:20240509T160040Z
LAST-MODIFIED:20240520T162151Z
UID:9483-1716537600-1716570000@ghi.website
SUMMARY:24-01115 PGE SLO BK117 POLE SET
DESCRIPTION:R.1115 rev lz \n24-01115 PGE MORRO BAY SLO BK117 POLE SET 5-24-2024 NON CAP \n  \n 
URL:https://ghi.website/event/24-01115-pge-slo-bk117-pole-set/
END:VEVENT
BEGIN:VEVENT
DTSTART;TZID=America/Los_Angeles:20240522T080000
DTEND;TZID=America/Los_Angeles:20240524T170000
DTSTAMP:20260423T025906
CREATED:20240425T144657Z
LAST-MODIFIED:20240516T203244Z
UID:9418-1716364800-1716570000@ghi.website
SUMMARY:24-00955 PGE SLO HEC BHT 407
DESCRIPTION:24-00955 PGE PISMO BEACH BHT407 HEC 5-22 THRU 5-24-2024 NON CAP \n24-00955 SLO FLIGHT REQUEST rev 1 \n 
URL:https://ghi.website/event/24-00955-pge-slo-hec-bht-407/
END:VEVENT
BEGIN:VEVENT
DTSTART;TZID=America/Los_Angeles:20240520T080000
DTEND;TZID=America/Los_Angeles:20240523T170000
DTSTAMP:20260423T025906
CREATED:20240508T225701Z
LAST-MODIFIED:20240515T192257Z
UID:9479-1716192000-1716483600@ghi.website
SUMMARY:24-01127 PGE KERN AS350B2 HEC WITH BHT 205
DESCRIPTION:24-01127 24-01038 PGE SODA LAKE 2 SHIPS AS350 AND BHT 205 5-20 THRU 5-23-2024 \n24-01127 PGE KERN AS350B2 HEC WITH BHT 205 FLIGHT REQUEST
URL:https://ghi.website/event/24-as350-with-bht-205/
END:VEVENT
BEGIN:VEVENT
DTSTART;TZID=America/Los_Angeles:20240520T080000
DTEND;TZID=America/Los_Angeles:20240523T170000
DTSTAMP:20260423T025906
CREATED:20240503T202351Z
LAST-MODIFIED:20240515T192137Z
UID:9447-1716192000-1716483600@ghi.website
SUMMARY:24-01038 PGE TAFT KERN BHT 205 POLE SET
DESCRIPTION:24-01127 24-01038 PGE SODA LAKE 2 SHIPS AS350 AND BHT 205 5-20 THRU 5-23-2024 \n24-01038 PGE TAFT KERN BHT 205 POLE SET FLIGHT REQUEST
URL:https://ghi.website/event/24-01038-pge-taft-kern-bht-205-pole-set/
END:VEVENT
BEGIN:VEVENT
DTSTART;TZID=America/Los_Angeles:20240520T080000
DTEND;TZID=America/Los_Angeles:20240521T170000
DTSTAMP:20260423T025906
CREATED:20240508T223215Z
LAST-MODIFIED:20240515T200139Z
UID:9473-1716192000-1716310800@ghi.website
SUMMARY:24-01097 PGE KERN HEC BK 117  5-20 5-21-2024
DESCRIPTION:24-01097 PGE KERN 2 SHIP HEC 5-20 AND 5-21-2024 NON CAP \n24-01097 PGE KERN (2) SHIPS HEC FLIGTH REQUEST
URL:https://ghi.website/event/24-01097-pge-kern-hec-as350-5-20-5-21-2024/
END:VEVENT
BEGIN:VEVENT
DTSTART;TZID=America/Los_Angeles:20240520T080000
DTEND;TZID=America/Los_Angeles:20240521T170000
DTSTAMP:20260423T025906
CREATED:20240508T220953Z
LAST-MODIFIED:20240515T200106Z
UID:9471-1716192000-1716310800@ghi.website
SUMMARY:24-01097 PGE KERN HEC BHT 407 5-20 5-21-2024
DESCRIPTION:24-01097 PGE KERN 2 SHIP HEC 5-20 AND 5-21-2024 NON CAP \n24-01097 PGE KERN (2) SHIPS HEC FLIGTH REQUEST
URL:https://ghi.website/event/24-01097-pge-kern-hec-bht-407-5-20-5-21-2024/
END:VEVENT
BEGIN:VEVENT
DTSTART;TZID=America/Los_Angeles:20240513T080000
DTEND;TZID=America/Los_Angeles:20240515T170000
DTSTAMP:20260423T025906
CREATED:20240425T143616Z
LAST-MODIFIED:20240425T143949Z
UID:9414-1715587200-1715792400@ghi.website
SUMMARY:24-00898 PGE SLO HEC BHT 407
DESCRIPTION:24-00898 SLO FLIGHT REQUEST
URL:https://ghi.website/event/24-00898-pge-slo-hec-bht-407/
END:VEVENT
BEGIN:VEVENT
DTSTART;TZID=America/Los_Angeles:20240512T080000
DTEND;TZID=America/Los_Angeles:20240512T170000
DTSTAMP:20260423T025906
CREATED:20240507T150302Z
LAST-MODIFIED:20240507T160916Z
UID:9460-1715500800-1715533200@ghi.website
SUMMARY:24-01095 PGE SLO BHT 407 WITH 24-00128 POLE SET
DESCRIPTION:24-00128 24-01095 SLO 2 SHIPS HEC AND POLE SET 5-12-2024 \n24-01095 PGE HEC SLO WITH 24-00128 5-12-2024 FLIGHT REQUEST
URL:https://ghi.website/event/24-01095-pge-slo-bht-407-with-24-00128-pole-set/
END:VEVENT
BEGIN:VEVENT
DTSTART;TZID=America/Los_Angeles:20240512T080000
DTEND;TZID=America/Los_Angeles:20240512T170000
DTSTAMP:20260423T025906
CREATED:20240124T205026Z
LAST-MODIFIED:20240507T160809Z
UID:9118-1715500800-1715533200@ghi.website
SUMMARY:24-00128 PGE SLO HEC POLE SET UH-1H WITH 24-01095
DESCRIPTION:24-00128 24-01095 SLO 2 SHIPS HEC AND POLE SET 5-12-2024 \n24-001287 PGE SLO UH-1H POLE SET FLIGHT REQUEST
URL:https://ghi.website/event/24-00128-pge-slo-hec-pole-set-bht-205/
END:VEVENT
BEGIN:VEVENT
DTSTART;TZID=America/Los_Angeles:20240511T080000
DTEND;TZID=America/Los_Angeles:20240511T170000
DTSTAMP:20260423T025906
CREATED:20240503T180719Z
LAST-MODIFIED:20240507T193442Z
UID:9439-1715414400-1715446800@ghi.website
SUMMARY:24-01042 PGE TEJON BHT 205 POLE SET
DESCRIPTION:24-01042 PGE TEJON LEBEC BHT 205 POLE SET 5-11-2024 \n4-01042 PGE TEJON BHT 205 POLE SET FLIGHT REQUEST
URL:https://ghi.website/event/24-01042-pge-tejon-bht-205-pole-set/
END:VEVENT
BEGIN:VEVENT
DTSTART;TZID=America/Los_Angeles:20240507T080000
DTEND;TZID=America/Los_Angeles:20240510T170000
DTSTAMP:20260423T025906
CREATED:20240418T192219Z
LAST-MODIFIED:20240503T201753Z
UID:9405-1715068800-1715360400@ghi.website
SUMMARY:24-00858 PGE MORRO BAY HEC INSULATOR BHT 407
DESCRIPTION:24-00858 PGE SLO HEC 5-7 THRU 5-10-2024 \n24-00585 MORRO BAY FLIGHT REQUEST
URL:https://ghi.website/event/24-00858-pge-morro-bay-hec-insulator-bht-407/
END:VEVENT
BEGIN:VEVENT
DTSTART;TZID=America/Los_Angeles:20240506T080000
DTEND;TZID=America/Los_Angeles:20240508T170000
DTSTAMP:20260423T025906
CREATED:20240425T145119Z
LAST-MODIFIED:20240506T153607Z
UID:9421-1714982400-1715187600@ghi.website
SUMMARY:24-00952 PGE FRESNO HEC BHT 407
DESCRIPTION:952 \n24-00952 PGE BALCH CAMP FRESNO BHT 407 HEC 5-6 THRU 5-8-2024 \n24-00952 PGE FERSNO FLIGHT REQUEST
URL:https://ghi.website/event/24-00952-pge-fresno-hec-bht-407-2/
END:VEVENT
BEGIN:VEVENT
DTSTART;TZID=America/Los_Angeles:20240430T080000
DTEND;TZID=America/Los_Angeles:20240502T170000
DTSTAMP:20260423T025906
CREATED:20240410T180831Z
LAST-MODIFIED:20240410T180831Z
UID:9389-1714464000-1714669200@ghi.website
SUMMARY:24-00842 PGE SLO 407 HEC INSULATORS
DESCRIPTION:842
URL:https://ghi.website/event/24-00842-pge-slo-407-hec-insulators/
END:VEVENT
BEGIN:VEVENT
DTSTART;TZID=America/Los_Angeles:20240430T080000
DTEND;TZID=America/Los_Angeles:20240501T170000
DTSTAMP:20260423T025906
CREATED:20240408T192842Z
LAST-MODIFIED:20240429T155642Z
UID:9380-1714464000-1714582800@ghi.website
SUMMARY:24-00624 PGE OLD WOMEN MOUNTAIN  PASSENGERS BHT 407
DESCRIPTION:24-00621 24-00624 PGE OLD WOMEN MOUNTAIN PASSENGERS AND PROPANE BOTTLES 4-30 5-1-2024 \n24-00624 PGE OLD WOMEN MOUNTAIN PROPANE PASSENGERS BHT 407 FLIGHT REQUEST
URL:https://ghi.website/event/24-00624-pge-old-women-mountain-propane-passengers-bht-407/
END:VEVENT
BEGIN:VEVENT
DTSTART;TZID=America/Los_Angeles:20240430T080000
DTEND;TZID=America/Los_Angeles:20240501T170000
DTSTAMP:20260423T025906
CREATED:20240318T164233Z
LAST-MODIFIED:20240429T155413Z
UID:9323-1714464000-1714582800@ghi.website
SUMMARY:24-00621 PGE OLD WOMEN MOUNT PROPANE  BHT 407
DESCRIPTION:24-00621 24-00624 PGE OLD WOMEN MOUNTAIN PASSENGERS AND PROPANE BOTTLES 4-30 5-1-2024 \nPGE 2024-03-18 0840 24-00621
URL:https://ghi.website/event/24-00621-pge-kern-midspan-bht-407/
END:VEVENT
BEGIN:VEVENT
DTSTART;TZID=America/Los_Angeles:20240429T080000
DTEND;TZID=America/Los_Angeles:20240430T170000
DTSTAMP:20260423T025906
CREATED:20240417T135308Z
LAST-MODIFIED:20240417T203708Z
UID:9402-1714377600-1714496400@ghi.website
SUMMARY:24-00892 PGE KINGS RIVER FRESNO HEC ARM REPLACEMNT BHT 407
DESCRIPTION:R.892
URL:https://ghi.website/event/24-00892-pge-kings-river-fresno-hec-arm-replacemnt-bht-407/
END:VEVENT
BEGIN:VEVENT
DTSTART;TZID=America/Los_Angeles:20240429T080000
DTEND;TZID=America/Los_Angeles:20240429T170000
DTSTAMP:20260423T025906
CREATED:20240429T153235Z
LAST-MODIFIED:20240429T153235Z
UID:9430-1714377600-1714410000@ghi.website
SUMMARY:24-00821 PGE MORRO BAY HEC
DESCRIPTION:24-00821 MORRO BAY HEC FLIGH REQUEST
URL:https://ghi.website/event/24-00821-pge-morro-bay-hec/
END:VEVENT
BEGIN:VEVENT
DTSTART;TZID=America/Los_Angeles:20240424T080000
DTEND;TZID=America/Los_Angeles:20240424T170000
DTSTAMP:20260423T025906
CREATED:20240416T204517Z
LAST-MODIFIED:20240416T204517Z
UID:9398-1713945600-1713978000@ghi.website
SUMMARY:PGE HEC CHECK RIDE MADERA N111GH
DESCRIPTION:
URL:https://ghi.website/event/pge-hec-check-ride-madera-n111gh/
END:VEVENT
BEGIN:VEVENT
DTSTART;TZID=America/Los_Angeles:20240422T080000
DTEND;TZID=America/Los_Angeles:20240525T170000
DTSTAMP:20260423T025906
CREATED:20240327T205240Z
LAST-MODIFIED:20240327T210557Z
UID:9365-1713772800-1716656400@ghi.website
SUMMARY:N777GH POSSIBLE MOVIE SHOOT
DESCRIPTION:
URL:https://ghi.website/event/n777gh-maintenance/
END:VEVENT
BEGIN:VEVENT
DTSTART;TZID=America/Los_Angeles:20240422T080000
DTEND;TZID=America/Los_Angeles:20240518T170000
DTSTAMP:20260423T025906
CREATED:20240118T161944Z
LAST-MODIFIED:20240118T161944Z
UID:9088-1713772800-1716051600@ghi.website
SUMMARY:AETHON IMAGING N447GH
DESCRIPTION:
URL:https://ghi.website/event/aethon-imaging-n447gh-3/
END:VEVENT
BEGIN:VEVENT
DTSTART;TZID=America/Los_Angeles:20240422T080000
DTEND;TZID=America/Los_Angeles:20240423T170000
DTSTAMP:20260423T025906
CREATED:20240416T204541Z
LAST-MODIFIED:20240416T204541Z
UID:9400-1713772800-1713891600@ghi.website
SUMMARY:ISBAO AUDIT
DESCRIPTION:
URL:https://ghi.website/event/isbao-audit/
END:VEVENT
BEGIN:VEVENT
DTSTART;TZID=America/Los_Angeles:20240419T080000
DTEND;TZID=America/Los_Angeles:20240419T170000
DTSTAMP:20260423T025906
CREATED:20240327T154117Z
LAST-MODIFIED:20240327T155929Z
UID:9363-1713513600-1713546000@ghi.website
SUMMARY:24-00714 PGE PATROL 407 BFL
DESCRIPTION:24-00714 PGE PATROL BAKERSFIELD BHT 407 PSPS EXERCISE 4-19-2024
URL:https://ghi.website/event/24-00714-pge-patrol-407-bfl/
END:VEVENT
BEGIN:VEVENT
DTSTART;TZID=America/Los_Angeles:20240419T080000
DTEND;TZID=America/Los_Angeles:20240419T170000
DTSTAMP:20260423T025906
CREATED:20240327T154043Z
LAST-MODIFIED:20240327T154043Z
UID:9359-1713513600-1713546000@ghi.website
SUMMARY:24-00716 PGE PATROL 407 BFL
DESCRIPTION:24-00716 PATROL BAKERSFIELD FLIGHT REQUEST
URL:https://ghi.website/event/24-00716-pge-patrol-407-bfl/
END:VEVENT
BEGIN:VEVENT
DTSTART;TZID=America/Los_Angeles:20240415T080000
DTEND;TZID=America/Los_Angeles:20241101T170000
DTSTAMP:20260423T025906
CREATED:20240322T171657Z
LAST-MODIFIED:20240411T140132Z
UID:9349-1713168000-1730480400@ghi.website
SUMMARY:24-00722 EPSS CONTRACT N63MJ
DESCRIPTION:FLIGTH REQUEST NUMBER 24-00722 IS FOR BILLING ONLY DAILY RATE \nAIRCRAFT MUST BE IN PLACE ON APRIL 15 \nWHEN PGE DISPATCHES AIRCRAFT THEY WILL ISSUE AN ADDITIONAL FLIGHT REQUEST TO COVER THE FLIGHT TIME BILLING \nPGE 2024-03-26 1641 24-00722
URL:https://ghi.website/event/epss-contract-a-c-tbd/
END:VEVENT
BEGIN:VEVENT
DTSTART;TZID=America/Los_Angeles:20240414T080000
DTEND;TZID=America/Los_Angeles:20240416T170000
DTSTAMP:20260423T025906
CREATED:20240313T213148Z
LAST-MODIFIED:20240410T145253Z
UID:9296-1713081600-1713286800@ghi.website
SUMMARY:24-00603 PGE KERN BHT 407 HEC
DESCRIPTION:24-00603 PGE KERN FLIGHT REQUEST rev \n603 \n24-00603 PGE KERN LOST HILLS BHT 407 HEC 4-8 THRU 4-11-2024 NON CAP \n24-00603 PGE KERN FLIGHT REQUEST
URL:https://ghi.website/event/24-00603-pge-kern-bht-407-hec/
END:VEVENT
BEGIN:VEVENT
DTSTART;TZID=America/Los_Angeles:20240411T080000
DTEND;TZID=America/Los_Angeles:20240411T170000
DTSTAMP:20260423T025906
CREATED:20240411T004951Z
LAST-MODIFIED:20240411T005159Z
UID:9392-1712822400-1712854800@ghi.website
SUMMARY:24-00612 PGE TEMPLETON UH-1H POLE SET
DESCRIPTION:24-00612 PGE TEMPLETON UH-1H POLE SET 4-11-2024 \n24-00612 TEMPLETON FLIGHT REQUEST
URL:https://ghi.website/event/24-00612-pge-templeton-uh-1h-pole-set/
END:VEVENT
BEGIN:VEVENT
DTSTART;TZID=America/Los_Angeles:20240408T080000
DTEND;TZID=America/Los_Angeles:20240408T170000
DTSTAMP:20260423T025906
CREATED:20240403T204956Z
LAST-MODIFIED:20240403T204956Z
UID:9378-1712563200-1712595600@ghi.website
SUMMARY:CHP DOT INSPECTION ON 7 FUEL TRUCKS (AARON)
DESCRIPTION:
URL:https://ghi.website/event/chp-dot-inspection-on-7-fuel-trucks-aaron/
END:VEVENT
END:VCALENDAR