BEGIN:VCALENDAR
VERSION:2.0
PRODID:-//GHI Schedule - ECPv6.0.12//NONSGML v1.0//EN
CALSCALE:GREGORIAN
METHOD:PUBLISH
X-WR-CALNAME:GHI Schedule
X-ORIGINAL-URL:https://ghi.website
X-WR-CALDESC:Events for GHI Schedule
REFRESH-INTERVAL;VALUE=DURATION:PT1H
X-Robots-Tag:noindex
X-PUBLISHED-TTL:PT1H
BEGIN:VTIMEZONE
TZID:America/Los_Angeles
BEGIN:DAYLIGHT
TZOFFSETFROM:-0800
TZOFFSETTO:-0700
TZNAME:PDT
DTSTART:20240310T100000
END:DAYLIGHT
BEGIN:STANDARD
TZOFFSETFROM:-0700
TZOFFSETTO:-0800
TZNAME:PST
DTSTART:20241103T090000
END:STANDARD
END:VTIMEZONE
BEGIN:VEVENT
DTSTART;TZID=America/Los_Angeles:20240403T080000
DTEND;TZID=America/Los_Angeles:20240404T170000
DTSTAMP:20260423T041908
CREATED:20240207T175912Z
LAST-MODIFIED:20240207T175912Z
UID:9155-1712131200-1712250000@ghi.website
SUMMARY:DOI INSPECTION 498PT  447GH  111GH
DESCRIPTION:
URL:https://ghi.website/event/doi-inspection-498pt-447gh-111gh/
END:VEVENT
BEGIN:VEVENT
DTSTART;TZID=America/Los_Angeles:20240401T080000
DTEND;TZID=America/Los_Angeles:20240405T170000
DTSTAMP:20260423T041908
CREATED:20240318T152052Z
LAST-MODIFIED:20240322T162513Z
UID:9315-1711958400-1712336400@ghi.website
SUMMARY:24-00571 PGE TEMBLOR SLO BK 117
DESCRIPTION:24-00571 PGE SLO (2) HEC SHIPS 4-1 THRU 4-5-2024 \n24-00571 PGE SLO 4-1THRU 4-5 FLIGHT REQUEST
URL:https://ghi.website/event/24-00571-pge-temblor-slo-bk-117/
END:VEVENT
BEGIN:VEVENT
DTSTART;TZID=America/Los_Angeles:20240401T080000
DTEND;TZID=America/Los_Angeles:20240405T170000
DTSTAMP:20260423T041908
CREATED:20240318T152010Z
LAST-MODIFIED:20240322T162257Z
UID:9312-1711958400-1712336400@ghi.website
SUMMARY:24-00571 PGE TEMBLOR SLO BHT 407
DESCRIPTION:24-00571 PGE SLO (2) HEC SHIPS 4-1 THRU 4-5-2024 \n24-00571 PGE SLO 4-1THRU 4-5 FLIGHT REQUEST
URL:https://ghi.website/event/24-00571-pge-temblor-slo-bht-407/
END:VEVENT
BEGIN:VEVENT
DTSTART;TZID=America/Los_Angeles:20240330T080000
DTEND;TZID=America/Los_Angeles:20240330T170000
DTSTAMP:20260423T041908
CREATED:20240313T155831Z
LAST-MODIFIED:20240322T154141Z
UID:9290-1711785600-1711818000@ghi.website
SUMMARY:24-00528 PGE MORRO BAY HEC BHT 407
DESCRIPTION:24-00528 PGE MORRO BAY BHT 407 3-30-2024 \n24-00528 PGE MORRO BAY FLIGHT REQUEST
URL:https://ghi.website/event/24-00528-pge-morro-bay-hec-bht-407/
END:VEVENT
BEGIN:VEVENT
DTSTART;TZID=America/Los_Angeles:20240329T080000
DTEND;TZID=America/Los_Angeles:20240531T170000
DTSTAMP:20260423T041908
CREATED:20240327T151745Z
LAST-MODIFIED:20240327T151745Z
UID:9352-1711699200-1717174800@ghi.website
SUMMARY:24-00555 PGE AIC N55TV AETHON
DESCRIPTION:555
URL:https://ghi.website/event/24-00555-pge-aic-n55tv-aethon/
END:VEVENT
BEGIN:VEVENT
DTSTART;TZID=America/Los_Angeles:20240329T080000
DTEND;TZID=America/Los_Angeles:20240329T170000
DTSTAMP:20260423T041908
CREATED:20240313T155308Z
LAST-MODIFIED:20240322T152653Z
UID:9287-1711699200-1711731600@ghi.website
SUMMARY:24-00527 PGE  SLO BHT 407 HEC (2)
DESCRIPTION:24-00527 PGE ARROYO GRANDE HEC (2 ) SHIPS 3-29-2024 \nPGE 2024-03-10 0855 24-00527 \n24-00527 PGE ARROYO GRANDE HEC (2 ) SHIPS 3-29-2024
URL:https://ghi.website/event/24-00527-pge-slo-bht-407-hec-2-2/
END:VEVENT
BEGIN:VEVENT
DTSTART;TZID=America/Los_Angeles:20240329T080000
DTEND;TZID=America/Los_Angeles:20240329T170000
DTSTAMP:20260423T041908
CREATED:20240313T155237Z
LAST-MODIFIED:20240322T152414Z
UID:9284-1711699200-1711731600@ghi.website
SUMMARY:24-00527 PGE  SLO BHT 407 HEC (2)
DESCRIPTION:24-00527 PGE ARROYO GRANDE HEC (2 ) SHIPS 3-29-2024 \nPGE 2024-03-10 0855 24-00527 \n24-00527 PGE SLO HEC (2) FLIGHT REQUEST
URL:https://ghi.website/event/24-00527-pge-slo-bht-407-hec-2/
END:VEVENT
BEGIN:VEVENT
DTSTART;TZID=America/Los_Angeles:20240328T080000
DTEND;TZID=America/Los_Angeles:20240328T170000
DTSTAMP:20260423T041908
CREATED:20240313T154742Z
LAST-MODIFIED:20240322T150216Z
UID:9281-1711612800-1711645200@ghi.website
SUMMARY:24-00501 PGE SLO HEC POLE SET BHT 407
DESCRIPTION:24-00501 PGE ARROYO GRANDE POLE SET BHT 205 3-28-2024 \n24-00501 PGE FLIGHT REQUEST
URL:https://ghi.website/event/24-00501-pge-slo-hec-pole-set-bht-407/
END:VEVENT
BEGIN:VEVENT
DTSTART;TZID=America/Los_Angeles:20240324T080000
DTEND;TZID=America/Los_Angeles:20240324T170000
DTSTAMP:20260423T041908
CREATED:20240221T175218Z
LAST-MODIFIED:20240318T181735Z
UID:9203-1711267200-1711299600@ghi.website
SUMMARY:24-00413 PGE SLO HEC BHT 407
DESCRIPTION:24-00413 PGE PISMO BHT 407 NON CAP 2-24-2024 \n24-00413 SLO FLIGHT REQUEST REV
URL:https://ghi.website/event/24-00413-pge-slo-hec-bht-407-2/
END:VEVENT
BEGIN:VEVENT
DTSTART;TZID=America/Los_Angeles:20240324T080000
DTEND;TZID=America/Los_Angeles:20240324T170000
DTSTAMP:20260423T041908
CREATED:20240221T175135Z
LAST-MODIFIED:20240318T181815Z
UID:9200-1711267200-1711299600@ghi.website
SUMMARY:24-00413 PGE SLO HEC BHT 407
DESCRIPTION:24-00413 PGE PISMO BHT 407 NON CAP 2-24-2024 \n24-00413 SLO FLIGHT REQUEST REV
URL:https://ghi.website/event/24-00413-pge-slo-hec-bht-407/
END:VEVENT
BEGIN:VEVENT
DTSTART;TZID=America/Los_Angeles:20240323T080000
DTEND;TZID=America/Los_Angeles:20240323T170000
DTSTAMP:20260423T041908
CREATED:20240315T192541Z
LAST-MODIFIED:20240318T151138Z
UID:9305-1711180800-1711213200@ghi.website
SUMMARY:24-00642 PGE BHT 205 HEC POLE SET KERN
DESCRIPTION:PGE 2024-03-15 0805 24-00642 \n24-00642 PGE KERN BHT 205 HEC POLE SET FLIGHT REQUEST
URL:https://ghi.website/event/24-00642-pge-bht-205-hec-pole-set-kern/
END:VEVENT
BEGIN:VEVENT
DTSTART;TZID=America/Los_Angeles:20240323T080000
DTEND;TZID=America/Los_Angeles:20240323T170000
DTSTAMP:20260423T041908
CREATED:20240313T153001Z
LAST-MODIFIED:20240315T192225Z
UID:9276-1711180800-1711213200@ghi.website
SUMMARY:24-00526 PGE MARRO SLO HEC BHT 407
DESCRIPTION:24-00526 MORRO BAY BHT 407 HEC 3-23-2024 NON CAP \n24-00526 MORRO BAY FLIGHT REQUEST
URL:https://ghi.website/event/24-00526-pge-marro-slo-hec-bht-407/
END:VEVENT
BEGIN:VEVENT
DTSTART;TZID=America/Los_Angeles:20240320T080000
DTEND;TZID=America/Los_Angeles:20240320T170000
DTSTAMP:20260423T041908
CREATED:20240226T180121Z
LAST-MODIFIED:20240315T181333Z
UID:9226-1710921600-1710954000@ghi.website
SUMMARY:24-00397 PGE ARROYO GRANDE BK117 HEC POLE SET
DESCRIPTION:24-00397 PGE ARROYO GRANDE HEC POLE SET 3-20-2024. \n24-00397 PGE MORRO BAY FLIGHT REQUEST
URL:https://ghi.website/event/24-00397-pge-arroyo-grande-bk117-hec-pole-set/
END:VEVENT
BEGIN:VEVENT
DTSTART;TZID=America/Los_Angeles:20240319T080000
DTEND;TZID=America/Los_Angeles:20240319T170000
DTSTAMP:20260423T041908
CREATED:20240304T201441Z
LAST-MODIFIED:20240315T173134Z
UID:9250-1710835200-1710867600@ghi.website
SUMMARY:24-00445 PGE SLO BK117 HEC POLE SET
DESCRIPTION:24-00445 PGE LOS PADRE SLO CAMBRIA BHT 407 3-19-2024 POLE SET \nPGE 2024-03-04 1210 24-00445
URL:https://ghi.website/event/24-00445-pge-slo-bk117-hec-pole-set/
END:VEVENT
BEGIN:VEVENT
DTSTART;TZID=America/Los_Angeles:20240312T080000
DTEND;TZID=America/Los_Angeles:20240315T170000
DTSTAMP:20260423T041908
CREATED:20240221T174158Z
LAST-MODIFIED:20240308T195336Z
UID:9198-1710230400-1710522000@ghi.website
SUMMARY:24-00395 PGE SLO HEC BHT 407
DESCRIPTION:24-00395 PGE SLO (2) SHIPS FLIGHT REQUEST \n24-00395 PGE SLO SANTA MARGARITA SLO (2) SHIPS HEC 3-12 THRU 3-15-2024 \n24-00395 PGE SLO (2) SHIPS FLIGHT REQUEST \n 
URL:https://ghi.website/event/24-00395-pge-slo-hec-bht-407/
END:VEVENT
BEGIN:VEVENT
DTSTART;TZID=America/Los_Angeles:20240312T080000
DTEND;TZID=America/Los_Angeles:20240315T170000
DTSTAMP:20260423T041908
CREATED:20240221T174026Z
LAST-MODIFIED:20240308T195406Z
UID:9194-1710230400-1710522000@ghi.website
SUMMARY:24-00395 SLO HEC BHT 407
DESCRIPTION:24-00395 PGE SLO SANTA MARGARITA SLO (2) SHIPS HEC 3-12 THRU 3-15-2024 \n24-00395 PGE SLO (2) SHIPS FLIGHT REQUEST \n 
URL:https://ghi.website/event/24-00395-slo-hec-bht-407/
END:VEVENT
BEGIN:VEVENT
DTSTART;TZID=America/Los_Angeles:20240311T080000
DTEND;TZID=America/Los_Angeles:20240315T170000
DTSTAMP:20260423T041908
CREATED:20240221T180530Z
LAST-MODIFIED:20240308T193629Z
UID:9205-1710144000-1710522000@ghi.website
SUMMARY:24-00423 PGE FRSNO AS350 HEC
DESCRIPTION:24-00423 PGE COALINGA PARKFIELD JUNCTION HEC 3-11 THRU 3-15-2024 \nR.423 \nR.423
URL:https://ghi.website/event/24-00423-pge-frsno-as350-hec/
END:VEVENT
BEGIN:VEVENT
DTSTART;TZID=America/Los_Angeles:20240309T080000
DTEND;TZID=America/Los_Angeles:20240309T170000
DTSTAMP:20260423T041908
CREATED:20240228T152944Z
LAST-MODIFIED:20240307T203001Z
UID:9231-1709971200-1710003600@ghi.website
SUMMARY:CERRITOS CENTER BHT 205 A/C UNITS CAL WEST MECHANICAL
DESCRIPTION:Signed- CERRITOS CENTER CAL WEST MECHANICAL GHI CONGESTED AREA LIFT PLAN 2-26-2024 \nCERRITOS CENTER CAL WEST MECHANICAL GHI CONGESTED AREA LIFT PLAN 2-26-2024
URL:https://ghi.website/event/cerritos-center-bht-205-a-c-units/
END:VEVENT
BEGIN:VEVENT
DTSTART;TZID=America/Los_Angeles:20240305T080000
DTEND;TZID=America/Los_Angeles:20240308T170000
DTSTAMP:20260423T041908
CREATED:20240108T233016Z
LAST-MODIFIED:20240229T183139Z
UID:9042-1709625600-1709917200@ghi.website
SUMMARY:23-05043 KERN COUNTY HEC 407 START AFTER SAFETY STAND DOWN
DESCRIPTION:~temp14 \n34-05043 PGE BUTTON WILLOW HEC BHT407 3-5-3-8-2024
URL:https://ghi.website/event/23-05043-kern-county-hec-407/
END:VEVENT
BEGIN:VEVENT
DTSTART;TZID=America/Los_Angeles:20240305T080000
DTEND;TZID=America/Los_Angeles:20240305T170000
DTSTAMP:20260423T041908
CREATED:20240228T152644Z
LAST-MODIFIED:20240228T152644Z
UID:9229-1709625600-1709658000@ghi.website
SUMMARY:PGE SAFETY STAND DOWN NOT FLY BEFORE RELEASED
DESCRIPTION:
URL:https://ghi.website/event/pge-safety-stand-down-not-fly-before-released/
END:VEVENT
BEGIN:VEVENT
DTSTART;TZID=America/Los_Angeles:20240305T080000
DTEND;TZID=America/Los_Angeles:20240305T170000
DTSTAMP:20260423T041908
CREATED:20240207T175134Z
LAST-MODIFIED:20240207T175409Z
UID:9152-1709625600-1709658000@ghi.website
SUMMARY:FOREST SERVICE INSPECTION N216 N211 N407 N777
DESCRIPTION:
URL:https://ghi.website/event/forest-service-inspection-n216-n211-n407-n777/
END:VEVENT
BEGIN:VEVENT
DTSTART;TZID=America/Los_Angeles:20240304T080000
DTEND;TZID=America/Los_Angeles:20240307T170000
DTSTAMP:20260423T041908
CREATED:20240226T175037Z
LAST-MODIFIED:20240308T185022Z
UID:9223-1709539200-1709830800@ghi.website
SUMMARY:24-00453 PGE MORRO BAY BK117 HEC
DESCRIPTION:24-00453 PGE SLO MORRO BAY BHT 407 HEC 3-4 THRU 3-9-2024 \nr.453 \n24-00543 MORRO BAY FLIGHT REQUEST
URL:https://ghi.website/event/24-00453-pge-morro-bay-bk117-hec/
END:VEVENT
BEGIN:VEVENT
DTSTART;TZID=America/Los_Angeles:20240229T080000
DTEND;TZID=America/Los_Angeles:20240301T170000
DTSTAMP:20260423T041908
CREATED:20240221T171801Z
LAST-MODIFIED:20240222T202724Z
UID:9185-1709193600-1709312400@ghi.website
SUMMARY:24-00407 PGE MONTEREY HEC AS350
DESCRIPTION:24-00407 PGE SALINAS MONTERY HEC BHT 407 AND AS350 2-23 THRU 3-1-24 \nPGE 2024-02-21 0915 24-00407
URL:https://ghi.website/event/24-00407-pge-monterey-hec-as350-2/
END:VEVENT
BEGIN:VEVENT
DTSTART;TZID=America/Los_Angeles:20240228T080000
DTEND;TZID=America/Los_Angeles:20240301T170000
DTSTAMP:20260423T041908
CREATED:20240221T171555Z
LAST-MODIFIED:20240222T202649Z
UID:9177-1709107200-1709312400@ghi.website
SUMMARY:24-00407 PGE MONTEREY HEC BHT 407
DESCRIPTION:24-00407 PGE SALINAS MONTERY HEC BHT 407 AND AS350 2-23 THRU 3-1-24 \nPGE 2024-02-21 0915 24-00407
URL:https://ghi.website/event/24-00407-pge-monterey-hec-bht-407-2/
END:VEVENT
BEGIN:VEVENT
DTSTART;TZID=America/Los_Angeles:20240228T080000
DTEND;TZID=America/Los_Angeles:20240228T170000
DTSTAMP:20260423T041908
CREATED:20240214T180635Z
LAST-MODIFIED:20240223T183824Z
UID:9169-1709107200-1709139600@ghi.website
SUMMARY:24-00299 PGE TEMPLETON BHT 407 HEC
DESCRIPTION:24-00299 FLIGHT REQUEST \n24-00299 PGE TEMPLETON AVENAL BHT 407 HEC 2-28-2024
URL:https://ghi.website/event/24-00299-pge-templeton-bht-407-hec/
END:VEVENT
BEGIN:VEVENT
DTSTART;TZID=America/Los_Angeles:20240228T080000
DTEND;TZID=America/Los_Angeles:20240228T170000
DTSTAMP:20260423T041908
CREATED:20240124T205659Z
LAST-MODIFIED:20240223T190419Z
UID:9122-1709107200-1709139600@ghi.website
SUMMARY:24-00160 24-00138 PGE TEMPLETON HEC RECON BHT 407
DESCRIPTION:24-00138 24-00160 PGE TEMPLETON AVENAL BHT 407 HEC 2-28-2024 \n138 \nR.160 \n~temp7 \nR.160
URL:https://ghi.website/event/24-00160-24-00138-pge-templeton-hec-recon-bht-407/
END:VEVENT
BEGIN:VEVENT
DTSTART;TZID=America/Los_Angeles:20240227T080000
DTEND;TZID=America/Los_Angeles:20240227T170000
DTSTAMP:20260423T041908
CREATED:20240221T171733Z
LAST-MODIFIED:20240222T161313Z
UID:9183-1709020800-1709053200@ghi.website
SUMMARY:24-00407 PGE MONTEREY HEC AS350
DESCRIPTION:24-00407 PGE SALINAS MONTERY HEC BHT 407 AND AS350 2-23 THRU 3-1-24 \nPGE 2024-02-21 0915 24-00407
URL:https://ghi.website/event/24-00407-pge-monterey-hec-as350/
END:VEVENT
BEGIN:VEVENT
DTSTART;TZID=America/Los_Angeles:20240227T080000
DTEND;TZID=America/Los_Angeles:20240227T170000
DTSTAMP:20260423T041908
CREATED:20240221T171630Z
LAST-MODIFIED:20240222T161340Z
UID:9179-1709020800-1709053200@ghi.website
SUMMARY:24-00407 PGE MONTEREY HEC BHT 407
DESCRIPTION:24-00407 PGE SALINAS MONTERY HEC BHT 407 AND AS350 2-23 THRU 3-1-24 \nPGE 2024-02-21 0915 24-00407
URL:https://ghi.website/event/24-00407-pge-monterey-hec-bht-407-3/
END:VEVENT
BEGIN:VEVENT
DTSTART;TZID=America/Los_Angeles:20240226T080000
DTEND;TZID=America/Los_Angeles:20240317T170000
DTSTAMP:20260423T041908
CREATED:20240118T161823Z
LAST-MODIFIED:20240215T173001Z
UID:9084-1708934400-1710694800@ghi.website
SUMMARY:AETHON IMAGING N447GH 24-00142
DESCRIPTION:24-00142
URL:https://ghi.website/event/aethon-imaging-n447gh/
END:VEVENT
BEGIN:VEVENT
DTSTART;TZID=America/Los_Angeles:20240226T080000
DTEND;TZID=America/Los_Angeles:20240226T170000
DTSTAMP:20260423T041908
CREATED:20240212T145004Z
LAST-MODIFIED:20240212T145004Z
UID:9157-1708934400-1708966800@ghi.website
SUMMARY:S AND S LONG LINE TRAINING 407
DESCRIPTION:
URL:https://ghi.website/event/s-and-s-long-line-training-407/
END:VEVENT
END:VCALENDAR