BEGIN:VCALENDAR
VERSION:2.0
PRODID:-//GHI Schedule - ECPv6.0.12//NONSGML v1.0//EN
CALSCALE:GREGORIAN
METHOD:PUBLISH
X-WR-CALNAME:GHI Schedule
X-ORIGINAL-URL:https://ghi.website
X-WR-CALDESC:Events for GHI Schedule
REFRESH-INTERVAL;VALUE=DURATION:PT1H
X-Robots-Tag:noindex
X-PUBLISHED-TTL:PT1H
BEGIN:VTIMEZONE
TZID:America/Los_Angeles
BEGIN:DAYLIGHT
TZOFFSETFROM:-0800
TZOFFSETTO:-0700
TZNAME:PDT
DTSTART:20240310T100000
END:DAYLIGHT
BEGIN:STANDARD
TZOFFSETFROM:-0700
TZOFFSETTO:-0800
TZNAME:PST
DTSTART:20241103T090000
END:STANDARD
END:VTIMEZONE
BEGIN:VEVENT
DTSTART;TZID=America/Los_Angeles:20240828T080000
DTEND;TZID=America/Los_Angeles:20240828T170000
DTSTAMP:20260422T230204
CREATED:20240711T153423Z
LAST-MODIFIED:20240711T153832Z
UID:9691-1724832000-1724864400@ghi.website
SUMMARY:PGE HELI OPS LEADERSHIP & SAFETY FORUM
DESCRIPTION:3410 WESTTOVER ST MCCLELLAN PARK \nPHIL \nMIKE \nROBERT
URL:https://ghi.website/event/pge-heli-ops-leadership-safety-forum/
END:VEVENT
BEGIN:VEVENT
DTSTART;TZID=America/Los_Angeles:20240827T080000
DTEND;TZID=America/Los_Angeles:20240827T170000
DTSTAMP:20260422T230204
CREATED:20240812T143414Z
LAST-MODIFIED:20240826T154816Z
UID:9823-1724745600-1724778000@ghi.website
SUMMARY:24-02197 PGE SLO BHT 407 HEC
DESCRIPTION:24-02197 PGE SLO BHT 407 HEC 8-27-2024 \n24-02197 PGE SLO BHT 407 HEC 8-27-2024 NON -CAP
URL:https://ghi.website/event/24-02197-pge-slo-bht-407-hec/
END:VEVENT
BEGIN:VEVENT
DTSTART;TZID=America/Los_Angeles:20240824T080000
DTEND;TZID=America/Los_Angeles:20240825T170000
DTSTAMP:20260422T230204
CREATED:20240812T143034Z
LAST-MODIFIED:20240821T155357Z
UID:9820-1724486400-1724605200@ghi.website
SUMMARY:24-02237 PGE AMODER COUNTY BHT 205 CARGO
DESCRIPTION:24-02237 PGE PIONEER BHT 205 POLE SET 8-24 AND 8-25-2024 NON CAP \n24-02237 PGE AMODER COUNTY BHT 205 FLIGHT REQUEST
URL:https://ghi.website/event/24-02237-pge-amoder-county-bht-205-cargo/
END:VEVENT
BEGIN:VEVENT
DTSTART;TZID=America/Los_Angeles:20240822T080000
DTEND;TZID=America/Los_Angeles:20240822T170000
DTSTAMP:20260422T230204
CREATED:20240725T210230Z
LAST-MODIFIED:20240820T184434Z
UID:9754-1724313600-1724346000@ghi.website
SUMMARY:24-02014 PGE SLO BHT 407 HEC SUPPORT -02016
DESCRIPTION:24-02014 PGE PISMO BH117 HEC SUPPORT 02016 8-22-2024 NON CAP \n24-02014 PGE SLO BK117 HEC SUPPORT 24-02016 8-22-2024 FLIGHT REQUEST \n24-02014 PGE SLO BHT 407 HEC SUPPORT 24-02016 8-22-2024 FLIGHT REQUEST
URL:https://ghi.website/event/24-02014-pge-slo-bht-407-hec-support-02016/
END:VEVENT
BEGIN:VEVENT
DTSTART;TZID=America/Los_Angeles:20240822T080000
DTEND;TZID=America/Los_Angeles:20240822T170000
DTSTAMP:20260422T230204
CREATED:20240725T205602Z
LAST-MODIFIED:20240820T183543Z
UID:9750-1724313600-1724346000@ghi.website
SUMMARY:24-02016 PGE SLO BHT 205 POLE SET
DESCRIPTION:24-02016 PGE PISMO BHT 205 POLE SET 8-22-2024 NON CAP \n24-012016 PGE SLO BHT 205
URL:https://ghi.website/event/24-02016-pge-slo-bht-205-pole-set/
END:VEVENT
BEGIN:VEVENT
DTSTART;TZID=America/Los_Angeles:20240820T080000
DTEND;TZID=America/Los_Angeles:20240821T170000
DTSTAMP:20260422T230204
CREATED:20240730T161312Z
LAST-MODIFIED:20240730T161312Z
UID:9780-1724140800-1724259600@ghi.website
SUMMARY:24-01814 PGE NEVADA COUNTY BHT 205 POLE
DESCRIPTION:24-01814 PGE PLACER COUNTY FLIGHT REQUEST
URL:https://ghi.website/event/24-01814-pge-nevada-county-bht-205-pole/
END:VEVENT
BEGIN:VEVENT
DTSTART;TZID=America/Los_Angeles:20240818T080000
DTEND;TZID=America/Los_Angeles:20240820T170000
DTSTAMP:20260422T230204
CREATED:20240806T153932Z
LAST-MODIFIED:20240813T212913Z
UID:9812-1723968000-1724173200@ghi.website
SUMMARY:24-02163 PGE SANTA CRUZ BHT407 HEC CARGO
DESCRIPTION:24-02163 SANTA CRUZ BHT407 BK117 HEC CARGO 8-18 THRU 8-20-2024 NON CAP \nR2163
URL:https://ghi.website/event/24-02163-pge-santa-cruz-bht407-hec-cargo/
END:VEVENT
BEGIN:VEVENT
DTSTART;TZID=America/Los_Angeles:20240818T080000
DTEND;TZID=America/Los_Angeles:20240820T170000
DTSTAMP:20260422T230204
CREATED:20240806T153808Z
LAST-MODIFIED:20240813T212840Z
UID:9809-1723968000-1724173200@ghi.website
SUMMARY:24-02163 PGE SANTA CRUZ BK117  CARGO
DESCRIPTION:24-02163 SANTA CRUZ BHT407 BK117 HEC CARGO 8-18 THRU 8-20-2024 NON CAP \nR2163 \nR2163
URL:https://ghi.website/event/24-02163-pge-santa-cruz-bk117-cargo/
END:VEVENT
BEGIN:VEVENT
DTSTART;TZID=America/Los_Angeles:20240816T080000
DTEND;TZID=America/Los_Angeles:20240817T170000
DTSTAMP:20260422T230204
CREATED:20240726T144011Z
LAST-MODIFIED:20240817T003053Z
UID:9757-1723795200-1723914000@ghi.website
SUMMARY:24-02073 PGE BEAR VALLEY BK117 POLE SET
DESCRIPTION:PGE 2024-07-26 0746 24-02073 rev 1 \n24-02073 PGE BEAR VALLEY BK117 FLIGHT REQUEST \n24-02073 PGE MARIPOSA BK117 POLE SET 8-17-2024 NON CAP \nPGE 2024-07-26 0746 24-02073 \n24-02073 PGE BEAR VALLEY BK117 FLIGHT REQUEST
URL:https://ghi.website/event/24-02073-pge-bear-valley-bk117-pole-set/
END:VEVENT
BEGIN:VEVENT
DTSTART;TZID=America/Los_Angeles:20240810T080000
DTEND;TZID=America/Los_Angeles:20240817T170000
DTSTAMP:20260422T230204
CREATED:20240725T145739Z
LAST-MODIFIED:20240806T162238Z
UID:9741-1723276800-1723914000@ghi.website
SUMMARY:24-02036 PGE HAT CREEK BHT 205
DESCRIPTION:24-02036 PGE HAT CREEK BHT 205 POLE SET 8-6 8-7 8-1 THRU 8-17-2024 NON CAP \n24-02036 PGE HAT CREEK FLIGHT REQUEST
URL:https://ghi.website/event/24-02036-pge-hat-creek-bht-205/
END:VEVENT
BEGIN:VEVENT
DTSTART;TZID=America/Los_Angeles:20240806T080000
DTEND;TZID=America/Los_Angeles:20240807T170000
DTSTAMP:20260422T230204
CREATED:20240805T184737Z
LAST-MODIFIED:20240806T162213Z
UID:9805-1722931200-1723050000@ghi.website
SUMMARY:24-02036 PGE HAT CREEK BHT 205
DESCRIPTION:24-02036 PGE HAT CREEK BHT 205 POLE SET 8-6 8-7 8-1 THRU 8-17-2024 NON CAP \n24-02036 PGE HAT CREEK FLIGHT REQUEST
URL:https://ghi.website/event/24-02036-pge-hat-creek-bht-205-2/
END:VEVENT
BEGIN:VEVENT
DTSTART;TZID=America/Los_Angeles:20240804T080000
DTEND;TZID=America/Los_Angeles:20240807T170000
DTSTAMP:20260422T230204
CREATED:20240708T131220Z
LAST-MODIFIED:20240802T211348Z
UID:9671-1722758400-1723050000@ghi.website
SUMMARY:24-01659 PGE MORRO BAY BK117 (2)
DESCRIPTION:24-01659 PGE MORRO BAY (2) BK117 HEC 8-4 THRU 8-7-2024 NON CAP \nPGE 2024-07-09 1011 24-01659 \n1659
URL:https://ghi.website/event/24-01659-pge-morro-bay-bk117-2/
END:VEVENT
BEGIN:VEVENT
DTSTART;TZID=America/Los_Angeles:20240804T080000
DTEND;TZID=America/Los_Angeles:20240807T170000
DTSTAMP:20260422T230204
CREATED:20240708T131028Z
LAST-MODIFIED:20240802T211558Z
UID:9668-1722758400-1723050000@ghi.website
SUMMARY:24-01659 PGE MORRO BAY HEC BK117(2)
DESCRIPTION:24-01659 PGE MORRO BAY (2) BK117 HEC 8-4 THRU 8-7-2024 NON CAP \nPGE 2024-07-09 1011 24-01659 \n1659
URL:https://ghi.website/event/24-01659-pge-morro-bay-hec-bk1172/
END:VEVENT
BEGIN:VEVENT
DTSTART;TZID=America/Los_Angeles:20240731T080000
DTEND;TZID=America/Los_Angeles:20240731T170000
DTSTAMP:20260422T230204
CREATED:20240710T140155Z
LAST-MODIFIED:20240725T185547Z
UID:9680-1722412800-1722445200@ghi.website
SUMMARY:24-01822 PGE EAGLE ROCK BHT205 POLE SET
DESCRIPTION:24-01822 PGE EAGLE ROCK BHT 205 POLE SET NON CAP 7-31-2024 \n24-01822 PGE EAGLE ROCK FLIGHT REQUEST \n24-01822 PGE EAGLE ROCK FLIGHT REQUEST
URL:https://ghi.website/event/24-01822-pge-eagle-rock-bht205-pole-set/
END:VEVENT
BEGIN:VEVENT
DTSTART;TZID=America/Los_Angeles:20240730T080000
DTEND;TZID=America/Los_Angeles:20240730T170000
DTSTAMP:20260422T230204
CREATED:20240712T161655Z
LAST-MODIFIED:20240712T161655Z
UID:9693-1722326400-1722358800@ghi.website
SUMMARY:SARENSON 205
DESCRIPTION:
URL:https://ghi.website/event/sarenson-205/
END:VEVENT
BEGIN:VEVENT
DTSTART;TZID=America/Los_Angeles:20240727T080000
DTEND;TZID=America/Los_Angeles:20240801T170000
DTSTAMP:20260422T230204
CREATED:20240627T150500Z
LAST-MODIFIED:20240719T160639Z
UID:9601-1722067200-1722531600@ghi.website
SUMMARY:24-01610 PGE MORRO BAY (2) BHT 407 HEC
DESCRIPTION:24-01610 PGE MORRO BAY 7-28 8-01 BK117 HEC NON CAP \nPGE 2024-07-01 1807 24-01610 \n24-01610 PGE MORRO BAY FLIGHT REQUEST
URL:https://ghi.website/event/24-01610-pge-morro-bay-2-bht-407-hec-2/
END:VEVENT
BEGIN:VEVENT
DTSTART;TZID=America/Los_Angeles:20240727T080000
DTEND;TZID=America/Los_Angeles:20240801T170000
DTSTAMP:20260422T230204
CREATED:20240627T150425Z
LAST-MODIFIED:20240719T160835Z
UID:9598-1722067200-1722531600@ghi.website
SUMMARY:24-01610 PGE MORRO BAY (2) BHT 407 HEC
DESCRIPTION:24-01610 PGE MORRO BAY 7-28 8-01 BK117 HEC NON CAP \nPGE 2024-07-01 1807 24-01610 \n24-01610 PGE MORRO BAY FLIGHT REQUEST
URL:https://ghi.website/event/24-01610-pge-morro-bay-2-bht-407-hec/
END:VEVENT
BEGIN:VEVENT
DTSTART;TZID=America/Los_Angeles:20240726T080000
DTEND;TZID=America/Los_Angeles:20240726T170000
DTSTAMP:20260422T230204
CREATED:20240715T174050Z
LAST-MODIFIED:20240719T150423Z
UID:9706-1721980800-1722013200@ghi.website
SUMMARY:24-01857 PGE MONTEREY COUNTY BHT 205 POLE SET
DESCRIPTION:24-01857 PGE COALINGA BHT 205 POLE SET 7-26-2024 NON CAP \nR1857
URL:https://ghi.website/event/24-01857-pge-monterey-county-bht-205-pole-set/
END:VEVENT
BEGIN:VEVENT
DTSTART;TZID=America/Los_Angeles:20240725T080000
DTEND;TZID=America/Los_Angeles:20240725T170000
DTSTAMP:20260422T230204
CREATED:20240724T154109Z
LAST-MODIFIED:20240724T201040Z
UID:9736-1721894400-1721926800@ghi.website
SUMMARY:24-01608 PGE MARIPOSA BHT 205 POLE REMOVAL
DESCRIPTION:24-01608 PGE MARIPOSA BHT 205 POLE REMOVAL NON CAP 7-25-2024 \n24-01608 PGE FLIGHT REQUEST
URL:https://ghi.website/event/24-01608-pge-mariposa-bht-205-pole-removal/
END:VEVENT
BEGIN:VEVENT
DTSTART;TZID=America/Los_Angeles:20240719T080000
DTEND;TZID=America/Los_Angeles:20240719T170000
DTSTAMP:20260422T230204
CREATED:20240703T181152Z
LAST-MODIFIED:20240715T173131Z
UID:9664-1721376000-1721408400@ghi.website
SUMMARY:24-01736 PGE BK117 HEC POLE SET
DESCRIPTION:24-01736 PGE SAN ANDREAS BK 117 7-19-2024 NON CAP. \n24-01736 PGE BK117 HEC POLE SET 8-19-2024
URL:https://ghi.website/event/24-01736-pge-bk117-hec-pole-set/
END:VEVENT
BEGIN:VEVENT
DTSTART;TZID=America/Los_Angeles:20240718T080000
DTEND;TZID=America/Los_Angeles:20240718T170000
DTSTAMP:20260422T230204
CREATED:20240703T175046Z
LAST-MODIFIED:20240711T150742Z
UID:9659-1721289600-1721322000@ghi.website
SUMMARY:24-01735 PGE CALVERAS BK 117 HEC SUPPORT 01739 AND POLE SET
DESCRIPTION:24-01735 24-01739 PGE SAN ANDREAS BK 117 BHT 205 7-18-2024 NON CAP \n24-01735 PGE CALVERAS FLIGHT REQUEST
URL:https://ghi.website/event/24-01735-pge-calveras-hec-support-01739-and-pole-set/
END:VEVENT
BEGIN:VEVENT
DTSTART;TZID=America/Los_Angeles:20240718T080000
DTEND;TZID=America/Los_Angeles:20240718T170000
DTSTAMP:20260422T230204
CREATED:20240703T174316Z
LAST-MODIFIED:20240711T150816Z
UID:9656-1721289600-1721322000@ghi.website
SUMMARY:24-01739 PGE CALVERAS BHT 205 718-2024
DESCRIPTION:24-01735 24-01739 PGE SAN ANDREAS BK 117 BHT 205 7-18-2024 NON CAP \n24-01739 HEC LIFT FLIGHT REQUEST
URL:https://ghi.website/event/24-01739-pge-calveras-bht-205-718-2024/
END:VEVENT
BEGIN:VEVENT
DTSTART;TZID=America/Los_Angeles:20240716T080000
DTEND;TZID=America/Los_Angeles:20240817T170000
DTSTAMP:20260422T230204
CREATED:20240703T173809Z
LAST-MODIFIED:20240801T153032Z
UID:9652-1721116800-1723914000@ghi.website
SUMMARY:24-01717 PGE  AETHON
DESCRIPTION:24-01717 PGE FLIGTH REQUEST
URL:https://ghi.website/event/24-01717-pge-athon/
END:VEVENT
BEGIN:VEVENT
DTSTART;TZID=America/Los_Angeles:20240716T080000
DTEND;TZID=America/Los_Angeles:20240716T170000
DTSTAMP:20260422T230204
CREATED:20240528T150259Z
LAST-MODIFIED:20240715T174423Z
UID:9516-1721116800-1721149200@ghi.website
SUMMARY:24-01233 PGE SLO TEMPLETON  BK 117 POLE SET CAP REQUIRED
DESCRIPTION:PGE 2024-07-11 1552 24-01736 \nCAP Guardian PGE SLO 071624 – Signed \nRevised Pg 1 Guardian CAP  \n071624 – Signed \n24-01233 PGE SLO COUNTY LAKE NACIMIENTO CAP 6-18-2024 REVISED DATE CHANGE \nCAP Guardian PGE SLO 071624 – Signed \n~temp15
URL:https://ghi.website/event/24-01233-pge-slo-templeton-bht-205-pole-set-cap-required/
END:VEVENT
BEGIN:VEVENT
DTSTART;TZID=America/Los_Angeles:20240714T080000
DTEND;TZID=America/Los_Angeles:20240719T170000
DTSTAMP:20260422T230204
CREATED:20240712T162254Z
LAST-MODIFIED:20240712T233106Z
UID:9695-1720944000-1721408400@ghi.website
SUMMARY:24-01533 PGE SHASTA COUNTY BHT 205
DESCRIPTION:
URL:https://ghi.website/event/24-01533-pge-shasta-county/
END:VEVENT
BEGIN:VEVENT
DTSTART;TZID=America/Los_Angeles:20240711T080000
DTEND;TZID=America/Los_Angeles:20240711T170000
DTSTAMP:20260422T230204
CREATED:20240621T171147Z
LAST-MODIFIED:20240709T192202Z
UID:9574-1720684800-1720717200@ghi.website
SUMMARY:24-01519 PGE MONTEREY COUNTY BHT 205 POLE SET
DESCRIPTION:24-01519 PGE CARMEL VALLEY BHT 205 POLE SET 7-11-2024 NON CAP \nPGE 2024-06-24 1520 24-01519 \n24-01519 PGE MONTEREY COUNTY BHT 205 FLIGHT REQUEST
URL:https://ghi.website/event/24-01519-pge-monterey-county-bht-205-pole-set/
END:VEVENT
BEGIN:VEVENT
DTSTART;TZID=America/Los_Angeles:20240710T080000
DTEND;TZID=America/Los_Angeles:20240710T170000
DTSTAMP:20260422T230204
CREATED:20240627T145302Z
LAST-MODIFIED:20240702T190154Z
UID:9595-1720598400-1720630800@ghi.website
SUMMARY:24-01611 PGE SB CABRILLO BHT 407 HEC 7-10-2024
DESCRIPTION:24-01611 PGE HAHRRIS GRADE HEC 7-10-2024 NON CAP \nPGE 2024-07-01 1807 24-01611 \n24-01611 PGE SB CABRILLO BHT 407 HEC 7-10-2024 FLIGHT REQUEST
URL:https://ghi.website/event/24-01611-pge-sb-cabrillo-bht-407-hec-7-10-2024/
END:VEVENT
BEGIN:VEVENT
DTSTART;TZID=America/Los_Angeles:20240708T080000
DTEND;TZID=America/Los_Angeles:20240712T170000
DTSTAMP:20260422T230204
CREATED:20240702T133101Z
LAST-MODIFIED:20240702T133101Z
UID:9638-1720425600-1720803600@ghi.website
SUMMARY:MERCED RIVER IR AETHON PROJECT
DESCRIPTION:MONDAY 8TH INSTALL EQUIPMENT TESTING \nTUESDAY 9TH FLY \nWEDNESDAY 10TH FLY \nTHURSDAY 11TH OPTIONAL DAY IF NEEDED \nFRIDAY THE 12TH REMOVE EQUIPMENT AND RETURN A/C
URL:https://ghi.website/event/merced-river-ir-aethon-project/
END:VEVENT
BEGIN:VEVENT
DTSTART;TZID=America/Los_Angeles:20240708T080000
DTEND;TZID=America/Los_Angeles:20240709T170000
DTSTAMP:20260422T230204
CREATED:20240708T133508Z
LAST-MODIFIED:20240708T135316Z
UID:9673-1720425600-1720544400@ghi.website
SUMMARY:24-01422 PGE CALVERAS BHT 205 POLE SET
DESCRIPTION:24-01422 PGE CALVARAS FLIGHT REQUEST
URL:https://ghi.website/event/24-01422-pge-calveras-bht-205-pole-set/
END:VEVENT
BEGIN:VEVENT
DTSTART;TZID=America/Los_Angeles:20240630T080000
DTEND;TZID=America/Los_Angeles:20240630T170000
DTSTAMP:20260422T230204
CREATED:20240618T180850Z
LAST-MODIFIED:20240618T180938Z
UID:9571-1719734400-1719766800@ghi.website
SUMMARY:MOJAVE HELI INSTITUTE N777GH
DESCRIPTION:
URL:https://ghi.website/event/mojave-heli-institute-n777gh/
END:VEVENT
END:VCALENDAR