BEGIN:VCALENDAR
VERSION:2.0
PRODID:-//GHI Schedule - ECPv6.0.12//NONSGML v1.0//EN
CALSCALE:GREGORIAN
METHOD:PUBLISH
X-WR-CALNAME:GHI Schedule
X-ORIGINAL-URL:https://ghi.website
X-WR-CALDESC:Events for GHI Schedule
REFRESH-INTERVAL;VALUE=DURATION:PT1H
X-Robots-Tag:noindex
X-PUBLISHED-TTL:PT1H
BEGIN:VTIMEZONE
TZID:America/Los_Angeles
BEGIN:DAYLIGHT
TZOFFSETFROM:-0800
TZOFFSETTO:-0700
TZNAME:PDT
DTSTART:20250309T100000
END:DAYLIGHT
BEGIN:STANDARD
TZOFFSETFROM:-0700
TZOFFSETTO:-0800
TZNAME:PST
DTSTART:20251102T090000
END:STANDARD
END:VTIMEZONE
BEGIN:VEVENT
DTSTART;VALUE=DATE:20250903
DTEND;VALUE=DATE:20250904
DTSTAMP:20260420T202845
CREATED:20250829T143846Z
LAST-MODIFIED:20250902T180338Z
UID:11872-1756857600-1756943999@ghi.website
SUMMARY:25-02491 PGE SONOMA COUNTY BHT 205 POLE SET 9-3-2025
DESCRIPTION:25-02491 PGE SONOMA COUNTY BHT 205 POLE SET 9-3-2025 FLIGHT REQUEST \n25-02491 PGE SONOMA COUNTY BHT 205 POLE SET 9-3-2025 NON CAP \n 
URL:https://ghi.website/event/25-02491-pge-sonoma-county-bht-205-pole-set-9-3-2025/
END:VEVENT
BEGIN:VEVENT
DTSTART;VALUE=DATE:20250903
DTEND;VALUE=DATE:20250904
DTSTAMP:20260420T202845
CREATED:20250825T182236Z
LAST-MODIFIED:20250902T184321Z
UID:11854-1756857600-1756943999@ghi.website
SUMMARY:25-02487 PGE BK117 POLE SET 9-3-2025
DESCRIPTION:25-02487 PGE BK117 POLE SET 9-3-2025 FLIGHT REQUEST \n25-02487 PGE BK117 POLE SET 9-3-2025 non cap
URL:https://ghi.website/event/25-02487-pge-bk117-pole-set-9-3-2025/
END:VEVENT
BEGIN:VEVENT
DTSTART;VALUE=DATE:20250901
DTEND;VALUE=DATE:20250902
DTSTAMP:20260420T202845
CREATED:20250902T152359Z
LAST-MODIFIED:20250902T152359Z
UID:11887-1756684800-1756771199@ghi.website
SUMMARY:25-02627 PGE EPSS MADERA BHT 407 9-1 AND 9-3-2025
DESCRIPTION:25-02627 PGE EPSS MADERA BHT 407 9-1 AND 9-3-2025 FLIGHT REQUEST
URL:https://ghi.website/event/25-02627-pge-epss-madera-bht-407-9-1-and-9-3-2025/
END:VEVENT
BEGIN:VEVENT
DTSTART;VALUE=DATE:20250831
DTEND;VALUE=DATE:20250901
DTSTAMP:20260420T202845
CREATED:20250902T151926Z
LAST-MODIFIED:20250902T151926Z
UID:11884-1756598400-1756684799@ghi.website
SUMMARY:25-02619 PGE EPSS BHT 407 8-31-2025
DESCRIPTION:25-02619 PGE EPSS BHT 407 8-31-2025 FLIGHT REQUEST
URL:https://ghi.website/event/25-02619-pge-epss-bht-407-8-31-2025/
END:VEVENT
BEGIN:VEVENT
DTSTART;VALUE=DATE:20250831
DTEND;VALUE=DATE:20250901
DTSTAMP:20260420T202845
CREATED:20250902T151459Z
LAST-MODIFIED:20250902T151459Z
UID:11881-1756598400-1756684799@ghi.website
SUMMARY:25-02624 PGE REEDLEY EPSS BHT 407 8-31-2025
DESCRIPTION:25-02624 PGE REEDLEY EPSS BHT 407 8-31-2025 FLIGHT REQUEST
URL:https://ghi.website/event/25-02624-pge-reedley-epss-bht-407-8-31-2025/
END:VEVENT
BEGIN:VEVENT
DTSTART;VALUE=DATE:20250829
DTEND;VALUE=DATE:20250830
DTSTAMP:20260420T202845
CREATED:20250820T165911Z
LAST-MODIFIED:20250820T165911Z
UID:11826-1756425600-1756511999@ghi.website
SUMMARY:25-02387 PGE BHT 407 HEC TRAINING 8-29-2025
DESCRIPTION:25-02387 PGE BHT 407 HEC TRAINING 8-29-2025 FLIGHT REQUEST
URL:https://ghi.website/event/25-02387-pge-bht-407-hec-training-8-29-2025/
END:VEVENT
BEGIN:VEVENT
DTSTART;VALUE=DATE:20250827
DTEND;VALUE=DATE:20250903
DTSTAMP:20260420T202845
CREATED:20250619T142738Z
LAST-MODIFIED:20250807T155326Z
UID:11396-1756252800-1756857599@ghi.website
SUMMARY:CHINA LAKE AREA  HERD AREA BURRO SURVEY BRING HARNESS IF NEEDED
DESCRIPTION:
URL:https://ghi.website/event/clark-mountain-herd-area-burro-survey/
END:VEVENT
BEGIN:VEVENT
DTSTART;VALUE=DATE:20250827
DTEND;VALUE=DATE:20250828
DTSTAMP:20260420T202845
CREATED:20250804T144902Z
LAST-MODIFIED:20250818T193340Z
UID:11696-1756252800-1756339199@ghi.website
SUMMARY:25-02147 PGE SLO TEMPLETON BHT 407 HEC 8-27-2025
DESCRIPTION:25-02147 PGE SLO TEMPLETON BHT 407 HEC 8-27-2025 FLIGHT REQUEST \n25-02147 PGE SLO TEMPLETON BHT 407 HEC 8-27-2025 NON CAP
URL:https://ghi.website/event/25-02147-pge-slo-templeton-bht-407-hec-8-27-2025/
END:VEVENT
BEGIN:VEVENT
DTSTART;TZID=America/Los_Angeles:20250825T080000
DTEND;TZID=America/Los_Angeles:20250927T170000
DTSTAMP:20260420T202845
CREATED:20250812T144859Z
LAST-MODIFIED:20250812T144859Z
UID:11770-1756108800-1758992400@ghi.website
SUMMARY:25-02289 PGE FILMORE BHT 407 IR 8-25 THRU 9-27-2025
DESCRIPTION:25-02289 PGE FILMORE BHT 407 IR 8-25 THRU 9-27-2025 FLIGHT REQUEST
URL:https://ghi.website/event/25-02289-pge-filmore-bht-407-ir-8-25-thru-9-27-2025/
END:VEVENT
BEGIN:VEVENT
DTSTART;VALUE=DATE:20250825
DTEND;VALUE=DATE:20250829
DTSTAMP:20260420T202845
CREATED:20250602T160806Z
LAST-MODIFIED:20250818T182935Z
UID:11328-1756080000-1756425599@ghi.website
SUMMARY:25-01153 PGE SLO MORRO BAY BHT 407 HEC
DESCRIPTION:25-01153 PGE SLO MORRO BAY BHT 407 HEC 8-25 THR 8-28-2025 FLGIHT REQUEST \n25-01153 PGE SLO MORRO BAY BHT 407 HEC 8-25 THRU 8-28-2025 NON CAP
URL:https://ghi.website/event/25-01153-pge-slo-morro-bay-bht-407-hec/
END:VEVENT
BEGIN:VEVENT
DTSTART;TZID=America/Los_Angeles:20250824T080000
DTEND;TZID=America/Los_Angeles:20250825T170000
DTSTAMP:20260420T202845
CREATED:20250825T183511Z
LAST-MODIFIED:20250825T183537Z
UID:11860-1756022400-1756141200@ghi.website
SUMMARY:25-02070 PGE MARIPOSA BHT 205 8-24 THRU 8-25-2025
DESCRIPTION:25-02070 PGE MARIPOSA BHT 205 8-24 THRU 8-25-2025 FLIGHT REQUEST
URL:https://ghi.website/event/25-02070-pge-mariposa-bht-205-8-24-thru-8-25-2025/
END:VEVENT
BEGIN:VEVENT
DTSTART;VALUE=DATE:20250824
DTEND;VALUE=DATE:20250825
DTSTAMP:20260420T202845
CREATED:20250825T181758Z
LAST-MODIFIED:20250825T181758Z
UID:11851-1755993600-1756079999@ghi.website
SUMMARY:25-02505 PGE REEDER PATROL EPSS 8-24-2025
DESCRIPTION:25-02505 PGE REEDER PATROL EPSS 8-24-2025 FLIGHT REQUEST
URL:https://ghi.website/event/25-02505-pge-reeder-patrol-epss-8-24-2025/
END:VEVENT
BEGIN:VEVENT
DTSTART;VALUE=DATE:20250823
DTEND;VALUE=DATE:20250824
DTSTAMP:20260420T202845
CREATED:20250730T152335Z
LAST-MODIFIED:20250812T195810Z
UID:11676-1755907200-1755993599@ghi.website
SUMMARY:25-02126 PGE FRESNO BHT 407 HEC 8-23-2025
DESCRIPTION:25-02126 PGE FRESNO BHT 407 HEC 8-23-2025 FLIGHT REQUEST \n25-02126 PGE FRESNO BHT 407 HEC 8-23-2025 NON CAP
URL:https://ghi.website/event/25-02126-pge-fresno-bht-407-hec-8-23-2025/
END:VEVENT
BEGIN:VEVENT
DTSTART;VALUE=DATE:20250821
DTEND;VALUE=DATE:20250822
DTSTAMP:20260420T202845
CREATED:20250808T134630Z
LAST-MODIFIED:20250812T165756Z
UID:11736-1755734400-1755820799@ghi.website
SUMMARY:25-02229 PGE MARIPOSA BHT 205 POLE SET
DESCRIPTION:25-02229 PGE MARIPOSA BHT 205 HEC POLE SET 8-21-2025 FLIGHT REQUEST \n25-02229 PGE MARIPOSA BHT 205 HEC POLE SET 8-21-2025 NON CAP
URL:https://ghi.website/event/25-02229-pge-mariposa-bk117-pole-set-pending-paperwork/
END:VEVENT
BEGIN:VEVENT
DTSTART;VALUE=DATE:20250820
DTEND;VALUE=DATE:20250821
DTSTAMP:20260420T202845
CREATED:20250820T164526Z
LAST-MODIFIED:20250820T164526Z
UID:11817-1755648000-1755734399@ghi.website
SUMMARY:25-02425 PGE EPSS PATROL BHT 407 8-20-2025
DESCRIPTION:25-02425 PGE EPSS PATROL BHT 407 8-20-2025
URL:https://ghi.website/event/25-02425-pge-epss-patrol-bht-407-8-20-2025/
END:VEVENT
BEGIN:VEVENT
DTSTART;VALUE=DATE:20250818
DTEND;VALUE=DATE:20250825
DTSTAMP:20260420T202845
CREATED:20250731T144900Z
LAST-MODIFIED:20250820T163433Z
UID:11682-1755475200-1756079999@ghi.website
SUMMARY:25-02121 PGE FRESNO BHT 407 HEC 8-18 THRU 8-22-2025
DESCRIPTION:25-02121 PGE FRESNO BHT 407 HEC 8-18 THRU 8-24-2025 FLIGHT REQUEST rev 1 \n25-02121 PGE FRESNO BHT 407 HEC 8-18 THRU 8-22-2025 FLIGHT REQUEST \n25-02121 PGE FRESNO BHT 407 HEC 8-18 THRU 8-22-2025 NON CAP
URL:https://ghi.website/event/25-02121-pge-fresno-bht-407-hec-8-18-thru-8-22-2025/
END:VEVENT
BEGIN:VEVENT
DTSTART;VALUE=DATE:20250818
DTEND;VALUE=DATE:20250823
DTSTAMP:20260420T202845
CREATED:20250716T181047Z
LAST-MODIFIED:20250716T181616Z
UID:11607-1755475200-1755907199@ghi.website
SUMMARY:SIERRA HYDRO BHT 407
DESCRIPTION:Upper Tyndell Lat. 36 38.831’  Long. 118 23.837’  elev. 11\,500’ \nSteve Rosier \nSierra Hydrographics \n42163 Bald Mountain Road \nAuberry\, CA. 93602 \nOffice: (559) 855-4420 Ext. 5 \nFax: (559) 855-5660 \nCell: (559) 385-1033
URL:https://ghi.website/event/sierra-hydro-bht-407/
END:VEVENT
BEGIN:VEVENT
DTSTART;VALUE=DATE:20250817
DTEND;VALUE=DATE:20250818
DTSTAMP:20260420T202845
CREATED:20250723T133516Z
LAST-MODIFIED:20250807T165915Z
UID:11633-1755388800-1755475199@ghi.website
SUMMARY:25-02054 PGE SLO SANTA BARBARA COUNTY (3) BHT 407 HEC 8-17-2025
DESCRIPTION:25-02054 PGE SLO SANTA BARBARA COUNTY (3) BHT 407 HEC 8-17-2025 FLIGHT REQUEST \n25-02054 PGE SLO SANTA BARBARA COUNTY (3) BHT 407 HEC 8-17-2025 NON CAP
URL:https://ghi.website/event/25-02054-pge-slo-santa-barbara-county-3-bht-407-hec-8-17-2025-3/
END:VEVENT
BEGIN:VEVENT
DTSTART;VALUE=DATE:20250817
DTEND;VALUE=DATE:20250818
DTSTAMP:20260420T202845
CREATED:20250723T133448Z
LAST-MODIFIED:20250807T165851Z
UID:11631-1755388800-1755475199@ghi.website
SUMMARY:25-02054 PGE SLO SANTA BARBARA COUNTY (3) BHT 407 HEC 8-17-2025
DESCRIPTION:25-02054 PGE SLO SANTA BARBARA COUNTY (3) BHT 407 HEC 8-17-2025 FLIGHT REQUEST \n25-02054 PGE SLO SANTA BARBARA COUNTY (3) BHT 407 HEC 8-17-2025 NON CAP
URL:https://ghi.website/event/25-02054-pge-slo-santa-barbara-county-3-bht-407-hec-8-17-2025-2/
END:VEVENT
BEGIN:VEVENT
DTSTART;VALUE=DATE:20250817
DTEND;VALUE=DATE:20250818
DTSTAMP:20260420T202845
CREATED:20250723T133417Z
LAST-MODIFIED:20250807T165822Z
UID:11628-1755388800-1755475199@ghi.website
SUMMARY:25-02054 PGE SLO SANTA BARBARA COUNTY (3) BHT 407 HEC 8-17-2025
DESCRIPTION:25-02054 PGE SLO SANTA BARBARA COUNTY (3) BHT 407 HEC 8-17-2025 FLIGHT REQUEST \n25-02054 PGE SLO SANTA BARBARA COUNTY (3) BHT 407 HEC 8-17-2025 NON CAP
URL:https://ghi.website/event/25-02054-pge-slo-santa-barbara-county-3-bht-407-hec-8-17-2025/
END:VEVENT
BEGIN:VEVENT
DTSTART;VALUE=DATE:20250815
DTEND;VALUE=DATE:20250816
DTSTAMP:20260420T202845
CREATED:20250811T142705Z
LAST-MODIFIED:20250811T173204Z
UID:11742-1755216000-1755302399@ghi.website
SUMMARY:25-02258 PGE TEMPLETON BHT 205 8-15-2025
DESCRIPTION:25-02258 PGE TEMPLETON BHT 205 8-15-2025 NON CAP \n25-02258 PGE TEMPLETON BHT 205 8-15-2025 FLIGHT REQUEST
URL:https://ghi.website/event/25-02258-pge-templeton-bht-205-8-15-2025/
END:VEVENT
BEGIN:VEVENT
DTSTART;VALUE=DATE:20250814
DTEND;VALUE=DATE:20250828
DTSTAMP:20260420T202845
CREATED:20250813T142822Z
LAST-MODIFIED:20250813T145649Z
UID:11780-1755129600-1756339199@ghi.website
SUMMARY:25-02322 PGE CUYUMA SB COUNTY BHT 205 H-14 THRU 8-27-2025
DESCRIPTION:25-02322 PGE CUYUMA SB COUNTY BHT 205 H-14 THRU 8-27-2025 FLIGHT REQUEST \n25-02323 25-02322 PGE CUYUMA SB COUNTY BK117 HEC BHT 205 POLE 8-13 THRU 8-27-2025 NON CAP
URL:https://ghi.website/event/25-02322-pge-cuyuma-sb-county-bht-205-h-14-thru-8-27-2025/
END:VEVENT
BEGIN:VEVENT
DTSTART;VALUE=DATE:20250814
DTEND;VALUE=DATE:20250815
DTSTAMP:20260420T202845
CREATED:20250723T135418Z
LAST-MODIFIED:20250807T161241Z
UID:11635-1755129600-1755215999@ghi.website
SUMMARY:25-02042 PGE FRESNO AUBERRY B205  8-14-2025
DESCRIPTION:25-02042 PGE FRESNO AUBERRY B205 8-14-2025 FLIGHT REQUEST \n25-02042 PGE FRESNO AUBERRY BK 117 8-14-2025 NON CAP
URL:https://ghi.website/event/25-02042-pge-fresno-auberry-bk-117-8-14-2025/
END:VEVENT
BEGIN:VEVENT
DTSTART;VALUE=DATE:20250813
DTEND;VALUE=DATE:20250828
DTSTAMP:20260420T202845
CREATED:20250813T142337Z
LAST-MODIFIED:20250813T145627Z
UID:11777-1755043200-1756339199@ghi.website
SUMMARY:25-02323 PGE CUYUMA SB COUNTY BK117 HEC 8-13 THRU 8-27-2025
DESCRIPTION:25-02323 PGE CUYUMA SB COUNTY BK117 HEC 8-13 THRU 8-27-2025 FLIGHT REQUEST \n25-02323 25-02322 PGE CUYUMA SB COUNTY BK117 HEC BHT 205 POLE 8-13 THRU 8-27-2025 NON CAP
URL:https://ghi.website/event/25-02323-pge-cuyuma-sb-county-bk117-hec-8-13-thru-8-27-2025/
END:VEVENT
BEGIN:VEVENT
DTSTART;VALUE=DATE:20250813
DTEND;VALUE=DATE:20250814
DTSTAMP:20260420T202845
CREATED:20250716T181157Z
LAST-MODIFIED:20250805T162010Z
UID:11609-1755043200-1755129599@ghi.website
SUMMARY:SIERRA HYDRO BHT 205
DESCRIPTION:Upper Tyndell Lat. 36 38.831’ Long. 118 23.837’ elev. 11\,500’ \nSteve Rosier \nSierra Hydrographics \nCell: (559) 385-1033 \n         Passenger weights
URL:https://ghi.website/event/sierra-hydro-bht-205/
END:VEVENT
BEGIN:VEVENT
DTSTART;VALUE=DATE:20250811
DTEND;VALUE=DATE:20250816
DTSTAMP:20260420T202845
CREATED:20250716T155921Z
LAST-MODIFIED:20250805T162118Z
UID:11601-1754870400-1755302399@ghi.website
SUMMARY:SIERRA HYDRO BHT 407
DESCRIPTION:SIERRA HYDRO 2025 IMAGES \nPassenger weights \nUpper Tyndell Lat. 36 38.831’  Long. 118 23.837’  elev. 11\,500’ \nSteve Rosier \nSierra Hydrographics \nCell: (559) 385-1033
URL:https://ghi.website/event/sierra-hydro-pending/
END:VEVENT
BEGIN:VEVENT
DTSTART;VALUE=DATE:20250810
DTEND;VALUE=DATE:20250811
DTSTAMP:20260420T202845
CREATED:20250811T150015Z
LAST-MODIFIED:20250811T150015Z
UID:11756-1754784000-1754870399@ghi.website
SUMMARY:25-02275 PGE MADERA MUNI PATROL  EPSS 8-10-2025
DESCRIPTION:25-02275 PGE MADERA MUNI PATROL EPSS 8-10-2025 FLIGHT REQUEST
URL:https://ghi.website/event/25-02275-pge-madera-muni-patrol-epss-8-10-2025/
END:VEVENT
BEGIN:VEVENT
DTSTART;VALUE=DATE:20250809
DTEND;VALUE=DATE:20250816
DTSTAMP:20260420T202845
CREATED:20250811T142418Z
LAST-MODIFIED:20250811T142418Z
UID:11739-1754697600-1755302399@ghi.website
SUMMARY:25-02268 PGE PASO ROBLES IR
DESCRIPTION:25-02268 PGE PASO ROBLES IR 8-9 THRU 8-15-2025 FLIGHT REQUEST
URL:https://ghi.website/event/25-02268-pge-paso-robles-ir/
END:VEVENT
BEGIN:VEVENT
DTSTART;VALUE=DATE:20250809
DTEND;VALUE=DATE:20250811
DTSTAMP:20260420T202845
CREATED:20250811T143030Z
LAST-MODIFIED:20250811T144306Z
UID:11745-1754697600-1754870399@ghi.website
SUMMARY:25-02269 PGE AMADOR COUNTY BHT 205 EMERGENCY
DESCRIPTION:25-02269 PGE AMADOR COUNTY BHT 205 8-9 AND 8-10-2025 FLIGHT REQUEST
URL:https://ghi.website/event/25-02269-pge-amador-county-bht-205-emergency/
END:VEVENT
BEGIN:VEVENT
DTSTART;VALUE=DATE:20250808
DTEND;VALUE=DATE:20250809
DTSTAMP:20260420T202845
CREATED:20250801T161520Z
LAST-MODIFIED:20250801T165405Z
UID:11688-1754611200-1754697599@ghi.website
SUMMARY:25-02100 PGE SLO BHT 205 POLE SET 8-8-2025
DESCRIPTION:25-02100 PGE SLO BK117 POLE SET 8-8-2025 NON CAP \n25-02100 PGE SLO BHT 205 POLE SET 8-8-2025 FLIGHT REQUEST
URL:https://ghi.website/event/25-02100-pge-slo-bht-205-pole-set-8-8-2025/
END:VEVENT
END:VCALENDAR