BEGIN:VCALENDAR
VERSION:2.0
PRODID:-//GHI Schedule - ECPv6.0.12//NONSGML v1.0//EN
CALSCALE:GREGORIAN
METHOD:PUBLISH
X-WR-CALNAME:GHI Schedule
X-ORIGINAL-URL:https://ghi.website
X-WR-CALDESC:Events for GHI Schedule
REFRESH-INTERVAL;VALUE=DURATION:PT1H
X-Robots-Tag:noindex
X-PUBLISHED-TTL:PT1H
BEGIN:VTIMEZONE
TZID:America/Los_Angeles
BEGIN:DAYLIGHT
TZOFFSETFROM:-0800
TZOFFSETTO:-0700
TZNAME:PDT
DTSTART:20230312T100000
END:DAYLIGHT
BEGIN:STANDARD
TZOFFSETFROM:-0700
TZOFFSETTO:-0800
TZNAME:PST
DTSTART:20231105T090000
END:STANDARD
END:VTIMEZONE
BEGIN:VEVENT
DTSTART;TZID=America/Los_Angeles:20231223T080000
DTEND;TZID=America/Los_Angeles:20231223T170000
DTSTAMP:20260423T155655
CREATED:20231115T192938Z
LAST-MODIFIED:20231205T200928Z
UID:8934-1703318400-1703350800@ghi.website
SUMMARY:SITTING BULL ACADEMY APPLE VALLEY CA 12-23-2023
DESCRIPTION:ALLISON MECHANICAL HOLD HARMLESS AGREEMENT 11-14-2023 SIGNED \nFY24-0105_CAP_8400.5_Gaurdian_apple valley_signed and ready to mail_ASA \nHLA Auth Sitting Bull Academy CAP \nSITTING BULL ACADEMY AV ALLISON MECHANICAL CONGESTED AREA LIFT PLAN 12-23-2023 \n49 DOWN 49 UP LESS 700 LBS. \n 
URL:https://ghi.website/event/sitting-bull-academy-apple-valley-ca-12-23-2023/
END:VEVENT
BEGIN:VEVENT
DTSTART;TZID=America/Los_Angeles:20231217T080000
DTEND;TZID=America/Los_Angeles:20231217T170000
DTSTAMP:20260423T155655
CREATED:20231130T214214Z
LAST-MODIFIED:20231204T151553Z
UID:8982-1702800000-1702832400@ghi.website
SUMMARY:23-04899 PGE SLO MORRO BAY HEC BHT 407
DESCRIPTION:PGE 2023-12-02 1507 23-04899 \nR.4899
URL:https://ghi.website/event/23-04899-pge-slo-morro-bay-hec-bht-407/
END:VEVENT
BEGIN:VEVENT
DTSTART;TZID=America/Los_Angeles:20231212T080000
DTEND;TZID=America/Los_Angeles:20231222T170000
DTSTAMP:20260423T155655
CREATED:20231003T181628Z
LAST-MODIFIED:20231102T143352Z
UID:8713-1702368000-1703264400@ghi.website
SUMMARY:23-04245 PGE MERCED BHT 205 HEC CARGO
DESCRIPTION:PGE 2023-10-03 1134 23-04245 \n23-04245 PGE MERCED COUNTY BHT 205 HEC TOWERS \nTAILBOARD 8-20-2023 \nR.4245
URL:https://ghi.website/event/23-04245-pge-merced-bht-205-hec-cargo-2/
END:VEVENT
BEGIN:VEVENT
DTSTART;TZID=America/Los_Angeles:20231211T080000
DTEND;TZID=America/Los_Angeles:20231215T170000
DTSTAMP:20260423T155655
CREATED:20231207T191836Z
LAST-MODIFIED:20231207T191836Z
UID:9005-1702281600-1702659600@ghi.website
SUMMARY:23-04810 PGE ADDED 3RD SHIP N498PT HEC EL PORTAL
DESCRIPTION:23-04810 PGE (2) SHIPS MARIPOSA HEC FLIGHT REQUEST \n23-04810 PGE YOSEMITE EL PORTAL (2) HEC BHT 407 12-11 THRU 12-15-2023
URL:https://ghi.website/event/23-04810-pge-added-3rd-ship-n498pt-hec-el-portal/
END:VEVENT
BEGIN:VEVENT
DTSTART;TZID=America/Los_Angeles:20231211T080000
DTEND;TZID=America/Los_Angeles:20231215T170000
DTSTAMP:20260423T155655
CREATED:20231127T144818Z
LAST-MODIFIED:20231207T161627Z
UID:8962-1702281600-1702659600@ghi.website
SUMMARY:23-04810 PGE MARIPOSA (2) HEC BHT 407
DESCRIPTION:23-04810 PGE YOSEMITE EL PORTAL (2) HEC BHT 407 12-11 THRU 12-15-2023 \n23-04810 PGE (2) SHIPS MARIPOSA HEC FLIGHT REQUEST
URL:https://ghi.website/event/23-04810-pge-mariposa-2-hec-bht-407-2/
END:VEVENT
BEGIN:VEVENT
DTSTART;TZID=America/Los_Angeles:20231211T080000
DTEND;TZID=America/Los_Angeles:20231215T170000
DTSTAMP:20260423T155655
CREATED:20231127T144748Z
LAST-MODIFIED:20231207T162248Z
UID:8959-1702281600-1702659600@ghi.website
SUMMARY:23-04810 PGE MARIPOSA (2) HEC BHT 407
DESCRIPTION:23-04810 PGE YOSEMITE EL PORTAL (2) HEC BHT 407 12-11 THRU 12-15-2023 \n23-04810 PGE (2) SHIPS MARIPOSA HEC FLIGHT REQUEST
URL:https://ghi.website/event/23-04810-pge-mariposa-2-hec-bht-407/
END:VEVENT
BEGIN:VEVENT
DTSTART;TZID=America/Los_Angeles:20231204T080000
DTEND;TZID=America/Los_Angeles:20231216T170000
DTSTAMP:20260423T155655
CREATED:20231127T142021Z
LAST-MODIFIED:20231127T142722Z
UID:8954-1701676800-1702746000@ghi.website
SUMMARY:23-04851 PGE AETHON N447GH
DESCRIPTION:PGE 2023-11-22 1414 23-04851
URL:https://ghi.website/event/23-04851-pge-aethon-n447gh/
END:VEVENT
BEGIN:VEVENT
DTSTART;TZID=America/Los_Angeles:20231204T080000
DTEND;TZID=America/Los_Angeles:20231204T170000
DTSTAMP:20260423T155655
CREATED:20231129T223727Z
LAST-MODIFIED:20231129T223727Z
UID:8968-1701676800-1701709200@ghi.website
SUMMARY:LONGLINE TRAINING BHT407 SHEN
DESCRIPTION:
URL:https://ghi.website/event/longline-training-bht407-shen/
END:VEVENT
BEGIN:VEVENT
DTSTART;TZID=America/Los_Angeles:20231202T080000
DTEND;TZID=America/Los_Angeles:20231202T170000
DTSTAMP:20260423T155655
CREATED:20231115T175619Z
LAST-MODIFIED:20231120T162306Z
UID:8919-1701504000-1701536400@ghi.website
SUMMARY:23-04788 PGE SLO DIABLO  (2) HEC SHIPS
DESCRIPTION:23-04778 PGE DIABLO CANYON 2 SHIPS 11-27 THRU 11-30 12-2-2023 \nr.4788 \nr.4778 \nTAILBOARD 8-20-2023
URL:https://ghi.website/event/23-04778-23-04788-pge-slo-diablo-2-hec-ships-2/
END:VEVENT
BEGIN:VEVENT
DTSTART;TZID=America/Los_Angeles:20231201T080000
DTEND;TZID=America/Los_Angeles:20231201T170000
DTSTAMP:20260423T155655
CREATED:20231130T152545Z
LAST-MODIFIED:20231130T152545Z
UID:8971-1701417600-1701450000@ghi.website
SUMMARY:23-04650 SLO (3) SHIPS light  HEC
DESCRIPTION:4650 \n23-04650 PGE CAYAUMA HWY 166 SANTAT MARITA HEC 2 SHIPS 12-1-2023
URL:https://ghi.website/event/23-04650-slo-3-ships-light-hec/
END:VEVENT
BEGIN:VEVENT
DTSTART;TZID=America/Los_Angeles:20231201T080000
DTEND;TZID=America/Los_Angeles:20231201T170000
DTSTAMP:20260423T155655
CREATED:20231102T140557Z
LAST-MODIFIED:20231130T152634Z
UID:8875-1701417600-1701450000@ghi.website
SUMMARY:23-04650 SLO (3) SHIPS N498PT  HEC
DESCRIPTION:4650 \n23-04650 PGE CAYAUMA HWY 166 SANTAT MARITA HEC 2 SHIPS 12-1-2023 \n23-04650 ISSUED 11-01-2023 \nTAILBOARD 8-20-2023
URL:https://ghi.website/event/23-04650-slo-2-ships-n498pt-hec/
END:VEVENT
BEGIN:VEVENT
DTSTART;TZID=America/Los_Angeles:20231201T080000
DTEND;TZID=America/Los_Angeles:20231201T170000
DTSTAMP:20260423T155655
CREATED:20231102T140506Z
LAST-MODIFIED:20231130T152714Z
UID:8872-1701417600-1701450000@ghi.website
SUMMARY:23-04650 SLO (3) SHIPS BHT407 HEC
DESCRIPTION:23-04650 PGE CAYAUMA HWY 166 SANTAT MARITA HEC 2 SHIPS 12-1-2023 \n4650 \nTAILBOARD 8-20-2023
URL:https://ghi.website/event/23-04650-slo-2-ships-bht407-hec/
END:VEVENT
BEGIN:VEVENT
DTSTART;TZID=America/Los_Angeles:20231128T080000
DTEND;TZID=America/Los_Angeles:20231208T170000
DTSTAMP:20260423T155655
CREATED:20231003T181540Z
LAST-MODIFIED:20231003T181540Z
UID:8711-1701158400-1702054800@ghi.website
SUMMARY:
DESCRIPTION:R.4245
URL:https://ghi.website/event/8711/
END:VEVENT
BEGIN:VEVENT
DTSTART;TZID=America/Los_Angeles:20231128T080000
DTEND;TZID=America/Los_Angeles:20231208T170000
DTSTAMP:20260423T155655
CREATED:20231003T180756Z
LAST-MODIFIED:20231102T143255Z
UID:8706-1701158400-1702054800@ghi.website
SUMMARY:23-04245 PGE MERCED BHT 205 HEC CARGO
DESCRIPTION:23-04245 PGE MERCED COUNTY BHT 205 HEC TOWERS \nTAILBOARD 8-20-2023 \nPGE 2023-10-03 1134 23-04245 \nR.4245
URL:https://ghi.website/event/23-04245-pge-merced-bht-205-hec-cargo/
END:VEVENT
BEGIN:VEVENT
DTSTART;TZID=America/Los_Angeles:20231127T080000
DTEND;TZID=America/Los_Angeles:20231130T170000
DTSTAMP:20260423T155655
CREATED:20231115T175714Z
LAST-MODIFIED:20231120T162107Z
UID:8921-1701072000-1701363600@ghi.website
SUMMARY:23-04788 PGE SLO DIABLO  (2) HEC SHIPS
DESCRIPTION:23-04778 PGE DIABLO CANYON 2 SHIPS 11-27 THRU 11-30 12-2-2023 \nr.4788 \nr.4778 \nTAILBOARD 8-20-2023
URL:https://ghi.website/event/23-04778-23-04788-pge-slo-diablo-2-hec-ships-3/
END:VEVENT
BEGIN:VEVENT
DTSTART;TZID=America/Los_Angeles:20231127T080000
DTEND;TZID=America/Los_Angeles:20231129T170000
DTSTAMP:20260423T155655
CREATED:20231115T175518Z
LAST-MODIFIED:20231130T170139Z
UID:8915-1701072000-1701277200@ghi.website
SUMMARY:23-04788 PGE SLO DIABLO  (2) HEC SHIPS
DESCRIPTION:23-04778 PGE DIABLO CANYON 2 SHIPS 11-27 THRU 11-30 12-2-2023 \nr.4778 \nr.4788 \nTAILBOARD 8-20-2023
URL:https://ghi.website/event/23-04778-23-04788-pge-slo-diablo-2-hec-ships/
END:VEVENT
BEGIN:VEVENT
DTSTART;TZID=America/Los_Angeles:20231122T080000
DTEND;TZID=America/Los_Angeles:20231122T170000
DTSTAMP:20260423T155655
CREATED:20231102T135333Z
LAST-MODIFIED:20231117T160916Z
UID:8869-1700640000-1700672400@ghi.website
SUMMARY:23-04642 MONTEREY FRESNO COUNTY BHT 407
DESCRIPTION:23-04642 PGE COALINGA HEC CARGO BHT407 11-20- AND 11-22-2023 \n23-04642 ISSUED 10-31-2023 \nTAILBOARD 8-20-2023
URL:https://ghi.website/event/23-04642-monterey-fresno-county-bht-407/
END:VEVENT
BEGIN:VEVENT
DTSTART;TZID=America/Los_Angeles:20231120T080000
DTEND;TZID=America/Los_Angeles:20231120T170000
DTSTAMP:20260423T155655
CREATED:20231114T191955Z
LAST-MODIFIED:20231117T171402Z
UID:8904-1700467200-1700499600@ghi.website
SUMMARY:23-04790 23-04791 PGE SLO  HEC RECON  BHT 407
DESCRIPTION:23-04790 23-04791 PGE COALINGA HEC CARGO RECON BHT407 11-20- 2023 \nR.4790 \nR.4791 \nTAILBOARD 8-20-2023
URL:https://ghi.website/event/pge-slo-1-hec-ship-pending-paperwork-nick/
END:VEVENT
BEGIN:VEVENT
DTSTART;TZID=America/Los_Angeles:20231115T080000
DTEND;TZID=America/Los_Angeles:20231115T170000
DTSTAMP:20260423T155655
CREATED:20231010T213859Z
LAST-MODIFIED:20231110T182534Z
UID:8737-1700035200-1700067600@ghi.website
SUMMARY:23-01860 PGE SLO BHT 407 POLE SET
DESCRIPTION:23-01860 FLIGHT REQUEST 407 \n23-01860 PGE MORO BAY LOS OSOS CREEK BHT 407 11-15-2023 HEC AND POLE \nTAILBOARD 8-20-2023
URL:https://ghi.website/event/23-01860-pge-slo-bk117-pole-set/
END:VEVENT
BEGIN:VEVENT
DTSTART;TZID=America/Los_Angeles:20231113T080000
DTEND;TZID=America/Los_Angeles:20231114T170000
DTSTAMP:20260423T155655
CREATED:20231030T161400Z
LAST-MODIFIED:20231110T165820Z
UID:8844-1699862400-1699981200@ghi.website
SUMMARY:23-04470 PGE FRESNO BHT 407 HEC CARGO
DESCRIPTION:23-04470 PGE BALCH CAMP TOULHOUSE CA 11-13 11-14-2023 HEC \nr.4470 \nTAILBOARD 8-20-2023
URL:https://ghi.website/event/23-pge-fresno-bht-407/
END:VEVENT
BEGIN:VEVENT
DTSTART;TZID=America/Los_Angeles:20231113T080000
DTEND;TZID=America/Los_Angeles:20231113T170000
DTSTAMP:20260423T155655
CREATED:20231106T220320Z
LAST-MODIFIED:20231110T174008Z
UID:8889-1699862400-1699894800@ghi.website
SUMMARY:23-04434 PGE TOULUMNE HEC BHT 407
DESCRIPTION:23-04434 PGE TOULUMNE RACE TRACK BHT 407 HEC 11-13-2023 \n23-04434 TOULUMNE RACTRACK REQUEST SUMMARY \nTAILBOARD 8-20-2023
URL:https://ghi.website/event/23-04434-pge-toulumne-hec-bht-407/
END:VEVENT
BEGIN:VEVENT
DTSTART;TZID=America/Los_Angeles:20231110T080000
DTEND;TZID=America/Los_Angeles:20231115T170000
DTSTAMP:20260423T155655
CREATED:20231025T175602Z
LAST-MODIFIED:20231025T175602Z
UID:8806-1699603200-1700067600@ghi.website
SUMMARY:PGE PSPS N1174U BK 117
DESCRIPTION:
URL:https://ghi.website/event/pge-psps-n1174u-bk-117-2/
END:VEVENT
BEGIN:VEVENT
DTSTART;TZID=America/Los_Angeles:20231108T080000
DTEND;TZID=America/Los_Angeles:20231114T170000
DTSTAMP:20260423T155655
CREATED:20231024T141619Z
LAST-MODIFIED:20231024T141712Z
UID:8800-1699430400-1699981200@ghi.website
SUMMARY:PGE PSPS N990SL BK 117
DESCRIPTION:
URL:https://ghi.website/event/pge-psps-n990sl-bk-117-5/
END:VEVENT
BEGIN:VEVENT
DTSTART;TZID=America/Los_Angeles:20231108T080000
DTEND;TZID=America/Los_Angeles:20231109T170000
DTSTAMP:20260423T155655
CREATED:20230918T135721Z
LAST-MODIFIED:20231102T145806Z
UID:8654-1699430400-1699549200@ghi.website
SUMMARY:23-03775 23-03885 PGE BHT 407 SAN BERNARDINO COUNTY OLD WOMAN MOUNTAIN  PASSENGERS AND PROPANE
DESCRIPTION:20-03775 REV 11-2-2023 \n23-03775 23-03885 PGE OLD WOMEN MOUNTAIN PROPANE 11-8 11-9-2023 \nPGE 2023-09-17 0646 23-03775 \nPGE 2023-09-17 0646 23-03885 \nTAILBOARD 8-20-2023 \nPGE 2023-09-17 0646 23-03885 \n3885 \nPGE 2023-09-17 0646 23-03775
URL:https://ghi.website/event/23-03775-pge-san-bernardino-county-old-woman-mountain-bk117-passengers-and-propane/
END:VEVENT
BEGIN:VEVENT
DTSTART;TZID=America/Los_Angeles:20231107T080000
DTEND;TZID=America/Los_Angeles:20231107T170000
DTSTAMP:20260423T155655
CREATED:20230802T145230Z
LAST-MODIFIED:20231030T163336Z
UID:8450-1699344000-1699376400@ghi.website
SUMMARY:23-03089 PGE SLO BHT 407 POLE SET
DESCRIPTION:23-03089 PGE LOPEZ LAKE BK117 POLE SET 9-1-2023 \nPGE 2023-08-02 0703 23-03089 \nPGE 2023-08-02 0703 23-03089 \nTAILBOARD 8-20-2023 \nSET 45 CL 3 POLE MAX WEIGHT 1800 LBS \n 
URL:https://ghi.website/event/23-03089-pge-slo-bht-407-pole-set/
END:VEVENT
BEGIN:VEVENT
DTSTART;TZID=America/Los_Angeles:20231106T080000
DTEND;TZID=America/Los_Angeles:20231120T170000
DTSTAMP:20260423T155655
CREATED:20231006T215556Z
LAST-MODIFIED:20231102T143155Z
UID:8733-1699257600-1700499600@ghi.website
SUMMARY:23-04245 PGE BHT 205 HEC
DESCRIPTION:PGE 2023-10-03 1134 23-04245 \n23-04245 PGE MERCED COUNTY BHT 205 HEC TOWERS \nTAILBOARD 8-20-2023
URL:https://ghi.website/event/23-04245-pge-bht-205-hec/
END:VEVENT
BEGIN:VEVENT
DTSTART;TZID=America/Los_Angeles:20231104T080000
DTEND;TZID=America/Los_Angeles:20231104T170000
DTSTAMP:20260423T155655
CREATED:20231025T215835Z
LAST-MODIFIED:20231031T184232Z
UID:8813-1699084800-1699117200@ghi.website
SUMMARY:PATRIOT AIR OXNARD A/C JOB N498PT
DESCRIPTION:PATRIOT AIR SYSTEM HASS AUTOMATION 11-04-2023 FAA APPROVED CAP
URL:https://ghi.website/event/patriot-air-oxnard-a-c-job-n498pt/
END:VEVENT
BEGIN:VEVENT
DTSTART;TZID=America/Los_Angeles:20231102T080000
DTEND;TZID=America/Los_Angeles:20231111T170000
DTSTAMP:20260423T155655
CREATED:20231030T153846Z
LAST-MODIFIED:20231031T183817Z
UID:8830-1698912000-1699722000@ghi.website
SUMMARY:23-04611 MEADOW LAKE DAM CARGO AS350 WITH 23-04610
DESCRIPTION:23-04610 23-04611 PGE MEADOW LAKE DAM HEC BHT407 11-02 THR 11-11-2023 \nTAILBOARD 8-20-2023 \n4610 \n4611
URL:https://ghi.website/event/23-04611-meadow-lake-dam-cargo-bht-407-2/
END:VEVENT
BEGIN:VEVENT
DTSTART;TZID=America/Los_Angeles:20231102T080000
DTEND;TZID=America/Los_Angeles:20231106T170000
DTSTAMP:20260423T155655
CREATED:20231024T141322Z
LAST-MODIFIED:20231024T141557Z
UID:8796-1698912000-1699290000@ghi.website
SUMMARY:PGE PSPS N990SL BK 117
DESCRIPTION:
URL:https://ghi.website/event/pge-psps-n990sl-bk-117-4/
END:VEVENT
BEGIN:VEVENT
DTSTART;TZID=America/Los_Angeles:20231102T080000
DTEND;TZID=America/Los_Angeles:20231103T170000
DTSTAMP:20260423T155655
CREATED:20231025T220330Z
LAST-MODIFIED:20231031T145620Z
UID:8815-1698912000-1699030800@ghi.website
SUMMARY:23-04545 PGE SHASTA  BHT 407 HEC CARGO
DESCRIPTION:11-1 POSITIONING LEG \n11-2 AND 11-3 WORK \n23-04545 PGE SHASTA COUNTY CASSEL HEC BHT 407 11-1 THRU 11-3 \nPGE 2023-10-29 0754 23-04545 \nTAILBOARD 8-20-2023
URL:https://ghi.website/event/23-04050-pge-shasta-bht-407-hec-cargo/
END:VEVENT
END:VCALENDAR