BEGIN:VCALENDAR
VERSION:2.0
PRODID:-//GHI Schedule - ECPv6.0.12//NONSGML v1.0//EN
CALSCALE:GREGORIAN
METHOD:PUBLISH
X-WR-CALNAME:GHI Schedule
X-ORIGINAL-URL:https://ghi.website
X-WR-CALDESC:Events for GHI Schedule
REFRESH-INTERVAL;VALUE=DURATION:PT1H
X-Robots-Tag:noindex
X-PUBLISHED-TTL:PT1H
BEGIN:VTIMEZONE
TZID:America/Los_Angeles
BEGIN:DAYLIGHT
TZOFFSETFROM:-0800
TZOFFSETTO:-0700
TZNAME:PDT
DTSTART:20230312T100000
END:DAYLIGHT
BEGIN:STANDARD
TZOFFSETFROM:-0700
TZOFFSETTO:-0800
TZNAME:PST
DTSTART:20231105T090000
END:STANDARD
END:VTIMEZONE
BEGIN:VEVENT
DTSTART;TZID=America/Los_Angeles:20230722T080000
DTEND;TZID=America/Los_Angeles:20230728T170000
DTSTAMP:20260424T084403
CREATED:20230719T145100Z
LAST-MODIFIED:20230719T145100Z
UID:8371-1690012800-1690563600@ghi.website
SUMMARY:UH-1H DOWN FOR MAINTANENCE
DESCRIPTION:
URL:https://ghi.website/event/uh-1h-down-for-maintanence/
END:VEVENT
BEGIN:VEVENT
DTSTART;TZID=America/Los_Angeles:20230722T080000
DTEND;TZID=America/Los_Angeles:20230722T170000
DTSTAMP:20260424T084403
CREATED:20230725T165222Z
LAST-MODIFIED:20230725T173800Z
UID:8403-1690012800-1690045200@ghi.website
SUMMARY:23-02950 PGE KERN HEC PENDING PAERWORK
DESCRIPTION:
URL:https://ghi.website/event/2302950-pge-kern-hec-pending-paerwork/
END:VEVENT
BEGIN:VEVENT
DTSTART;TZID=America/Los_Angeles:20230721T080000
DTEND;TZID=America/Los_Angeles:20230723T170000
DTSTAMP:20260424T084403
CREATED:20230714T224425Z
LAST-MODIFIED:20230714T224425Z
UID:8325-1689926400-1690131600@ghi.website
SUMMARY:DOI RE-PETER NEVADA N498PT
DESCRIPTION:
URL:https://ghi.website/event/doi-re-peter-nevada-n498pt/
END:VEVENT
BEGIN:VEVENT
DTSTART;TZID=America/Los_Angeles:20230721T080000
DTEND;TZID=America/Los_Angeles:20230721T170000
DTSTAMP:20260424T084403
CREATED:20230719T143853Z
LAST-MODIFIED:20230719T143853Z
UID:8368-1689926400-1689958800@ghi.website
SUMMARY:23-02805 PGE BAKERSFIELD PATROL BK117
DESCRIPTION:PGE 2023-07-18 1807 23-02805
URL:https://ghi.website/event/23-02805-pge-bakersfield-patrol-bk117/
END:VEVENT
BEGIN:VEVENT
DTSTART;TZID=America/Los_Angeles:20230721T080000
DTEND;TZID=America/Los_Angeles:20230721T170000
DTSTAMP:20260424T084403
CREATED:20230717T125000Z
LAST-MODIFIED:20230717T151436Z
UID:8344-1689926400-1689958800@ghi.website
SUMMARY:23-02561 PGE MADERA UH-1H POLE SET
DESCRIPTION:23-02561 PGE MADERA BASS LAKE UH-1H NON CAP 7-21-2023 \nTAILBOARD DOCUMENTS 2022 REV 11-16-2022 \n.2561 GUARDIAN
URL:https://ghi.website/event/23-02561-pge-madera-uh-1h-pole-set/
END:VEVENT
BEGIN:VEVENT
DTSTART;TZID=America/Los_Angeles:20230719T080000
DTEND;TZID=America/Los_Angeles:20230720T170000
DTSTAMP:20260424T084403
CREATED:20230707T190559Z
LAST-MODIFIED:20230713T184846Z
UID:8251-1689753600-1689872400@ghi.website
SUMMARY:23-02628 PGE NAPA COUNTY UH-1H POLE SET
DESCRIPTION:23-02628 PGE KNOXVILLE UH-1H POLE SET 7-20-2023 \nPGE 2023-07-13 0640 23-02628 \nTAILBOARD DOCUMENTS 2022 REV 11-16-2022 \nPRE POSITON DAY ON THE 19TH
URL:https://ghi.website/event/23-02628-pge-napa-county-uh-1h-pole-set/
END:VEVENT
BEGIN:VEVENT
DTSTART;TZID=America/Los_Angeles:20230719T080000
DTEND;TZID=America/Los_Angeles:20230719T170000
DTSTAMP:20260424T084403
CREATED:20230717T124017Z
LAST-MODIFIED:20230717T145601Z
UID:8329-1689753600-1689786000@ghi.website
SUMMARY:23-02438 PGE NAPA UH-1H POLE SET
DESCRIPTION:23-02438 CALISTOGA NAPA UH-1H POLE SET NON CAP 7-19-2023 \nTAILBOARD DOCUMENTS 2022 REV 11-16-2022 \nr.2438
URL:https://ghi.website/event/23-02438-pge-napa-uh-1h-pole-set/
END:VEVENT
BEGIN:VEVENT
DTSTART;TZID=America/Los_Angeles:20230718T080000
DTEND;TZID=America/Los_Angeles:20230720T170000
DTSTAMP:20260424T084403
CREATED:20230707T143257Z
LAST-MODIFIED:20230713T175120Z
UID:8235-1689667200-1689872400@ghi.website
SUMMARY:23-02607 PGE FRESNO COUNTY BK117 (2) SHIPS
DESCRIPTION:TAILBOARD DOCUMENTS 2022 REV 11-16-2022 \n23-02607 WISHON RESERVIOR (2) HEC AIRCRAFT 7-18 THRU 7-20-2023 \nPGE 2023-07-13 0640 23-02607 \n 
URL:https://ghi.website/event/23-02607-pge-fresno-county-bht-407-2-ships-2/
END:VEVENT
BEGIN:VEVENT
DTSTART;TZID=America/Los_Angeles:20230718T080000
DTEND;TZID=America/Los_Angeles:20230718T170000
DTSTAMP:20260424T084403
CREATED:20230523T181839Z
LAST-MODIFIED:20230713T181535Z
UID:8075-1689667200-1689699600@ghi.website
SUMMARY:23-01973 PGE SLO TEMPLETON UH-1H  POLE SET 7-18-2023
DESCRIPTION:~temp15 \n23-01973 PGE SANTA MARGARITA UH-1H POLE SET 7-18-2023 NON CAP \nTAILBOARD DOCUMENTS 2022 REV 11-16-2022 \n 
URL:https://ghi.website/event/23-01973-pge-slo-templeton-bk117-pole-set-7-18-2023/
END:VEVENT
BEGIN:VEVENT
DTSTART;TZID=America/Los_Angeles:20230716T080000
DTEND;TZID=America/Los_Angeles:20230820T170000
DTSTAMP:20260424T084403
CREATED:20230529T181157Z
LAST-MODIFIED:20230529T181157Z
UID:8095-1689494400-1692550800@ghi.website
SUMMARY:AETHON N447GH SURVEY
DESCRIPTION:
URL:https://ghi.website/event/aethon-n447gh-survey-2/
END:VEVENT
BEGIN:VEVENT
DTSTART;TZID=America/Los_Angeles:20230716T080000
DTEND;TZID=America/Los_Angeles:20230717T170000
DTSTAMP:20260424T084403
CREATED:20230713T135722Z
LAST-MODIFIED:20230713T153258Z
UID:8271-1689494400-1689613200@ghi.website
SUMMARY:23-02633 PGE SHASTA COUNTY TRINITY UH-1H POLE SET
DESCRIPTION:23-02633 TRINITY UH-1H NON CAP POLE SET 7-17-2023 \nTAILBOARD DOCUMENTS 2022 REV 11-16-2022 \n2633 \nMOB ON THE 16 WORK ON THE 17
URL:https://ghi.website/event/23-02633-pge-shasta-county-trinity-uh-1h-pole-set/
END:VEVENT
BEGIN:VEVENT
DTSTART;TZID=America/Los_Angeles:20230714T080000
DTEND;TZID=America/Los_Angeles:20230714T170000
DTSTAMP:20260424T084403
CREATED:20230629T233635Z
LAST-MODIFIED:20230705T154500Z
UID:8190-1689321600-1689354000@ghi.website
SUMMARY:23-02265 PGE TOULUMNE N777GH
DESCRIPTION:PGE 2023-07-03 0759 23-02265 \n23-02265 PGE TUOLUMNE UH-1H POLE SET 7-10 AND 7-14-2023
URL:https://ghi.website/event/23-02265-pge-n777gh-2/
END:VEVENT
BEGIN:VEVENT
DTSTART;TZID=America/Los_Angeles:20230714T080000
DTEND;TZID=America/Los_Angeles:20230714T170000
DTSTAMP:20260424T084403
CREATED:20230606T215734Z
LAST-MODIFIED:20230606T215734Z
UID:8117-1689321600-1689354000@ghi.website
SUMMARY:23-00859 PGE SALINAS BK117 CARGO POLE SET
DESCRIPTION:~temp29 \n23-00859 PGE SALINAS BK117 CARGO POLE SET 7-14-2023 \nTAILBOARD DOCUMENTS 2022 REV 11-16-2022
URL:https://ghi.website/event/23-00859-pge-salinas-bk117-cargo-pole-set/
END:VEVENT
BEGIN:VEVENT
DTSTART;TZID=America/Los_Angeles:20230712T080000
DTEND;TZID=America/Los_Angeles:20230713T170000
DTSTAMP:20260424T084403
CREATED:20230629T235121Z
LAST-MODIFIED:20230706T181808Z
UID:8195-1689148800-1689267600@ghi.website
SUMMARY:23-02095 PGE FRESNO BHT 407 HEC
DESCRIPTION:TAILBOARD DOCUMENTS 2022 REV 11-16-2022 \n2095 \n23-02095 PGE TRIMMER SPRNGS BHT 407 HEC 7-12 THRU 7-13-2023 \n2095
URL:https://ghi.website/event/23-02095-pge-hec-fresno/
END:VEVENT
BEGIN:VEVENT
DTSTART;TZID=America/Los_Angeles:20230712T080000
DTEND;TZID=America/Los_Angeles:20230713T170000
DTSTAMP:20260424T084403
CREATED:20230628T150927Z
LAST-MODIFIED:20230707T155520Z
UID:8186-1689148800-1689267600@ghi.website
SUMMARY:23-2435 PGE MONDECINO NAPA COUNTY BK117 HEC
DESCRIPTION:~temp25 \n23-02435 PGE REDWOOD VALLEY POTTER VALLEY BHT 407 HEC 7-12 7-13-2023 \nTAILBOARD DOCUMENTS 2022 REV 11-16-2022 \n 
URL:https://ghi.website/event/23-2434-pge-napa-county-bht-407-hec/
END:VEVENT
BEGIN:VEVENT
DTSTART;TZID=America/Los_Angeles:20230712T080000
DTEND;TZID=America/Los_Angeles:20230712T170000
DTSTAMP:20260424T084403
CREATED:20230516T205518Z
LAST-MODIFIED:20230621T152830Z
UID:8022-1689148800-1689181200@ghi.website
SUMMARY:RSCI LODGE POLE PROJECT SILLMAN CREEK CARGO BHT 205
DESCRIPTION:Q2023-474 SILLMAN CREEK DIVERSION PROJECT 7-12-2023 NO CAP UH-1H \nMatt Wilson \nRSCI | 333 W Rossi\, Suite 200 | Boise\, ID 83706 \nOffice: 208.887.1401 | Mobile: 208-972-1172 | Fax: 208.888.9130 \nhttp://www.rscigroup.com
URL:https://ghi.website/event/rsci-lodge-pole-project-sillman-creek-cargo-bht-205/
END:VEVENT
BEGIN:VEVENT
DTSTART;TZID=America/Los_Angeles:20230710T080000
DTEND;TZID=America/Los_Angeles:20230714T170000
DTSTAMP:20260424T084403
CREATED:20230706T144620Z
LAST-MODIFIED:20230706T144620Z
UID:8218-1688976000-1689354000@ghi.website
SUMMARY:23-02464 PGE SLO  TWO HEC SHIPS
DESCRIPTION:
URL:https://ghi.website/event/23-02464-pge-slo-two-hec-ships/
END:VEVENT
BEGIN:VEVENT
DTSTART;TZID=America/Los_Angeles:20230710T080000
DTEND;TZID=America/Los_Angeles:20230714T170000
DTSTAMP:20260424T084403
CREATED:20230629T235252Z
LAST-MODIFIED:20230705T151351Z
UID:8197-1688976000-1689354000@ghi.website
SUMMARY:23-02464 PGE SLO  TWO HEC SHIPS
DESCRIPTION:2464 \n23-02464 PGE SLO 2 HEC AIRCRAFT 7-10 THRU 7-14-2023 \nTAILBOARD DOCUMENTS 2022 REV 11-16-2022
URL:https://ghi.website/event/23-02464-pge-two-hec-ships/
END:VEVENT
BEGIN:VEVENT
DTSTART;TZID=America/Los_Angeles:20230710T080000
DTEND;TZID=America/Los_Angeles:20230710T170000
DTSTAMP:20260424T084403
CREATED:20230629T233600Z
LAST-MODIFIED:20230705T154538Z
UID:8188-1688976000-1689008400@ghi.website
SUMMARY:23-02265 PGE TUOLUMNE N777GH
DESCRIPTION:23-02265 PGE TUOLUMNE UH-1H POLE SET 7-10 AND 7-14-2023 \nPGE 2023-07-03 0759 23-02265 \nTAILBOARD DOCUMENTS 2022 REV 11-16-2022
URL:https://ghi.website/event/23-02265-pge-n777gh/
END:VEVENT
BEGIN:VEVENT
DTSTART;TZID=America/Los_Angeles:20230629T080000
DTEND;TZID=America/Los_Angeles:20230629T170000
DTSTAMP:20260424T084403
CREATED:20230628T150052Z
LAST-MODIFIED:20230628T150052Z
UID:8181-1688025600-1688058000@ghi.website
SUMMARY:23-02413 PGE AS 350 PATROL
DESCRIPTION:
URL:https://ghi.website/event/23-02413-pge-as-350-patrol/
END:VEVENT
BEGIN:VEVENT
DTSTART;TZID=America/Los_Angeles:20230629T080000
DTEND;TZID=America/Los_Angeles:20230629T170000
DTSTAMP:20260424T084403
CREATED:20230628T145908Z
LAST-MODIFIED:20230628T145908Z
UID:8178-1688025600-1688058000@ghi.website
SUMMARY:23-02424 PGE BK117 PATROL
DESCRIPTION:
URL:https://ghi.website/event/23-02424-pge-bk117-patrol/
END:VEVENT
BEGIN:VEVENT
DTSTART;TZID=America/Los_Angeles:20230628T080000
DTEND;TZID=America/Los_Angeles:20230701T170000
DTSTAMP:20260424T084403
CREATED:20230518T194529Z
LAST-MODIFIED:20230616T193303Z
UID:8048-1687939200-1688230800@ghi.website
SUMMARY:23-01905 PGE ONE HEC SHIP
DESCRIPTION:PGE 2023-05-22 1554 23-01905 \nTAILBOARD DOCUMENTS 2022 REV 11-16-2022P \nGE 2023-05-22 1554 23-01905 \n23-01905 MORO BAY 2 HEC SHIPS 6-26 AND 6-27 1 SHIP 6-28 TO 7-2023
URL:https://ghi.website/event/23-01905-pone-hec-ship/
END:VEVENT
BEGIN:VEVENT
DTSTART;TZID=America/Los_Angeles:20230626T080000
DTEND;TZID=America/Los_Angeles:20230627T170000
DTSTAMP:20260424T084403
CREATED:20230518T194457Z
LAST-MODIFIED:20230616T193146Z
UID:8046-1687766400-1687885200@ghi.website
SUMMARY:23-01905 PGE HEC TWO SHIPS
DESCRIPTION:PGE 2023-05-22 1554 23-01905 \nPGE 2023-05-22 1554 23-01905 \n23-01905 MORO BAY 2 HEC SHIPS 6-26 AND 6-27 1 SHIP 6-28 TO 7-2023 \nTAILBOARD DOCUMENTS 2022 REV 11-16-2022
URL:https://ghi.website/event/23-01905-pge-hec-two-ships/
END:VEVENT
BEGIN:VEVENT
DTSTART;TZID=America/Los_Angeles:20230623T080000
DTEND;TZID=America/Los_Angeles:20230623T170000
DTSTAMP:20260424T084403
CREATED:20230525T151419Z
LAST-MODIFIED:20230616T152324Z
UID:8087-1687507200-1687539600@ghi.website
SUMMARY:23-02005 PGE SLO SANTA MARIA BK117 HEC CARGO
DESCRIPTION:23-02005 PGE SLO SANTA MARIA BHT 407 6-23-2023 \nPGE 2023-05-29 1236 23-02005 \nTAILBOARD DOCUMENTS 2022 REV 11-16-2022 \nr.2005
URL:https://ghi.website/event/23-02005-pge-slo-santa-maria-bht-407-hec-cargo/
END:VEVENT
BEGIN:VEVENT
DTSTART;TZID=America/Los_Angeles:20230621T080000
DTEND;TZID=America/Los_Angeles:20230621T170000
DTSTAMP:20260424T084403
CREATED:20230615T215256Z
LAST-MODIFIED:20230615T221424Z
UID:8152-1687334400-1687366800@ghi.website
SUMMARY:23-02284 PGE SLO SANTA MARIA BK117 HEC
DESCRIPTION:TAILBOARD DOCUMENTS 2022 REV 11-16-2022 \n23-02284 PGE SLO CAYUMA BK117 HEC 6-21-2023 \nR.2284
URL:https://ghi.website/event/23-02284-pge-slo-santa-maria-bk117-hec/
END:VEVENT
BEGIN:VEVENT
DTSTART;TZID=America/Los_Angeles:20230618T080000
DTEND;TZID=America/Los_Angeles:20230702T170000
DTSTAMP:20260424T084403
CREATED:20230529T181035Z
LAST-MODIFIED:20230529T181035Z
UID:8093-1687075200-1688317200@ghi.website
SUMMARY:AETHON N447GH SURVEY
DESCRIPTION:
URL:https://ghi.website/event/aethon-n447gh-survey/
END:VEVENT
BEGIN:VEVENT
DTSTART;TZID=America/Los_Angeles:20230616T080000
DTEND;TZID=America/Los_Angeles:20230616T170000
DTSTAMP:20260424T084403
CREATED:20230516T224702Z
LAST-MODIFIED:20230615T145044Z
UID:8024-1686902400-1686934800@ghi.website
SUMMARY:23-01851 PGE KERN COUNTY HEC TRAINING AND QUALIFICAITON
DESCRIPTION:23-01851 PGE KERN BAKERSFIELD HEC TRAINING 6-16-2023 \nTAILBOARD DOCUMENTS 2022 REV 11-16-2022 \nR.1851
URL:https://ghi.website/event/23-01851-pge-kern-county-hec-training-and-qualificaiton/
END:VEVENT
BEGIN:VEVENT
DTSTART;TZID=America/Los_Angeles:20230614T080000
DTEND;TZID=America/Los_Angeles:20230615T170000
DTSTAMP:20260424T084403
CREATED:20230529T182756Z
LAST-MODIFIED:20230609T173607Z
UID:8101-1686729600-1686848400@ghi.website
SUMMARY:23-02047 PGE SAN MATEO (1) HEC SHIP
DESCRIPTION:23-02047 PGE REDWOOD CITY AS350 HEC SUPPORT 66-14 6-15-2023 \nR2047 \nTAILBOARD DOCUMENTS 2022 REV 11-16-2022
URL:https://ghi.website/event/23-02047-pge-san-mateo-1-hec-ship-pending-mike-and-beam/
END:VEVENT
BEGIN:VEVENT
DTSTART;TZID=America/Los_Angeles:20230614T080000
DTEND;TZID=America/Los_Angeles:20230614T170000
DTSTAMP:20260424T084403
CREATED:20230523T183553Z
LAST-MODIFIED:20230609T214249Z
UID:8078-1686729600-1686762000@ghi.website
SUMMARY:23-01709 PGE MARIPOSA INDIAN FLAT UH-1H POLE SET AND CARGO
DESCRIPTION:TAILBOARD DOCUMENTS 2022 REV 11-16-2022 \nR1709 \n23-01709 PGE EL PORTAL INDIAN FLATS POLE SET UH-1H 6-14-2023 \n 
URL:https://ghi.website/event/23-01709-pge-mariposa-indian-flat-uh-1h-pole-set-and-cargo/
END:VEVENT
BEGIN:VEVENT
DTSTART;TZID=America/Los_Angeles:20230612T080000
DTEND;TZID=America/Los_Angeles:20230623T170000
DTSTAMP:20260424T084403
CREATED:20230529T182627Z
LAST-MODIFIED:20230609T180710Z
UID:8099-1686556800-1687539600@ghi.website
SUMMARY:23-02052 PGE PLUMAS CARIBOU HEC (2) SHIPS
DESCRIPTION:TAILBOARD DOCUMENTS 2022 REV 11-16-2022 \nPGE 2023-06-06 0921 23-02052 \n23-02047 PGE RPLUMASCARIBOU TABLE MTN 2 SHIPS HEC 6-12 THRU 6-23-2023 \nPGE 2023-06-06 0921 23-02052
URL:https://ghi.website/event/23-02052-pge-plumas-caribue-hec-2-ships-pending-mike-approval-and-beam/
END:VEVENT
END:VCALENDAR