BEGIN:VCALENDAR
VERSION:2.0
PRODID:-//GHI Schedule - ECPv6.0.12//NONSGML v1.0//EN
CALSCALE:GREGORIAN
METHOD:PUBLISH
X-WR-CALNAME:GHI Schedule
X-ORIGINAL-URL:https://ghi.website
X-WR-CALDESC:Events for GHI Schedule
REFRESH-INTERVAL;VALUE=DURATION:PT1H
X-Robots-Tag:noindex
X-PUBLISHED-TTL:PT1H
BEGIN:VTIMEZONE
TZID:America/Los_Angeles
BEGIN:DAYLIGHT
TZOFFSETFROM:-0800
TZOFFSETTO:-0700
TZNAME:PDT
DTSTART:20230312T100000
END:DAYLIGHT
BEGIN:STANDARD
TZOFFSETFROM:-0700
TZOFFSETTO:-0800
TZNAME:PST
DTSTART:20231105T090000
END:STANDARD
END:VTIMEZONE
BEGIN:VEVENT
DTSTART;TZID=America/Los_Angeles:20231022T080000
DTEND;TZID=America/Los_Angeles:20231031T170000
DTSTAMP:20260424T035519
CREATED:20230918T182246Z
LAST-MODIFIED:20230918T182246Z
UID:8669-1697961600-1698771600@ghi.website
SUMMARY:PGE PSPS N990SL BK 117
DESCRIPTION:
URL:https://ghi.website/event/pge-psps-n990sl-bk-117-2/
END:VEVENT
BEGIN:VEVENT
DTSTART;TZID=America/Los_Angeles:20231021T080000
DTEND;TZID=America/Los_Angeles:20231021T170000
DTSTAMP:20260424T035519
CREATED:20231002T212831Z
LAST-MODIFIED:20231013T180026Z
UID:8704-1697875200-1697907600@ghi.website
SUMMARY:CASTAIC UH-1H CARGO 2500 LBS BAG OF ROCKS (95)
DESCRIPTION:Q2023-483 REV 1 CASTAIC ROCK PROJECT UH-1H NON CAP 10-20-2023
URL:https://ghi.website/event/castaic-uh-1h-cargo-2500-lbs-bag-of-rocks-60/
END:VEVENT
BEGIN:VEVENT
DTSTART;TZID=America/Los_Angeles:20231020T080000
DTEND;TZID=America/Los_Angeles:20231021T170000
DTSTAMP:20260424T035519
CREATED:20231018T162357Z
LAST-MODIFIED:20231018T162357Z
UID:8770-1697788800-1697907600@ghi.website
SUMMARY:23-04457 PGE SANTA MARIA HEC BHT 407
DESCRIPTION:R.4457 \nTAILBOARD 8-20-2023 \n23-04457 PGE SANTA MARIA 407 HEC CARGO NON CAP 10-20 10-21-2023
URL:https://ghi.website/event/23-04457-pge-santa-maria-hec-bht-407/
END:VEVENT
BEGIN:VEVENT
DTSTART;TZID=America/Los_Angeles:20231020T080000
DTEND;TZID=America/Los_Angeles:20231020T170000
DTSTAMP:20260424T035519
CREATED:20231004T154003Z
LAST-MODIFIED:20231013T185414Z
UID:8718-1697788800-1697821200@ghi.website
SUMMARY:23-04164 PGE MONTERY UH-1H POLE SET
DESCRIPTION:23-04164 PGE SALINAS UH-1H NONCAP POLE SET 10-20-2023 \n.4164 guardian \nTAILBOARD 8-20-2023
URL:https://ghi.website/event/23-04164-pge-montery-uh-1h-pole-set/
END:VEVENT
BEGIN:VEVENT
DTSTART;TZID=America/Los_Angeles:20231018T080000
DTEND;TZID=America/Los_Angeles:20231018T170000
DTSTAMP:20260424T035519
CREATED:20231016T144221Z
LAST-MODIFIED:20231016T203220Z
UID:8761-1697616000-1697648400@ghi.website
SUMMARY:23-04417 PGE MADERA FRESNO CARGO N498PT
DESCRIPTION:4417 \n23-04417 PGE KERKCHOFF DAM FRESNO 10-18 10-27-2023 \nTAILBOARD 8-20-2023
URL:https://ghi.website/event/23-04417-pge-madera-fresno-cargo/
END:VEVENT
BEGIN:VEVENT
DTSTART;TZID=America/Los_Angeles:20231016T080000
DTEND;TZID=America/Los_Angeles:20231018T170000
DTSTAMP:20260424T035519
CREATED:20230918T181842Z
LAST-MODIFIED:20231018T160727Z
UID:8664-1697443200-1697648400@ghi.website
SUMMARY:23-03902 PGE TEMPLETON HEC CARGO BHT 407 N111GH
DESCRIPTION:23-03902 PGE SLO BK117 AND BHT 407 NON CAPO HEC 10-16 THRU 10-21-2023 \nPGE 2023-09-18 1033 23-03902 \nTAILBOARD 8-20-2023
URL:https://ghi.website/event/23-03902-pge-templeton-hec-cargo-bht-407-n111gh/
END:VEVENT
BEGIN:VEVENT
DTSTART;TZID=America/Los_Angeles:20231016T080000
DTEND;TZID=America/Los_Angeles:20231018T170000
DTSTAMP:20260424T035519
CREATED:20230918T181806Z
LAST-MODIFIED:20231018T160644Z
UID:8662-1697443200-1697648400@ghi.website
SUMMARY:23-03902 PGE TEMPLETON HEC CARGO BK117 N990SL
DESCRIPTION:23-03902 PGE SLO BK117 AND BHT 407 NON CAPO HEC 10-16 THRU 10-21-2023 \nPGE 2023-09-18 1033 23-03902 \nTAILBOARD 8-20-2023
URL:https://ghi.website/event/23-03902-pge-templeton-hec-cargo-bk117-n990sl/
END:VEVENT
BEGIN:VEVENT
DTSTART;TZID=America/Los_Angeles:20231014T080000
DTEND;TZID=America/Los_Angeles:20231015T170000
DTSTAMP:20260424T035519
CREATED:20230927T145340Z
LAST-MODIFIED:20231004T174106Z
UID:8693-1697270400-1697389200@ghi.website
SUMMARY:23-04121 FRESNO HEC (2) SHIPS  BHT 407
DESCRIPTION:23-04121 23-0472 FRESNO HEC CARGO (2 ) AIRCRAFT \n4121 \nTAILBOARD 8-20-2023
URL:https://ghi.website/event/23-04121-fresno-hec-2-ships-bht-407/
END:VEVENT
BEGIN:VEVENT
DTSTART;TZID=America/Los_Angeles:20231014T080000
DTEND;TZID=America/Los_Angeles:20231015T170000
DTSTAMP:20260424T035519
CREATED:20230927T145226Z
LAST-MODIFIED:20231004T173953Z
UID:8689-1697270400-1697389200@ghi.website
SUMMARY:23-04121 FRESNO HEC (2) SHIPS BK117
DESCRIPTION:23-04121 23-0472 FRESNO HEC CARGO (2 ) AIRCRAFT \n4121 \nTAILBOARD 8-20-2023
URL:https://ghi.website/event/23-04121-fresno-hec-2-ships-bk117-and-bht-407/
END:VEVENT
BEGIN:VEVENT
DTSTART;TZID=America/Los_Angeles:20231009T080000
DTEND;TZID=America/Los_Angeles:20231013T170000
DTSTAMP:20260424T035519
CREATED:20231004T144420Z
LAST-MODIFIED:20231004T173349Z
UID:8715-1696838400-1697216400@ghi.website
SUMMARY:23-04272 PGE FRESNO BHT 407 HEC CARGO
DESCRIPTION:23-04121 23-0472 FRESNO HEC CARGO (2 ) AIRCRAFT \nR.4272 \nTAILBOARD 8-20-2023
URL:https://ghi.website/event/23-04272-pge-fresno-bht-407-hec-cargo/
END:VEVENT
BEGIN:VEVENT
DTSTART;TZID=America/Los_Angeles:20230929T080000
DTEND;TZID=America/Los_Angeles:20230930T170000
DTSTAMP:20260424T035519
CREATED:20230713T143004Z
LAST-MODIFIED:20230915T142755Z
UID:8304-1695974400-1696093200@ghi.website
SUMMARY:23-02464 PGE SLO DIABLO CANYON (2) SHIPS BK117
DESCRIPTION:23-02464 PGE SLO 2 HEC AIRCRAFT 7-10 THRU 7-14-2023 9-25 thru 9-27 9-28 9-29 9-30-2023 \nTAILBOARD 8-20-2023 \n~temp53
URL:https://ghi.website/event/23-02464-pge-slo-diablo-canyon-2-ships-bk117-2/
END:VEVENT
BEGIN:VEVENT
DTSTART;TZID=America/Los_Angeles:20230929T080000
DTEND;TZID=America/Los_Angeles:20230930T170000
DTSTAMP:20260424T035519
CREATED:20230713T142921Z
LAST-MODIFIED:20230915T142713Z
UID:8302-1695974400-1696093200@ghi.website
SUMMARY:23-02464 PGE SLO DIABLO CANYON (2) SHIPS BHT 407
DESCRIPTION:23-02464 PGE SLO 2 HEC AIRCRAFT 7-10 THRU 7-14-2023 9-25 thru 9-27 9-28 9-29 9-30-2023 \nTAILBOARD 8-20-2023 \n~temp53
URL:https://ghi.website/event/23-02464-pge-slo-diablo-canyon-2-ships-bht-407-3/
END:VEVENT
BEGIN:VEVENT
DTSTART;TZID=America/Los_Angeles:20230928T080000
DTEND;TZID=America/Los_Angeles:20230928T170000
DTSTAMP:20260424T035519
CREATED:20230920T213114Z
LAST-MODIFIED:20230921T125953Z
UID:8681-1695888000-1695920400@ghi.website
SUMMARY:23-04010 PGE MADERA MARIPOSA BK117 POLE SET REQUEST SMALL FUEL TRUCK
DESCRIPTION:PGE 2023-09-20 1803 23-04010 \n23-04010 PGE MADERA OAKHURST BK117 POLE SET 9-28-2023 \nTAILBOARD 8-20-2023
URL:https://ghi.website/event/23-04010-pge-madera-mariposa-bk117-pole-set/
END:VEVENT
BEGIN:VEVENT
DTSTART;TZID=America/Los_Angeles:20230928T080000
DTEND;TZID=America/Los_Angeles:20230928T170000
DTSTAMP:20260424T035519
CREATED:20230920T170153Z
LAST-MODIFIED:20230920T170214Z
UID:8676-1695888000-1695920400@ghi.website
SUMMARY:23-03970 PGE MADERA COUNTY HEC TRAINING 9-28-2023
DESCRIPTION:~temp12
URL:https://ghi.website/event/23-03970-pge-madera-county-hec-training-9-28-2023/
END:VEVENT
BEGIN:VEVENT
DTSTART;TZID=America/Los_Angeles:20230928T080000
DTEND;TZID=America/Los_Angeles:20230928T170000
DTSTAMP:20260424T035519
CREATED:20230713T142835Z
LAST-MODIFIED:20230915T142831Z
UID:8300-1695888000-1695920400@ghi.website
SUMMARY:23-02464 PGE SLO DIABLO CANYON (1) SHIP BHT 407
DESCRIPTION:23-02464 PGE SLO 2 HEC AIRCRAFT 7-10 THRU 7-14-2023 9-25 thru 9-27 9-28 9-29 9-30-2023 \nTAILBOARD 8-20-2023 \n~temp53
URL:https://ghi.website/event/23-02464-pge-slo-diablo-canyon-2-ships-bht-407-2/
END:VEVENT
BEGIN:VEVENT
DTSTART;TZID=America/Los_Angeles:20230925T080000
DTEND;TZID=America/Los_Angeles:20230927T170000
DTSTAMP:20260424T035519
CREATED:20230713T142802Z
LAST-MODIFIED:20230915T142608Z
UID:8298-1695628800-1695834000@ghi.website
SUMMARY:23-02464 PGE SLO DIABLO CANYON (2) SHIPS BK117
DESCRIPTION:23-02464 PGE SLO 2 HEC AIRCRAFT 7-10 THRU 7-14-2023 9-25 thru 9-27 9-28 9-29 9-30-2023 \nTAILBOARD 8-20-2023 \n~temp53
URL:https://ghi.website/event/23-02464-pge-slo-diablo-canyon-2-ships-bk117/
END:VEVENT
BEGIN:VEVENT
DTSTART;TZID=America/Los_Angeles:20230925T080000
DTEND;TZID=America/Los_Angeles:20230927T170000
DTSTAMP:20260424T035519
CREATED:20230713T142714Z
LAST-MODIFIED:20230915T142505Z
UID:8295-1695628800-1695834000@ghi.website
SUMMARY:23-02464 PGE SLO DIABLO CANYON (2) SHIPS BHT 407
DESCRIPTION:23-02464 PGE SLO 2 HEC AIRCRAFT 7-10 THRU 7-14-2023 9-25 thru 9-27 9-28 9-29 9-30-2023 \nTAILBOARD 8-20-2023 \n~temp53
URL:https://ghi.website/event/23-02464-pge-slo-diablo-canyon-2-ships-bht-407/
END:VEVENT
BEGIN:VEVENT
DTSTART;TZID=America/Los_Angeles:20230924T080000
DTEND;TZID=America/Los_Angeles:20231018T170000
DTSTAMP:20260424T035519
CREATED:20230905T202941Z
LAST-MODIFIED:20230928T211512Z
UID:8622-1695542400-1697648400@ghi.website
SUMMARY:23-03364 PGE SHASTA UH-1H
DESCRIPTION:r.3364 \n23-03364 PGE LAKE MCCLOUD SHASTA UH-1H CARGO NON CAP 8-28 THRU 9-1 9-4 THRU 9-8 9-11 THRU 9-15 \nr.3364 \nTAILBOARD 8-20-2023
URL:https://ghi.website/event/23-03364-pge-shasta-uh-1h-4/
END:VEVENT
BEGIN:VEVENT
DTSTART;TZID=America/Los_Angeles:20230922T080000
DTEND;TZID=America/Los_Angeles:20230922T170000
DTSTAMP:20260424T035519
CREATED:20230824T174150Z
LAST-MODIFIED:20230908T223127Z
UID:8593-1695369600-1695402000@ghi.website
SUMMARY:RSCI SILLMAN CREEK LODGE POLE DEMOB 250 FT LONGLINE  UH-1H
DESCRIPTION:15 PICKS MAX 2500 LBS \nQ2023-474 DEMOB SILLMAN CREEK DIVERSION PROJECT 9-20-2023 NO CAP UH-1H
URL:https://ghi.website/event/rsci-sillman-creek-lodge-pole-demob-250-ft-longline-uh-1h/
END:VEVENT
BEGIN:VEVENT
DTSTART;TZID=America/Los_Angeles:20230916T080000
DTEND;TZID=America/Los_Angeles:20231013T170000
DTSTAMP:20260424T035519
CREATED:20230808T172456Z
LAST-MODIFIED:20230927T145431Z
UID:8494-1694851200-1697216400@ghi.website
SUMMARY:PGE PSPS N990SL BK 117
DESCRIPTION:
URL:https://ghi.website/event/pge-psps-n990sl-bk-117-3/
END:VEVENT
BEGIN:VEVENT
DTSTART;TZID=America/Los_Angeles:20230911T080000
DTEND;TZID=America/Los_Angeles:20230921T170000
DTSTAMP:20260424T035519
CREATED:20230908T223059Z
LAST-MODIFIED:20230918T175055Z
UID:8631-1694419200-1695315600@ghi.website
SUMMARY:23-03784 PGE SHASTA COUNTY HEC INSULATORS AS350
DESCRIPTION:PGE 2023-09-12 1827 23-03784 \n3784 \nTAILBOARD 8-20-2023
URL:https://ghi.website/event/23-03784-pge-shasta-county-hec-insulators-bk117/
END:VEVENT
BEGIN:VEVENT
DTSTART;TZID=America/Los_Angeles:20230911T080000
DTEND;TZID=America/Los_Angeles:20230915T170000
DTSTAMP:20260424T035519
CREATED:20230804T150310Z
LAST-MODIFIED:20230905T164807Z
UID:8464-1694419200-1694797200@ghi.website
SUMMARY:23-03114 PGE FRESNO HEC INSULATOR BK117
DESCRIPTION:23-03114 PGE COLINGA FRESNO (2) HEC SHIPS 9-5 THRU 9-15- 2023 \nTAILBOARD 8-20-2023 \n3114
URL:https://ghi.website/event/23-03114-pge-fresno-hec-insulator-light-ship-4/
END:VEVENT
BEGIN:VEVENT
DTSTART;TZID=America/Los_Angeles:20230911T080000
DTEND;TZID=America/Los_Angeles:20230915T170000
DTSTAMP:20260424T035519
CREATED:20230804T150238Z
LAST-MODIFIED:20230905T164727Z
UID:8462-1694419200-1694797200@ghi.website
SUMMARY:23-03114 PGE FRESNO HEC INSULATOR LIGHT SHIP
DESCRIPTION:23-03114 PGE COLINGA FRESNO (2) HEC SHIPS 9-5 THRU 9-15- 2023 \nTAILBOARD 8-20-2023 \n3114
URL:https://ghi.website/event/23-03114-pge-fresno-hec-insulator-light-ship-3/
END:VEVENT
BEGIN:VEVENT
DTSTART;TZID=America/Los_Angeles:20230909T080000
DTEND;TZID=America/Los_Angeles:20230909T170000
DTSTAMP:20260424T035519
CREATED:20230810T154849Z
LAST-MODIFIED:20230906T220313Z
UID:8510-1694246400-1694278800@ghi.website
SUMMARY:23-03263 PGE SLO BK117 HEC AND  POLE SET
DESCRIPTION:23-03263 PGE SLO BK117 POLE SET AND HEC 9-9-2023 \nR.3263 \nTAILBOARD 8-20-2023
URL:https://ghi.website/event/23-03263-pge-slo-uh-1h-pole-set-working-with-23-03223/
END:VEVENT
BEGIN:VEVENT
DTSTART;TZID=America/Los_Angeles:20230905T080000
DTEND;TZID=America/Los_Angeles:20230916T170000
DTSTAMP:20260424T035519
CREATED:20230822T184258Z
LAST-MODIFIED:20230822T185120Z
UID:8569-1693900800-1694883600@ghi.website
SUMMARY:23-03468 SAM PGE IMAGINING N55TV
DESCRIPTION:
URL:https://ghi.website/event/23-03468-sam-pge-imagining-n498pt/
END:VEVENT
BEGIN:VEVENT
DTSTART;TZID=America/Los_Angeles:20230905T080000
DTEND;TZID=America/Los_Angeles:20230910T170000
DTSTAMP:20260424T035519
CREATED:20230804T150205Z
LAST-MODIFIED:20230907T210500Z
UID:8460-1693900800-1694365200@ghi.website
SUMMARY:23-03114 PGE FRESNO HEC INSULATOR LIGHT SHIP
DESCRIPTION:23-03114 PGE COLINGA FRESNO (2) HEC SHIPS 9-5 THRU 9-15- 2023 \nTAILBOARD 8-20-2023 \n3114
URL:https://ghi.website/event/23-03114-pge-fresno-hec-insulator-light-ship-2/
END:VEVENT
BEGIN:VEVENT
DTSTART;TZID=America/Los_Angeles:20230905T080000
DTEND;TZID=America/Los_Angeles:20230909T170000
DTSTAMP:20260424T035519
CREATED:20230804T150100Z
LAST-MODIFIED:20230905T164648Z
UID:8457-1693900800-1694278800@ghi.website
SUMMARY:23-03114 PGE FRESNO HEC INSULATOR BK117
DESCRIPTION:23-03114 PGE COLINGA FRESNO (2) HEC SHIPS 9-5 THRU 9-15- 2023 \nTAILBOARD 8-20-2023 \n3114
URL:https://ghi.website/event/23-03114-pge-fresno-hec-insulator-light-ship/
END:VEVENT
BEGIN:VEVENT
DTSTART;TZID=America/Los_Angeles:20230904T080000
DTEND;TZID=America/Los_Angeles:20230921T170000
DTSTAMP:20260424T035519
CREATED:20230821T154959Z
LAST-MODIFIED:20230928T211417Z
UID:8549-1693814400-1695315600@ghi.website
SUMMARY:23-03364 PGE SHASTA UH-1H
DESCRIPTION:r.3364 \nPGE 2023-08-21 1221 23-03364 \n23-03364 PGE LAKE MCCLOUD SHASTA UH-1H CARGO NON CAP 8-28 THRU 9-1 9-4 THRU 9-8 9-11 THRU 9-15 \n 
URL:https://ghi.website/event/23-03364-pge-shasta-uh-1h-2/
END:VEVENT
BEGIN:VEVENT
DTSTART;TZID=America/Los_Angeles:20230903T080000
DTEND;TZID=America/Los_Angeles:20231008T170000
DTSTAMP:20260424T035519
CREATED:20230529T181402Z
LAST-MODIFIED:20230822T184157Z
UID:8097-1693728000-1696784400@ghi.website
SUMMARY:23-03468 AETHON N447GH SURVEY
DESCRIPTION:
URL:https://ghi.website/event/aethon-n447gh-survey-3/
END:VEVENT
BEGIN:VEVENT
DTSTART;TZID=America/Los_Angeles:20230902T080000
DTEND;TZID=America/Los_Angeles:20231107T170000
DTSTAMP:20260424T035519
CREATED:20230518T165541Z
LAST-MODIFIED:20231025T175539Z
UID:8041-1693641600-1699376400@ghi.website
SUMMARY:PGE PSPS N1174U BK 117
DESCRIPTION:
URL:https://ghi.website/event/pge-psps-n1174u-bk-117/
END:VEVENT
END:VCALENDAR