BEGIN:VCALENDAR
VERSION:2.0
PRODID:-//GHI Schedule - ECPv6.0.12//NONSGML v1.0//EN
CALSCALE:GREGORIAN
METHOD:PUBLISH
X-WR-CALNAME:GHI Schedule
X-ORIGINAL-URL:https://ghi.website
X-WR-CALDESC:Events for GHI Schedule
REFRESH-INTERVAL;VALUE=DURATION:PT1H
X-Robots-Tag:noindex
X-PUBLISHED-TTL:PT1H
BEGIN:VTIMEZONE
TZID:America/Los_Angeles
BEGIN:DAYLIGHT
TZOFFSETFROM:-0800
TZOFFSETTO:-0700
TZNAME:PDT
DTSTART:20220313T100000
END:DAYLIGHT
BEGIN:STANDARD
TZOFFSETFROM:-0700
TZOFFSETTO:-0800
TZNAME:PST
DTSTART:20221106T090000
END:STANDARD
END:VTIMEZONE
BEGIN:VEVENT
DTSTART;TZID=America/Los_Angeles:20220628T080000
DTEND;TZID=America/Los_Angeles:20220630T170000
DTSTAMP:20260425T061056
CREATED:20220613T175002Z
LAST-MODIFIED:20220623T160615Z
UID:6975-1656403200-1656608400@ghi.website
SUMMARY:PGE HUMBOLT COUNTY N111GH POLES AND PATROL 22-01422 22-01423
DESCRIPTION:PRE POSITION 28 WORK 29 RETURN 30 \nPGE 2022-06-14 0557 22-01422 \nPGE 2022-06-16 0737 22-01423 \nPGE ROHNERVILLE FORTUNA N111GH HEC POLE REMOVAL PATROL 6-28 THRU 6-30-2022 22-01422 22-01433 \nTAILBOARD DOCUMENTS 2022
URL:https://ghi.website/event/pge-humbolt-county-n111gh-poles-and-patrol-paperwork-pending/
END:VEVENT
BEGIN:VEVENT
DTSTART;TZID=America/Los_Angeles:20220628T080000
DTEND;TZID=America/Los_Angeles:20220628T170000
DTSTAMP:20260425T061056
CREATED:20220627T214634Z
LAST-MODIFIED:20220627T214634Z
UID:7030-1656403200-1656435600@ghi.website
SUMMARY:PGE FRESNO PATROL N498PT 22-01607
DESCRIPTION:R.1607
URL:https://ghi.website/event/pge-fresno-patrol-n498pt-22-01607/
END:VEVENT
BEGIN:VEVENT
DTSTART;TZID=America/Los_Angeles:20220627T080000
DTEND;TZID=America/Los_Angeles:20220702T170000
DTSTAMP:20260425T061056
CREATED:20220624T160914Z
LAST-MODIFIED:20220627T144222Z
UID:7013-1656316800-1656781200@ghi.website
SUMMARY:PGE SANTA CLARA METCALF N407GH HEC 22-01309
DESCRIPTION:TAILBOARD DOCUMENTS 2022 \nWORK ORDER PACKET SAN JOSE METCALF N407GH 6-20 THRU 6-29-2022 22-01309 \nR1309 \n 
URL:https://ghi.website/event/pge-santa-clara-metcalf-n407gh-hec-22-01309-2/
END:VEVENT
BEGIN:VEVENT
DTSTART;TZID=America/Los_Angeles:20220625T080000
DTEND;TZID=America/Los_Angeles:20220626T170000
DTSTAMP:20260425T061056
CREATED:20220624T161312Z
LAST-MODIFIED:20220624T161312Z
UID:7021-1656144000-1656262800@ghi.website
SUMMARY:PGE PSPS N407GH
DESCRIPTION:
URL:https://ghi.website/event/pge-psps-n407gh/
END:VEVENT
BEGIN:VEVENT
DTSTART;TZID=America/Los_Angeles:20220624T080000
DTEND;TZID=America/Los_Angeles:20220627T170000
DTSTAMP:20260425T061056
CREATED:20220607T164110Z
LAST-MODIFIED:20220613T175250Z
UID:6924-1656057600-1656349200@ghi.website
SUMMARY:PGE PSPS N111GH
DESCRIPTION:
URL:https://ghi.website/event/pge-psps-n111gh-3/
END:VEVENT
BEGIN:VEVENT
DTSTART;TZID=America/Los_Angeles:20220622T080000
DTEND;TZID=America/Los_Angeles:20220623T170000
DTSTAMP:20260425T061056
CREATED:20220607T203019Z
LAST-MODIFIED:20220617T192948Z
UID:6936-1655884800-1656003600@ghi.website
SUMMARY:PGE AUBURN MUNI N111GH 22-01328
DESCRIPTION:PGE 2022-06-07 1342 22-01328
URL:https://ghi.website/event/pge-auburn-muni-n111gh-22-01328/
END:VEVENT
BEGIN:VEVENT
DTSTART;TZID=America/Los_Angeles:20220621T080000
DTEND;TZID=America/Los_Angeles:20220625T170000
DTSTAMP:20260425T061056
CREATED:20220526T193253Z
LAST-MODIFIED:20220606T154230Z
UID:6852-1655798400-1656176400@ghi.website
SUMMARY:PGE PATROL N498PT PASO ROBLES 22-01226
DESCRIPTION:R1226
URL:https://ghi.website/event/pge-patrol-bht-407-paso-robles-22-01226/
END:VEVENT
BEGIN:VEVENT
DTSTART;TZID=America/Los_Angeles:20220621T080000
DTEND;TZID=America/Los_Angeles:20220624T170000
DTSTAMP:20260425T061056
CREATED:20220606T154043Z
LAST-MODIFIED:20220624T155535Z
UID:6917-1655798400-1656090000@ghi.website
SUMMARY:PGE SANTA CLARA METCALF N407GH HEC 22-01309
DESCRIPTION:PGE SAN JOSE N 407 GH HEC INSULATORS 6-20 THRU 6-29-2022 22-01309 \nWORK ORDER PACKET SAN JOSE METCALF N407GH 6-20 THRU 6-29-2022 22-01309 \nR1309
URL:https://ghi.website/event/pge-santa-clara-metcalf-n407gh-hec-22-01309/
END:VEVENT
BEGIN:VEVENT
DTSTART;TZID=America/Los_Angeles:20220621T080000
DTEND;TZID=America/Los_Angeles:20220621T170000
DTSTAMP:20260425T061056
CREATED:20220606T152605Z
LAST-MODIFIED:20220610T175015Z
UID:6913-1655798400-1655830800@ghi.website
SUMMARY:PGE MARIPOSA COUNTY UH-1H POLE 22-01279
DESCRIPTION:PG&E MARAPOSA N777GH NON CAP POLE SET 6-21-2022 22-01279 \nR1279 \nWORK ORDER PACKET MARIPOSA N777GH NON CAP POLE6-21-2022 22-01279 \nR1279
URL:https://ghi.website/event/pge-mariposa-county-uh-1h-pole-22-01279/
END:VEVENT
BEGIN:VEVENT
DTSTART;TZID=America/Los_Angeles:20220616T080000
DTEND;TZID=America/Los_Angeles:20220620T170000
DTSTAMP:20260425T061056
CREATED:20220602T154215Z
LAST-MODIFIED:20220609T183302Z
UID:6894-1655366400-1655744400@ghi.website
SUMMARY:N407GH PSPS PGE
DESCRIPTION:
URL:https://ghi.website/event/n407gh-psps-pge-4/
END:VEVENT
BEGIN:VEVENT
DTSTART;TZID=America/Los_Angeles:20220616T080000
DTEND;TZID=America/Los_Angeles:20220616T170000
DTSTAMP:20260425T061056
CREATED:20220614T174409Z
LAST-MODIFIED:20220614T192238Z
UID:6991-1655366400-1655398800@ghi.website
SUMMARY:PGE KIRCHOFF LAKE COMPRESSOR N777GH 22-01371 AFTER BASS LAKE
DESCRIPTION:EDISON TAILBOARD SIGN IN 1-17-2019 \nHELICOPTER LIFT OPERATIONS SAFETY BRIEF CHECKLIST REV 4-11-2019 2021 \nPG&E KIRCKOFF LAKE N777GH NON COMPRESSOR 6-16-2022 22-0137 \nR.1371
URL:https://ghi.website/event/pge-kirchoff-lake-compressor-n777gh-22-01371-after-bass-lake/
END:VEVENT
BEGIN:VEVENT
DTSTART;TZID=America/Los_Angeles:20220616T080000
DTEND;TZID=America/Los_Angeles:20220616T170000
DTSTAMP:20260425T061056
CREATED:20220606T152240Z
LAST-MODIFIED:20220614T133834Z
UID:6910-1655366400-1655398800@ghi.website
SUMMARY:PGE MADERA COUNTY N777GH POLE 22-01276
DESCRIPTION:R.1276 \nPG&E BASE LAKE N777GH NON CAP POLE SET 6-16-2022 22-01276 \nWORK ORDER PACKET BASS LAKE N777GH NON CAP 6-16-2022 22-01276 \nPGE 2022-06-04 0707 22-01276
URL:https://ghi.website/event/pge-madera-county-n777gh-pole-22-01276/
END:VEVENT
BEGIN:VEVENT
DTSTART;TZID=America/Los_Angeles:20220615T080000
DTEND;TZID=America/Los_Angeles:20220620T170000
DTSTAMP:20260425T061056
CREATED:20220607T163958Z
LAST-MODIFIED:20220609T220623Z
UID:6922-1655280000-1655744400@ghi.website
SUMMARY:PGE HUMBOLT COUNTY N111GH HEC NON CAP 22-01311
DESCRIPTION:PG&E HUMBOLT NON CAP BHT 407 6-15-2022 6-20-2022 22-01311 \nPGE 2022-06-08 1045 22-01311 \nWORK ORDER PACKET HUMBOLT ROSEWOOD BHT 407 HEC 6-15 THRU 6-20-2022 22-01311 \nR.1311
URL:https://ghi.website/event/pge-north-n111gh-hec-non-cap-22-01311-paperwork-pending/
END:VEVENT
BEGIN:VEVENT
DTSTART;TZID=America/Los_Angeles:20220615T080000
DTEND;TZID=America/Los_Angeles:20220615T170000
DTSTAMP:20260425T061056
CREATED:20220609T181357Z
LAST-MODIFIED:20220609T181357Z
UID:6950-1655280000-1655312400@ghi.website
SUMMARY:PGE FRESNO COUNTY N407GH HYDRO OPS SUPPORT 22-00987
DESCRIPTION:R987
URL:https://ghi.website/event/pge-fresno-county-n407gh-hydro-ops-support-22-00987/
END:VEVENT
BEGIN:VEVENT
DTSTART;TZID=America/Los_Angeles:20220614T080000
DTEND;TZID=America/Los_Angeles:20220615T170000
DTSTAMP:20260425T061056
CREATED:20220603T223231Z
LAST-MODIFIED:20220609T192021Z
UID:6907-1655193600-1655312400@ghi.website
SUMMARY:PGE NEVADA PLACER COUNTY N777GH POLE  22-01267
DESCRIPTION:PG&E GRASS VALLEY N777GH NON CAP POLE SET 6-14 6-15-2022 22-01267 \nWORK ORDER PACKET GRASS VALLEY N777GH 6-14-6-15-2022 22-01267 \nPGE 2022-06-02 1458 22-01267
URL:https://ghi.website/event/pge-nevada-placer-county-n777gh-pole-22-01267/
END:VEVENT
BEGIN:VEVENT
DTSTART;TZID=America/Los_Angeles:20220613T080000
DTEND;TZID=America/Los_Angeles:20220614T170000
DTSTAMP:20260425T061056
CREATED:20220602T153838Z
LAST-MODIFIED:20220609T181110Z
UID:6890-1655107200-1655226000@ghi.website
SUMMARY:PGE KERN COUNTY N407GH HEC 22-01265
DESCRIPTION:R1265 \nPGE 2022-06-04 1820 22-01265 \nPGE BOWERBANK HEC NON CAP N407GH 6-13 6-14-2022 22-01265 \nWORK ORDER PACKET BOWERBANK 6-13 6-14-2022 22-01265
URL:https://ghi.website/event/pge-kern-county-n407gh-hec-22-01265/
END:VEVENT
BEGIN:VEVENT
DTSTART;TZID=America/Los_Angeles:20220611T080000
DTEND;TZID=America/Los_Angeles:20220614T170000
DTSTAMP:20260425T061056
CREATED:20220602T155402Z
LAST-MODIFIED:20220607T164041Z
UID:6901-1654934400-1655226000@ghi.website
SUMMARY:PGE PSPS N111GH
DESCRIPTION:
URL:https://ghi.website/event/pge-psps-n111gh-2/
END:VEVENT
BEGIN:VEVENT
DTSTART;TZID=America/Los_Angeles:20220611T080000
DTEND;TZID=America/Los_Angeles:20220612T170000
DTSTAMP:20260425T061056
CREATED:20220602T154839Z
LAST-MODIFIED:20220602T154904Z
UID:6897-1654934400-1655053200@ghi.website
SUMMARY:N407GH PSPS PGE
DESCRIPTION:
URL:https://ghi.website/event/n407gh-psps-pge-5/
END:VEVENT
BEGIN:VEVENT
DTSTART;TZID=America/Los_Angeles:20220606T080000
DTEND;TZID=America/Los_Angeles:20220610T170000
DTSTAMP:20260425T061056
CREATED:20220425T163007Z
LAST-MODIFIED:20220602T154754Z
UID:6727-1654502400-1654880400@ghi.website
SUMMARY:PGE MADERA MUNI PATROL N407GH 22-00911
DESCRIPTION:R.911
URL:https://ghi.website/event/pge-madera-muni-patrol-bht407-22-00911/
END:VEVENT
BEGIN:VEVENT
DTSTART;TZID=America/Los_Angeles:20220604T080000
DTEND;TZID=America/Los_Angeles:20220605T170000
DTSTAMP:20260425T061056
CREATED:20220525T211029Z
LAST-MODIFIED:20220602T154732Z
UID:6847-1654329600-1654448400@ghi.website
SUMMARY:N407GH PSPS PGE
DESCRIPTION:
URL:https://ghi.website/event/n407gh-psps-pge-2/
END:VEVENT
BEGIN:VEVENT
DTSTART;TZID=America/Los_Angeles:20220604T080000
DTEND;TZID=America/Los_Angeles:20220605T170000
DTSTAMP:20260425T061056
CREATED:20220426T201330Z
LAST-MODIFIED:20220426T201438Z
UID:6739-1654329600-1654448400@ghi.website
SUMMARY:UTAH DOI BURRO ROUND UP
DESCRIPTION:
URL:https://ghi.website/event/utah-burro-round-up/
END:VEVENT
BEGIN:VEVENT
DTSTART;TZID=America/Los_Angeles:20220602T080000
DTEND;TZID=America/Los_Angeles:20220610T170000
DTSTAMP:20260425T061056
CREATED:20220523T174903Z
LAST-MODIFIED:20220606T154600Z
UID:6842-1654156800-1654880400@ghi.website
SUMMARY:PGE PSPS N111GH
DESCRIPTION:
URL:https://ghi.website/event/pge-psps-n111gh/
END:VEVENT
BEGIN:VEVENT
DTSTART;TZID=America/Los_Angeles:20220601T080000
DTEND;TZID=America/Los_Angeles:20220601T170000
DTSTAMP:20260425T061056
CREATED:20220523T174816Z
LAST-MODIFIED:20220523T174816Z
UID:6840-1654070400-1654102800@ghi.website
SUMMARY:PGE PSPS N111GH INSPECTION CARDED
DESCRIPTION:
URL:https://ghi.website/event/pge-psps-n111gh-inspection-carded/
END:VEVENT
BEGIN:VEVENT
DTSTART;TZID=America/Los_Angeles:20220531T080000
DTEND;TZID=America/Los_Angeles:20220603T170000
DTSTAMP:20260425T061056
CREATED:20220531T150534Z
LAST-MODIFIED:20220531T171439Z
UID:6866-1653984000-1654275600@ghi.website
SUMMARY:PGE MOFFET AFB N407GH HEC CARGO 22-01237
DESCRIPTION:PGE SAN MATEO COUNTY MOFFET AB N407GH HEC CARGO NON CAP 6-1 6-2 22-01237 \nR1237 \nWORK ORDER PACKET SAN MATEO MOFFETT AB N407GH NON CAP HEC CARGO 6-1 6-2 22-01237 \nMOB 5-31 DEMOB 6-3 \nRavenswood-Ames #2 Work Plan! \n 
URL:https://ghi.website/event/pge-moffet-afb-n407gh-hec-cargo-22-01237/
END:VEVENT
BEGIN:VEVENT
DTSTART;TZID=America/Los_Angeles:20220526T080000
DTEND;TZID=America/Los_Angeles:20220602T170000
DTSTAMP:20260425T061056
CREATED:20220523T174721Z
LAST-MODIFIED:20220523T174721Z
UID:6838-1653552000-1654189200@ghi.website
SUMMARY:PGE PSPS N111GH BACK FILL WITH 5-15 THRU 5-17 N498PT 5-26 THRU 6-2
DESCRIPTION:
URL:https://ghi.website/event/pge-psps-n111gh-back-fill-with-5-15-thru-5-17-n498pt-5-26-thru-6-2/
END:VEVENT
BEGIN:VEVENT
DTSTART;TZID=America/Los_Angeles:20220525T080000
DTEND;TZID=America/Los_Angeles:20220527T170000
DTSTAMP:20260425T061056
CREATED:20220419T144656Z
LAST-MODIFIED:20220419T144656Z
UID:6662-1653465600-1653670800@ghi.website
SUMMARY:PGE SLO BHT 407 HEC INSULATORS 22-00827
DESCRIPTION:R827
URL:https://ghi.website/event/pge-slo-bht-407-hec-insulators-22-00827/
END:VEVENT
BEGIN:VEVENT
DTSTART;TZID=America/Los_Angeles:20220525T080000
DTEND;TZID=America/Los_Angeles:20220525T170000
DTSTAMP:20260425T061056
CREATED:20220504T174026Z
LAST-MODIFIED:20220504T174026Z
UID:6768-1653465600-1653498000@ghi.website
SUMMARY:PGE SANTA MARIA NON CAP N777GH 22-00984
DESCRIPTION:R.984
URL:https://ghi.website/event/pge-santa-maria-non-cap-n777gh-22-00984/
END:VEVENT
BEGIN:VEVENT
DTSTART;TZID=America/Los_Angeles:20220519T080000
DTEND;TZID=America/Los_Angeles:20220520T170000
DTSTAMP:20260425T061056
CREATED:20220504T161401Z
LAST-MODIFIED:20220504T182654Z
UID:6762-1652947200-1653066000@ghi.website
SUMMARY:PGE SLO HWY 166 N777GH NON CAP 22-00931
DESCRIPTION:WORK ORDER PACKET PGE CUYAMA N777GH CA 5-9 THRU 5-13 5-16 5-17 5-19 5-20 22-00931 \nPGE CUYAMA CA NON CAP N777GH 5-9 THRU 5-13-2022 5-16-17-19-20 22-00931 \nr.931
URL:https://ghi.website/event/pge-slo-hwy-166-n777gh-non-cap-22-00931-2/
END:VEVENT
BEGIN:VEVENT
DTSTART;TZID=America/Los_Angeles:20220518T080000
DTEND;TZID=America/Los_Angeles:20220518T170000
DTSTAMP:20260425T061057
CREATED:20220504T195154Z
LAST-MODIFIED:20220505T230645Z
UID:6778-1652860800-1652893200@ghi.website
SUMMARY:PGE PATROL CONTRA COSTA COUNTY N999GH 22-00988
DESCRIPTION:PGE 2022-05-04 1630 22-00988 \nR.988
URL:https://ghi.website/event/pge-patrol-contra-costa-county-n999gh-22-00988/
END:VEVENT
BEGIN:VEVENT
DTSTART;TZID=America/Los_Angeles:20220518T080000
DTEND;TZID=America/Los_Angeles:20220518T170000
DTSTAMP:20260425T061057
CREATED:20220503T142501Z
LAST-MODIFIED:20220510T222816Z
UID:6758-1652860800-1652893200@ghi.website
SUMMARY:PGE SLO TEMPLETON HEC N407GH 22-00957
DESCRIPTION:R957 \nPGE 2022-05-09 0555 22-00957 \nPGE SANTA MARGARITA SLO UH-1H AND BHT 407 HEC CARGO POLE 5-18-2022 22-0957 22-0958 \nWORK ORDER PACKET SLO N999GH N777GH 5-18-2022 22-00957 22-00958
URL:https://ghi.website/event/pge-hec-n407gh-22-00957-pending-paperwork/
END:VEVENT
END:VCALENDAR