BEGIN:VCALENDAR
VERSION:2.0
PRODID:-//GHI Schedule - ECPv6.0.12//NONSGML v1.0//EN
CALSCALE:GREGORIAN
METHOD:PUBLISH
X-WR-CALNAME:GHI Schedule
X-ORIGINAL-URL:https://ghi.website
X-WR-CALDESC:Events for GHI Schedule
REFRESH-INTERVAL;VALUE=DURATION:PT1H
X-Robots-Tag:noindex
X-PUBLISHED-TTL:PT1H
BEGIN:VTIMEZONE
TZID:America/Los_Angeles
BEGIN:DAYLIGHT
TZOFFSETFROM:-0800
TZOFFSETTO:-0700
TZNAME:PDT
DTSTART:20220313T100000
END:DAYLIGHT
BEGIN:STANDARD
TZOFFSETFROM:-0700
TZOFFSETTO:-0800
TZNAME:PST
DTSTART:20221106T090000
END:STANDARD
END:VTIMEZONE
BEGIN:VEVENT
DTSTART;TZID=America/Los_Angeles:20220513T080000
DTEND;TZID=America/Los_Angeles:20220513T170000
DTSTAMP:20260425T144631
CREATED:20220510T202854Z
LAST-MODIFIED:20220510T203412Z
UID:6818-1652428800-1652461200@ghi.website
SUMMARY:PGE N999GH BALCH WEST FERRY PASSENGERS 22-00987
DESCRIPTION:PICK UP BALCH WEST PORTAL 36 54.41’N 119 07.72’W \nDROP OFF Patterson Bluff Reflector LZ 36 54.79’N 119 03.96’W \nR987 \n 
URL:https://ghi.website/event/pge-balch-west-ferry-passengers-22-00987/
END:VEVENT
BEGIN:VEVENT
DTSTART;TZID=America/Los_Angeles:20220512T080000
DTEND;TZID=America/Los_Angeles:20220517T170000
DTSTAMP:20260425T144631
CREATED:20220510T180100Z
LAST-MODIFIED:20220510T180100Z
UID:6816-1652342400-1652806800@ghi.website
SUMMARY:N498PT MAINTENANCE
DESCRIPTION:
URL:https://ghi.website/event/n498pt-maintenance/
END:VEVENT
BEGIN:VEVENT
DTSTART;TZID=America/Los_Angeles:20220512T080000
DTEND;TZID=America/Los_Angeles:20220515T170000
DTSTAMP:20260425T144631
CREATED:20220505T214720Z
LAST-MODIFIED:20220509T160338Z
UID:6783-1652342400-1652634000@ghi.website
SUMMARY:PGE SALINAS N407GH HEC INSULATORS 22-01004
DESCRIPTION:PGE STANISLAUS COUNTY N999GH 5-12 5-15 NON CAP 22-01004 \nWORK ORDER PACKET STANISLAUS COUNTY N999GH 22-01004 \nR.1004
URL:https://ghi.website/event/pge-salinas-n407gh-hec-insulators-22-01004/
END:VEVENT
BEGIN:VEVENT
DTSTART;TZID=America/Los_Angeles:20220511T080000
DTEND;TZID=America/Los_Angeles:20220511T170000
DTSTAMP:20260425T144631
CREATED:20220509T202645Z
LAST-MODIFIED:20220510T203102Z
UID:6808-1652256000-1652288400@ghi.website
SUMMARY:FROST CONTROL N211GH SUNRIDGE NURSERIES NEW CUYUMA 0001 TO 0800
DESCRIPTION:
URL:https://ghi.website/event/frost-control-n498pt-sunridge-nurseries-new-cuyuma-0001-to-0800/
END:VEVENT
BEGIN:VEVENT
DTSTART;TZID=America/Los_Angeles:20220511T080000
DTEND;TZID=America/Los_Angeles:20220511T170000
DTSTAMP:20260425T144631
CREATED:20220505T214438Z
LAST-MODIFIED:20220509T175940Z
UID:6781-1652256000-1652288400@ghi.website
SUMMARY:BARON CONSTRUCTION INC. REFUGIO BCH CA N999GH POLE SET LESS 1600 LBS
DESCRIPTION:BARON CONSTRUCTION INC REFUGIO RD NON CONGESTED PLAN 5-11-2022
URL:https://ghi.website/event/baron-construction-inc-refugio-bch-ca-pole-set-less-1800-lbs/
END:VEVENT
BEGIN:VEVENT
DTSTART;TZID=America/Los_Angeles:20220511T000000
DTEND;TZID=America/Los_Angeles:20220511T080000
DTSTAMP:20260425T144631
CREATED:20220509T202744Z
LAST-MODIFIED:20220509T202744Z
UID:6810-1652227200-1652256000@ghi.website
SUMMARY:FROST CONTROL N498PT SUNRIDGE NURSERIES NEW CUYUMA 0001 TO 0800
DESCRIPTION:
URL:https://ghi.website/event/frost-control-n498pt-sunridge-nurseries-new-cuyuma-0001-to-0800-2/
END:VEVENT
BEGIN:VEVENT
DTSTART;TZID=America/Los_Angeles:20220510T080000
DTEND;TZID=America/Los_Angeles:20220510T170000
DTSTAMP:20260425T144631
CREATED:20220509T202536Z
LAST-MODIFIED:20220509T202536Z
UID:6806-1652169600-1652202000@ghi.website
SUMMARY:FROST CONTROL N211GH ENGLISH AIR 0001 TO 0800
DESCRIPTION:
URL:https://ghi.website/event/frost-control-n211gh-english-air-0001-to-0800/
END:VEVENT
BEGIN:VEVENT
DTSTART;TZID=America/Los_Angeles:20220510T000000
DTEND;TZID=America/Los_Angeles:20220510T080000
DTSTAMP:20260425T144631
CREATED:20220509T202351Z
LAST-MODIFIED:20220509T202457Z
UID:6802-1652140800-1652169600@ghi.website
SUMMARY:FROST CONTROL N498PT ENGLISH AIR 0000 TO 0800
DESCRIPTION:
URL:https://ghi.website/event/frost-control-n498pt-english-air/
END:VEVENT
BEGIN:VEVENT
DTSTART;TZID=America/Los_Angeles:20220509T080000
DTEND;TZID=America/Los_Angeles:20220513T170000
DTSTAMP:20260425T144631
CREATED:20220426T201158Z
LAST-MODIFIED:20220504T182531Z
UID:6737-1652083200-1652461200@ghi.website
SUMMARY:PGE SLO HWY 166 N777GH NON CAP 22-00931
DESCRIPTION:PGE CUYAMA CA NON CAP N777GH 5-9 THRU 5-13-2022 5-16-17-19-20 22-00931 \nr.931 \nWORK ORDER PACKET PGE CUYAMA N777GH CA 5-9 THRU 5-13 5-16 5-17 5-19 5-20 22-00931 \nr.931
URL:https://ghi.website/event/pge-slo-hwy-166-n777gh-non-cap-22-00931-pending-paperwork/
END:VEVENT
BEGIN:VEVENT
DTSTART;TZID=America/Los_Angeles:20220509T080000
DTEND;TZID=America/Los_Angeles:20220510T170000
DTSTAMP:20260425T144631
CREATED:20220428T171944Z
LAST-MODIFIED:20220504T161809Z
UID:6747-1652083200-1652202000@ghi.website
SUMMARY:PGE BIG SUR N999GH HEC POLE SET 22-00944
DESCRIPTION:PG&E BIG SUR HEC POLE NON CAP 5-10-2022 22-00944 \nPGE 2022-05-02 0744 22-00944 \nWORK ORDER PACKET PGE BIG SUR 5-10-2022 BHT407 22-00944 \nPRE POSITION ON THE 9TH WORK ON THE 10TH. \nMAKE UP FOR 22-00246 \nR944
URL:https://ghi.website/event/pge-big-sur-n999gh-hec-pole-set-make-up-00246-pending-new-paperwork/
END:VEVENT
BEGIN:VEVENT
DTSTART;TZID=America/Los_Angeles:20220508T080000
DTEND;TZID=America/Los_Angeles:20220511T170000
DTSTAMP:20260425T144631
CREATED:20220428T154143Z
LAST-MODIFIED:20220503T145303Z
UID:6745-1651996800-1652288400@ghi.website
SUMMARY:PGE PILOT HEC CHECK RIDE N407GH
DESCRIPTION:
URL:https://ghi.website/event/pge-pilot-hec-check-ride-bht407/
END:VEVENT
BEGIN:VEVENT
DTSTART;TZID=America/Los_Angeles:20220502T080000
DTEND;TZID=America/Los_Angeles:20220506T170000
DTSTAMP:20260425T144631
CREATED:20220429T204344Z
LAST-MODIFIED:20220429T204344Z
UID:6754-1651478400-1651856400@ghi.website
SUMMARY:N407GH MAINTENANCE
DESCRIPTION:
URL:https://ghi.website/event/n407gh-maintenance/
END:VEVENT
BEGIN:VEVENT
DTSTART;TZID=America/Los_Angeles:20220502T080000
DTEND;TZID=America/Los_Angeles:20220506T170000
DTSTAMP:20260425T144631
CREATED:20220419T153620Z
LAST-MODIFIED:20220419T153620Z
UID:6669-1651478400-1651856400@ghi.website
SUMMARY:PGE SALINAS PATROL BHT 407 22-00857
DESCRIPTION:r.857
URL:https://ghi.website/event/pge-salinas-patrol-bht-407-22-00857/
END:VEVENT
BEGIN:VEVENT
DTSTART;TZID=America/Los_Angeles:20220502T080000
DTEND;TZID=America/Los_Angeles:20220503T170000
DTSTAMP:20260425T144631
CREATED:20220303T162200Z
LAST-MODIFIED:20220315T174358Z
UID:6443-1651478400-1651597200@ghi.website
SUMMARY:USFS AIRCRAFT CARDING N216GH\, N111GH
DESCRIPTION:
URL:https://ghi.website/event/usfs-aircraft-carding-2/
END:VEVENT
BEGIN:VEVENT
DTSTART;TZID=America/Los_Angeles:20220429T080000
DTEND;TZID=America/Los_Angeles:20220429T170000
DTSTAMP:20260425T144631
CREATED:20220419T144335Z
LAST-MODIFIED:20220429T183615Z
UID:6659-1651219200-1651251600@ghi.website
SUMMARY:PGE  MADERA MUNI PATROL TRAINING 407 22-00706
DESCRIPTION:R706
URL:https://ghi.website/event/pge-madera-muni-patrol-training-407-22-00706/
END:VEVENT
BEGIN:VEVENT
DTSTART;TZID=America/Los_Angeles:20220428T080000
DTEND;TZID=America/Los_Angeles:20220428T170000
DTSTAMP:20260425T144631
CREATED:20220419T224100Z
LAST-MODIFIED:20220420T221507Z
UID:6690-1651132800-1651165200@ghi.website
SUMMARY:PGE LIVERMORE TRAINING ACADEMY HEC N407GH 21-03048
DESCRIPTION:R.3048
URL:https://ghi.website/event/pge-livermore-training-academy-hec-n498pt-or-bht407-21-03048/
END:VEVENT
BEGIN:VEVENT
DTSTART;TZID=America/Los_Angeles:20220428T080000
DTEND;TZID=America/Los_Angeles:20220428T170000
DTSTAMP:20260425T144631
CREATED:20220419T160201Z
LAST-MODIFIED:20220419T160558Z
UID:6678-1651132800-1651165200@ghi.website
SUMMARY:KING RIVER WATER SNOW SURVEY KINGS CANYON
DESCRIPTION:REQUEST BASKET
URL:https://ghi.website/event/king-river-water-snow-survey-kings-canyon/
END:VEVENT
BEGIN:VEVENT
DTSTART;TZID=America/Los_Angeles:20220427T080000
DTEND;TZID=America/Los_Angeles:20220427T170000
DTSTAMP:20260425T144631
CREATED:20220420T153424Z
LAST-MODIFIED:20220420T231534Z
UID:6693-1651046400-1651078800@ghi.website
SUMMARY:PGE PATROL NEW COOLINGA MUNI N999GH 22-00879
DESCRIPTION:R.879
URL:https://ghi.website/event/pge-new-coolinga-muni-n498pt-22-00879/
END:VEVENT
BEGIN:VEVENT
DTSTART;TZID=America/Los_Angeles:20220427T080000
DTEND;TZID=America/Los_Angeles:20220427T170000
DTSTAMP:20260425T144631
CREATED:20220407T184657Z
LAST-MODIFIED:20220425T202804Z
UID:6609-1651046400-1651078800@ghi.website
SUMMARY:PGE SLO N407GH HEC POLE SET 22-00750
DESCRIPTION:PGE OAKVILLE NAPA COUNTY NON CAP UH-1H 4-26-4-27-2022 22-00760 \nWORK ORDER PACKET OAKVILLE NAPA COUNTY UH-1H NON CAP 4-26 4-27-2022 22-00760 \nR750
URL:https://ghi.website/event/pge-slo-bht407-hec-pole-set-22-00750-pending-paperwork/
END:VEVENT
BEGIN:VEVENT
DTSTART;TZID=America/Los_Angeles:20220426T080000
DTEND;TZID=America/Los_Angeles:20220427T170000
DTSTAMP:20260425T144631
CREATED:20220413T223116Z
LAST-MODIFIED:20220425T194510Z
UID:6647-1650960000-1651078800@ghi.website
SUMMARY:PGE OAKVILE NAPA N777GH NON CAP 22-00760
DESCRIPTION:PGE OAKVILLE NAPA COUNTY NON CAP UH-1H 4-26-4-27-2022 22-00760 \nR760 \nWORK ORDER PACKET OAKVILLE NAPA COUNTY UH-1H NON CAP 4-26 4-27-2022 22-00760 \nR760
URL:https://ghi.website/event/pge-oakvile-napa-n777gh-non-cap-22-00760/
END:VEVENT
BEGIN:VEVENT
DTSTART;TZID=America/Los_Angeles:20220426T080000
DTEND;TZID=America/Los_Angeles:20220426T170000
DTSTAMP:20260425T144631
CREATED:20220413T222608Z
LAST-MODIFIED:20220413T222639Z
UID:6643-1650960000-1650992400@ghi.website
SUMMARY:PGE REEDLEY MUNI PATROL N407GH 22-00816
DESCRIPTION:R816
URL:https://ghi.website/event/pge-reedley-muni-patrol-n407gh-22-00816/
END:VEVENT
BEGIN:VEVENT
DTSTART;TZID=America/Los_Angeles:20220425T080000
DTEND;TZID=America/Los_Angeles:20220425T170000
DTSTAMP:20260425T144631
CREATED:20220421T205019Z
LAST-MODIFIED:20220421T210605Z
UID:6719-1650873600-1650906000@ghi.website
SUMMARY:CHARTER BHT 407 THERMAL AIRPORT TO TORRANCE OR LONG BEACH TIME TBD
DESCRIPTION:ASK NIKKI WHEN SHE WANTS TO RETURN \nCharter Information  on 4-22 from Long Beach or Torrance Airport to Thermal Airport  and returning 4-24 or 4-25 From Thermal airport  to Long Beach OR Torrance Airport . Customer will provide the names and weights of the 4 passengers. \nCONTACT NIKKI 805-813-0237 \nNikki Eslami   Weight approx. 130 lbs \nJulianna Mulholland Weight approx. 130 lbs \nSamantha Berg Weight approx. 130 lbs \nNAME TO BE DETERMINED Weight approx. 130 lbs
URL:https://ghi.website/event/charter-thermal-airport-to-torrance-or-long-beach-time-tbd/
END:VEVENT
BEGIN:VEVENT
DTSTART;TZID=America/Los_Angeles:20220423T080000
DTEND;TZID=America/Los_Angeles:20220425T170000
DTSTAMP:20260425T144631
CREATED:20220420T232532Z
LAST-MODIFIED:20220421T204421Z
UID:6709-1650700800-1650906000@ghi.website
SUMMARY:PGE MENDOCINO COUNTY HEC AIR CHAIR CARGO NETS  N999GH 22-00889
DESCRIPTION:PGE MEDOCINO COUNTY LAYTONVILLE BHT407 4-23 THRU 4-25-2022 22-00889 \nR.889 \nWORK ORDER PACKET LAYTONVILLE MENDOCINO COUNTY 4-23THRU 4-25-2022 22-00889
URL:https://ghi.website/event/pge-mendocino-county-n999gh-22-00889/
END:VEVENT
BEGIN:VEVENT
DTSTART;TZID=America/Los_Angeles:20220422T080000
DTEND;TZID=America/Los_Angeles:20220422T170000
DTSTAMP:20260425T144631
CREATED:20220421T204809Z
LAST-MODIFIED:20220421T210528Z
UID:6717-1650614400-1650646800@ghi.website
SUMMARY:CHARTER BHT 407 TORRANCE TO THERMAL 11:00 PICKUP
DESCRIPTION:ASK NIKKI WHEN SHE WANTS TO RETURN  \nCharter Information  on 4-22 from Long Beach or Torrance Airport to Thermal Airport  and returning 4-24 or 4-25 From Thermal airport  to Long Beach OR Torrance Airport . Customer will provide the names and weights of the 4 passengers. \nCONTACT NIKKI 805-813-0237 \nNikki Eslami   Weight approx. 130 lbs \nJulianna Mulholland Weight approx. 130 lbs \nSamantha Berg Weight approx. 130 lbs \nNAME TO BE DETERMINED Weight approx. 130 lbs
URL:https://ghi.website/event/charter-torrance-to-thermal-1100-pickup/
END:VEVENT
BEGIN:VEVENT
DTSTART;TZID=America/Los_Angeles:20220422T080000
DTEND;TZID=America/Los_Angeles:20220422T170000
DTSTAMP:20260425T144631
CREATED:20220303T164801Z
LAST-MODIFIED:20220421T210430Z
UID:6448-1650614400-1650646800@ghi.website
SUMMARY:PGE BFL PATROL N498PT 22-00445
DESCRIPTION:R445
URL:https://ghi.website/event/pge-bfl-patrol-n498pt-22-00445/
END:VEVENT
BEGIN:VEVENT
DTSTART;TZID=America/Los_Angeles:20220420T080000
DTEND;TZID=America/Los_Angeles:20220420T170000
DTSTAMP:20260425T144631
CREATED:20220419T143636Z
LAST-MODIFIED:20220419T154013Z
UID:6656-1650441600-1650474000@ghi.website
SUMMARY:PGE PATROL SONOMA N498PT 22-00829
DESCRIPTION:R829
URL:https://ghi.website/event/pge-patrol-sonoma-407gh-22-00829/
END:VEVENT
BEGIN:VEVENT
DTSTART;TZID=America/Los_Angeles:20220420T080000
DTEND;TZID=America/Los_Angeles:20220420T170000
DTSTAMP:20260425T144631
CREATED:20220413T185918Z
LAST-MODIFIED:20220419T220124Z
UID:6640-1650441600-1650474000@ghi.website
SUMMARY:PGE SOUTH SAN JOSE NON CAP N407GH HEC INSULATOR 22-00809
DESCRIPTION:PGE SAN JOSE BELL 407 HEC INSULATORS 4-20-2022 22-00809 \nWORK ORDER PACKET SAN JOSE 4-20-2022 22-00809 \nR809
URL:https://ghi.website/event/pge-south-san-jose-non-cap-n407gh-hec-insulator-22-00809/
END:VEVENT
BEGIN:VEVENT
DTSTART;TZID=America/Los_Angeles:20220419T080000
DTEND;TZID=America/Los_Angeles:20220419T170000
DTSTAMP:20260425T144631
CREATED:20220406T153926Z
LAST-MODIFIED:20220408T224217Z
UID:6599-1650355200-1650387600@ghi.website
SUMMARY:PGE COALINGA PATROL N498PT22-00728
DESCRIPTION:PGE 2022-04-08 0944 22-00728 \nR728
URL:https://ghi.website/event/pge-coalinga-patrol-bht-407-or-as350-22-00728/
END:VEVENT
BEGIN:VEVENT
DTSTART;TZID=America/Los_Angeles:20220418T080000
DTEND;TZID=America/Los_Angeles:20220422T170000
DTSTAMP:20260425T144631
CREATED:20220406T153840Z
LAST-MODIFIED:20220413T232053Z
UID:6596-1650268800-1650646800@ghi.website
SUMMARY:PGE NEEDLES NON CAP N999GH PASSENGERS / PROPANE TANK 22-00663 22-00746
DESCRIPTION:R663 \nPGE OLD WOMEN MTN CARGO 22-00663 PASSENGERS 22-0746 NON CAP \nWORK ORDER PACKET OLD WOMEN MTN 4-18-4-22 22-00663 22-00746 \nR746 \n  \n18TH MOB \n19\,20\,21 WORK \n22ND DEMOB
URL:https://ghi.website/event/pge-needles-move-people-and-equipment-22-00663/
END:VEVENT
BEGIN:VEVENT
DTSTART;TZID=America/Los_Angeles:20220415T080000
DTEND;TZID=America/Los_Angeles:20220415T170000
DTSTAMP:20260425T144631
CREATED:20220408T160342Z
LAST-MODIFIED:20220411T145548Z
UID:6612-1650009600-1650042000@ghi.website
SUMMARY:PGE PATROL OAKHURST N498PT 22-00706
DESCRIPTION:PGE 2022-04-08 0944 22-00706 \nR706
URL:https://ghi.website/event/pge-patrol-oakhurst-n498pt-22-00706/
END:VEVENT
END:VCALENDAR