BEGIN:VCALENDAR
VERSION:2.0
PRODID:-//GHI Schedule - ECPv6.0.12//NONSGML v1.0//EN
CALSCALE:GREGORIAN
METHOD:PUBLISH
X-WR-CALNAME:GHI Schedule
X-ORIGINAL-URL:https://ghi.website
X-WR-CALDESC:Events for GHI Schedule
REFRESH-INTERVAL;VALUE=DURATION:PT1H
X-Robots-Tag:noindex
X-PUBLISHED-TTL:PT1H
BEGIN:VTIMEZONE
TZID:America/Los_Angeles
BEGIN:DAYLIGHT
TZOFFSETFROM:-0800
TZOFFSETTO:-0700
TZNAME:PDT
DTSTART:20220313T100000
END:DAYLIGHT
BEGIN:STANDARD
TZOFFSETFROM:-0700
TZOFFSETTO:-0800
TZNAME:PST
DTSTART:20221106T090000
END:STANDARD
BEGIN:DAYLIGHT
TZOFFSETFROM:-0800
TZOFFSETTO:-0700
TZNAME:PDT
DTSTART:20230312T100000
END:DAYLIGHT
BEGIN:STANDARD
TZOFFSETFROM:-0700
TZOFFSETTO:-0800
TZNAME:PST
DTSTART:20231105T090000
END:STANDARD
END:VTIMEZONE
BEGIN:VEVENT
DTSTART;TZID=America/Los_Angeles:20230306T080000
DTEND;TZID=America/Los_Angeles:20230308T170000
DTSTAMP:20260425T032941
CREATED:20230306T133552Z
LAST-MODIFIED:20230306T133610Z
UID:7821-1678089600-1678294800@ghi.website
SUMMARY:23-00793 23-00794 PGE BHT 407 HEC NEW CUYAMA CA
DESCRIPTION:23-00793 23-00794 PGE SLO-SB COUNTY NEW CUYAMA BHT 407 NON CAP \nPGE 2023-03-05 1941 23-00793 \nPGE 2023-03-05 1941 23-00794 \nTAILBOARD DOCUMENTS 2022 REV 11-16-2022
URL:https://ghi.website/event/23-00793-23-00794-pge-bht-407-hec-new-cuyama-ca/
END:VEVENT
BEGIN:VEVENT
DTSTART;TZID=America/Los_Angeles:20230303T080000
DTEND;TZID=America/Los_Angeles:20230303T170000
DTSTAMP:20260425T032941
CREATED:20230303T122613Z
LAST-MODIFIED:20230303T122613Z
UID:7817-1677830400-1677862800@ghi.website
SUMMARY:23-00743 PGE BIG BASIN FELTON N498PT HEC ARM REPLACEMENT
DESCRIPTION:R.743 \n23-00743 BIG BASIN FELTON N498PT HEC ARM REPLACEMENT 2-00743 \nTAILBOARD DOCUMENTS 2022 REV 11-16-2022
URL:https://ghi.website/event/23-00743-pge-big-basin-felton-n498pt-hec-arm-replacement/
END:VEVENT
BEGIN:VEVENT
DTSTART;TZID=America/Los_Angeles:20230228T080000
DTEND;TZID=America/Los_Angeles:20230305T170000
DTSTAMP:20260425T032941
CREATED:20230208T162820Z
LAST-MODIFIED:20230224T224254Z
UID:7747-1677571200-1678035600@ghi.website
SUMMARY:23-00422 PGE SLO N407GH HEC AIRCHAIR
DESCRIPTION:R.422 \n23-00422 PGE SLO CAYUCOS N111GH N497GH OR N498PT CARGO AIRCHAIR 2-25 THRU 3-3-2023 \nTAILBOARD DOCUMENTS 2022 REV 11-16-2022 \nR.422
URL:https://ghi.website/event/23-00422-pge-slo-n407gh-hec-airchair/
END:VEVENT
BEGIN:VEVENT
DTSTART;TZID=America/Los_Angeles:20230228T080000
DTEND;TZID=America/Los_Angeles:20230305T170000
DTSTAMP:20260425T032941
CREATED:20230208T162615Z
LAST-MODIFIED:20230224T224331Z
UID:7743-1677571200-1678035600@ghi.website
SUMMARY:23-00422 PGE SLO N111GH HEC AIRCHAIR
DESCRIPTION:23-00422 PGE SLO CAYUCOS N111GH N497GH OR N498PT CARGO AIRCHAIR 2-25 THRU 3-3-2023 \nR.422 \nTAILBOARD DOCUMENTS 2022 REV 11-16-2022 \nR.422
URL:https://ghi.website/event/pge-slo-2-bht-407s-pending-paperwork/
END:VEVENT
BEGIN:VEVENT
DTSTART;TZID=America/Los_Angeles:20230215T080000
DTEND;TZID=America/Los_Angeles:20230215T170000
DTSTAMP:20260425T032941
CREATED:20230125T184003Z
LAST-MODIFIED:20230213T213618Z
UID:7696-1676448000-1676480400@ghi.website
SUMMARY:23-0303 PGE SANTA BARBARA HEC INSULATOR N498PT
DESCRIPTION:23-00303 PGE LOMPOC SBC N498PT NON CAP HEC 2-15-2023 \nr.303 \n.TAILBOARD DOCUMENTS 2022 REV 11-16-2022
URL:https://ghi.website/event/23-0303-pge-santa-barbara-hec-insulator-bht-407/
END:VEVENT
BEGIN:VEVENT
DTSTART;TZID=America/Los_Angeles:20230214T080000
DTEND;TZID=America/Los_Angeles:20230216T170000
DTSTAMP:20260425T032941
CREATED:20230209T224024Z
LAST-MODIFIED:20230213T205245Z
UID:7755-1676361600-1676566800@ghi.website
SUMMARY:22-00383 MARAPOSA N407GH HEC
DESCRIPTION:R383 \n23-00383 EL PORTAL YOSEMITE N11GH N407GH NON CAP HEC 2-10-2023 \nTAILBOARD DOCUMENTS 2022 REV 11-16-2022
URL:https://ghi.website/event/22-00383-maraposa-n498pt-hec/
END:VEVENT
BEGIN:VEVENT
DTSTART;TZID=America/Los_Angeles:20230214T080000
DTEND;TZID=America/Los_Angeles:20230216T170000
DTSTAMP:20260425T032941
CREATED:20230209T223912Z
LAST-MODIFIED:20230213T205212Z
UID:7753-1676361600-1676566800@ghi.website
SUMMARY:22-00383 MARAPOSA N111GH HEC
DESCRIPTION:23-00383 EL PORTAL YOSEMITE N11GH N407GH NON CAP HEC 2-10-2023 \nR383 \nTAILBOARD DOCUMENTS 2022 REV 11-16-2022
URL:https://ghi.website/event/22-00383-maraposa-n111gh-hec/
END:VEVENT
BEGIN:VEVENT
DTSTART;TZID=America/Los_Angeles:20230127T080000
DTEND;TZID=America/Los_Angeles:20230127T170000
DTSTAMP:20260425T032941
CREATED:20230125T183849Z
LAST-MODIFIED:20230125T192649Z
UID:7694-1674806400-1674838800@ghi.website
SUMMARY:23-00319 PACINES CA SAN BENITO BHT407 HEC INSULATORS
DESCRIPTION:R.319 \nPGE 23-00319 PAICINES CA HEC NON CAP BHT 407 1-27-2023 \nTAILBOARD DOCUMENTS 2022 REV 11-16-2022
URL:https://ghi.website/event/23-pending-paperwork-san-benito-bht407-hec-insulators/
END:VEVENT
BEGIN:VEVENT
DTSTART;TZID=America/Los_Angeles:20230123T080000
DTEND;TZID=America/Los_Angeles:20230401T170000
DTSTAMP:20260425T032941
CREATED:20230116T154805Z
LAST-MODIFIED:20230116T155823Z
UID:7677-1674460800-1680368400@ghi.website
SUMMARY:23-00145 PGE AETHON BHT407 ( NO SUNDAYS)
DESCRIPTION:PGE 2023-01-14 0544 23-00145
URL:https://ghi.website/event/23-00145-pge-aethon-bht407-no-sundays/
END:VEVENT
BEGIN:VEVENT
DTSTART;TZID=America/Los_Angeles:20230116T080000
DTEND;TZID=America/Los_Angeles:20230121T170000
DTSTAMP:20260425T032941
CREATED:20230103T181516Z
LAST-MODIFIED:20230103T181830Z
UID:7656-1673856000-1674320400@ghi.website
SUMMARY:23-00008 PGE AETHON N447GH
DESCRIPTION:PGE 2023-01-03 1015 23-00008 \nR.8
URL:https://ghi.website/event/23-00008/
END:VEVENT
BEGIN:VEVENT
DTSTART;TZID=America/Los_Angeles:20230109T080000
DTEND;TZID=America/Los_Angeles:20230114T170000
DTSTAMP:20260425T032941
CREATED:20230103T181403Z
LAST-MODIFIED:20230103T181728Z
UID:7653-1673251200-1673715600@ghi.website
SUMMARY:22-00008 PGE AETHON N447GH
DESCRIPTION:PGE 2023-01-03 1015 23-00008 \nR.8
URL:https://ghi.website/event/22-00008-pge-aethon-n447gh/
END:VEVENT
BEGIN:VEVENT
DTSTART;TZID=America/Los_Angeles:20230103T080000
DTEND;TZID=America/Los_Angeles:20230105T170000
DTSTAMP:20260425T032941
CREATED:20221201T172317Z
LAST-MODIFIED:20221227T174043Z
UID:7570-1672732800-1672938000@ghi.website
SUMMARY:22-03505 PGE HEC SLO N407GH
DESCRIPTION:PG&E SLO AVILLA BEACH ATESCARDO CA BHT 407 HEC 1-3 THRU 1-5-2023 22-03505 \nTAILBOARD DOCUMENTS 2022 REV 11-16-2022 \nPGE 2022-12-06 1516 22-03505
URL:https://ghi.website/event/22-03505-pge-hec-slo-pending-paperwork/
END:VEVENT
BEGIN:VEVENT
DTSTART;TZID=America/Los_Angeles:20221228T080000
DTEND;TZID=America/Los_Angeles:20221228T170000
DTSTAMP:20260425T032941
CREATED:20221228T004050Z
LAST-MODIFIED:20221228T004050Z
UID:7646-1672214400-1672246800@ghi.website
SUMMARY:22-03086 DIABLO SLO HEC DAMPER
DESCRIPTION:r.3086 \nTAILBOARD DOCUMENTS 2022 REV 11-16-2022
URL:https://ghi.website/event/22-03086-diablo-slo-hec-damper/
END:VEVENT
BEGIN:VEVENT
DTSTART;TZID=America/Los_Angeles:20221228T080000
DTEND;TZID=America/Los_Angeles:20221228T170000
DTSTAMP:20260425T032941
CREATED:20221223T152507Z
LAST-MODIFIED:20221223T152627Z
UID:7632-1672214400-1672246800@ghi.website
SUMMARY:PGE PATROL BFL MEADOWS FIELD 22-03672
DESCRIPTION:PGE 2022-12-22 1132 22-03672 \nR3672
URL:https://ghi.website/event/pge-patrol-bfl-meadows-field-22-03672/
END:VEVENT
BEGIN:VEVENT
DTSTART;TZID=America/Los_Angeles:20221222T080000
DTEND;TZID=America/Los_Angeles:20221222T170000
DTSTAMP:20260425T032941
CREATED:20221209T172514Z
LAST-MODIFIED:20221209T172514Z
UID:7608-1671696000-1671728400@ghi.website
SUMMARY:HELIX MECHANICAL UH-1H ELOY  FLORENCE AZ
DESCRIPTION:FLORENCE CORRECTIONAL FACILITY NON- CAP 12-21-2022 \nSAFETY BRIEF NON UTILITY 2022 PORTFOLIO
URL:https://ghi.website/event/helix-mechanical-uh-1h-eloy-florence-az/
END:VEVENT
BEGIN:VEVENT
DTSTART;TZID=America/Los_Angeles:20221221T080000
DTEND;TZID=America/Los_Angeles:20221221T170000
DTSTAMP:20260425T032941
CREATED:20221209T173108Z
LAST-MODIFIED:20221209T181152Z
UID:7610-1671609600-1671642000@ghi.website
SUMMARY:NORTHWEST NEW MEXICO CORRECTIONAL CENTER
DESCRIPTION:SAFETY BRIEF NON UTILITY 2022 PORTFOLIO \nNORTHWEST NEW MEXICO CORRECTIONAL FACILITY NON- CAP 12-21-2022
URL:https://ghi.website/event/northwest-new-mexico-correctional-center/
END:VEVENT
BEGIN:VEVENT
DTSTART;TZID=America/Los_Angeles:20221219T080000
DTEND;TZID=America/Los_Angeles:20221222T170000
DTSTAMP:20260425T032941
CREATED:20221116T220029Z
LAST-MODIFIED:20221129T220054Z
UID:7448-1671436800-1671728400@ghi.website
SUMMARY:PGE SLO N407GH HEC INSULATORS 22-03382
DESCRIPTION:R.3382
URL:https://ghi.website/event/pge-slo-n407gh-hec-insulators-22-03382/
END:VEVENT
BEGIN:VEVENT
DTSTART;TZID=America/Los_Angeles:20221219T080000
DTEND;TZID=America/Los_Angeles:20221220T170000
DTSTAMP:20260425T032941
CREATED:20221116T221336Z
LAST-MODIFIED:20221129T220147Z
UID:7450-1671436800-1671555600@ghi.website
SUMMARY:PGE SLO N111GH HEC INSULATORS 22-03382
DESCRIPTION:R.3382
URL:https://ghi.website/event/pge-slo-n111gh-hec-insulators-22-03382/
END:VEVENT
BEGIN:VEVENT
DTSTART;TZID=America/Los_Angeles:20221218T080000
DTEND;TZID=America/Los_Angeles:20221220T170000
DTSTAMP:20260425T032941
CREATED:20221111T164658Z
LAST-MODIFIED:20221209T172429Z
UID:7425-1671350400-1671555600@ghi.website
SUMMARY:HELIX MECHANICAL UH-1H ELOY  FLORENCE AZ
DESCRIPTION:SAFETY BRIEF NON UTILITY 2022 PORTFOLIO \nELOY CORRECTIONAL CENTER NON- CAP 12-19 12-20-2022 \nFLORENCE CORRECTIONAL FACILITY NON- CAP 12-21-2022 \nLA PALMA CORRECTIONAL FACILITY NON- CAP12-19 12-20-2022 \nRED ROCK CORRECTIONAL FACILITY NON- CAP12-19 12-20-2022 \nSAGUAO CORRECTIONAL CENTER NON- CAP 12-19 12-20-2022 \nMOB DAY 12-18 \nWORK IN CASA GRANDE 19TH AND 20TH \n21st IS AN OFF DAY \n22nd WORK IN FLORENCE IN THE AM \n22nd AFTERNOON RETURN TO FILLMORE
URL:https://ghi.website/event/helix-mechanical-uh-1h-florence-az/
END:VEVENT
BEGIN:VEVENT
DTSTART;TZID=America/Los_Angeles:20221214T080000
DTEND;TZID=America/Los_Angeles:20221217T170000
DTSTAMP:20260425T032941
CREATED:20221122T192851Z
LAST-MODIFIED:20221122T192851Z
UID:7480-1671004800-1671296400@ghi.website
SUMMARY:GHI AS350 TRAINING
DESCRIPTION:
URL:https://ghi.website/event/ghi-as350-training/
END:VEVENT
BEGIN:VEVENT
DTSTART;TZID=America/Los_Angeles:20221214T080000
DTEND;TZID=America/Los_Angeles:20221215T170000
DTSTAMP:20260425T032941
CREATED:20221208T201335Z
LAST-MODIFIED:20221209T201222Z
UID:7598-1671004800-1671123600@ghi.website
SUMMARY:22-03566 FERRY 22-03567 CARGO N407GH STANISLAUS
DESCRIPTION:PG&E MEDESTO N407GH 12-14 AND 12-15 22-03566 FERRY 22-03567 CARGO \nR3566 \nR3567 \nTAILBOARD DOCUMENTS 2022 REV 11-16-2022
URL:https://ghi.website/event/pending-paperwrok-medesto-bht407-passenger-and-cargo/
END:VEVENT
BEGIN:VEVENT
DTSTART;TZID=America/Los_Angeles:20221212T080000
DTEND;TZID=America/Los_Angeles:20221216T170000
DTSTAMP:20260425T032941
CREATED:20221202T204400Z
LAST-MODIFIED:20221206T230204Z
UID:7578-1670832000-1671210000@ghi.website
SUMMARY:BLM LAS VEGAS BHT 407
DESCRIPTION:CPARS Form \nD01 FA 140D0423FL006
URL:https://ghi.website/event/blm-las-vegas-bht-407/
END:VEVENT
BEGIN:VEVENT
DTSTART;TZID=America/Los_Angeles:20221212T080000
DTEND;TZID=America/Los_Angeles:20221212T170000
DTSTAMP:20260425T032941
CREATED:20221104T223345Z
LAST-MODIFIED:20221208T212124Z
UID:7409-1670832000-1670864400@ghi.website
SUMMARY:22-03288 PGE FRESNO MULE PEAK BHT205  POLE SET
DESCRIPTION:3288 \nPG&E BALCH CAMP BHT 205 POLE SET NON CAP 22-03288 \nTAILBOARD DOCUMENTS 2022 REV 11-16-2022 \nREMINDER \nDay Before: \nProject managers and/or Pilots – Please Contact YOSE Dispatch  @ 209-379-1992\, with Aircraft Call sign\, estimated ETD from Base\, Estimated time you will be entering the Park\, and planned routes of travel.    email:  yose_emergency_communications@nps.gov\, susan_bates@nps.gov\, andrew_davenport@nps.gov\, heather_wonenberg@nps.gov \n  \nDay of Flight: Pilots – Please Contact YOSE Dispatch (Pre-Flight) @ 209-379-1992\, and confirm estimated ETD from Base\, Estimated time you will be entering the Park\, and planned routes of travel and when you have completed flights for the day. Victor frequency updates will be provided Example of the info we will provide to Project managers and Pilots. \n 
URL:https://ghi.website/event/pge-fresno-mule-peak-uh-1h-pole-set-22-03288/
END:VEVENT
BEGIN:VEVENT
DTSTART;TZID=America/Los_Angeles:20221208T080000
DTEND;TZID=America/Los_Angeles:20221213T170000
DTSTAMP:20260425T032941
CREATED:20221111T181520Z
LAST-MODIFIED:20221111T181520Z
UID:7427-1670486400-1670950800@ghi.website
SUMMARY:UH-1H AND 407 TRAINING
DESCRIPTION:
URL:https://ghi.website/event/uh-1h-and-407-training/
END:VEVENT
BEGIN:VEVENT
DTSTART;TZID=America/Los_Angeles:20221207T080000
DTEND;TZID=America/Los_Angeles:20221207T170000
DTSTAMP:20260425T032941
CREATED:20221017T205037Z
LAST-MODIFIED:20221205T150710Z
UID:7339-1670400000-1670432400@ghi.website
SUMMARY:PGE SLO  N407GH  POLE SET 22-03048
DESCRIPTION:~temp2 \nPGE SANTA MARGARITA SLO N407GHT CARGO POLE NON CAP 12-7-2022 22-03048 \nTAILBOARD DOCUMENTS 2022 REV 11-16-2022
URL:https://ghi.website/event/pge-slo-n498pt-pole-set-22-03048/
END:VEVENT
BEGIN:VEVENT
DTSTART;TZID=America/Los_Angeles:20221206T080000
DTEND;TZID=America/Los_Angeles:20221206T170000
DTSTAMP:20260425T032941
CREATED:20221123T172240Z
LAST-MODIFIED:20221123T172424Z
UID:7511-1670313600-1670346000@ghi.website
SUMMARY:HONEYWELL BHT 407 AND BHT 205 30 MIN FLIGHT FROM FILLMORE
DESCRIPTION:
URL:https://ghi.website/event/honeywell-bht-407-and-bht-205-30-min-flight-from-fillmore/
END:VEVENT
BEGIN:VEVENT
DTSTART;TZID=America/Los_Angeles:20221206T080000
DTEND;TZID=America/Los_Angeles:20221206T170000
DTSTAMP:20260425T032941
CREATED:20221117T164618Z
LAST-MODIFIED:20221122T195936Z
UID:7455-1670313600-1670346000@ghi.website
SUMMARY:22-03425 PGE BIG SUR BHT205 POLE SET
DESCRIPTION:PG&E BIG SUR BHT 407 HEC POLE NON CAP12-06-2022 22-03425 \nR3425 \nTAILBOARD DOCUMENTS 2022 REV 11-16-2022
URL:https://ghi.website/event/pge-big-sur-bht205-pole-set-22-03425/
END:VEVENT
BEGIN:VEVENT
DTSTART;TZID=America/Los_Angeles:20221206T080000
DTEND;TZID=America/Los_Angeles:20221206T170000
DTSTAMP:20260425T032941
CREATED:20221117T164531Z
LAST-MODIFIED:20221122T195757Z
UID:7453-1670313600-1670346000@ghi.website
SUMMARY:22-03421 PGE BIG SUR BHT407 HEC
DESCRIPTION:PG&E BIG SUR BHT 407 HEC POLE NON CAP12-06-2022 22-03421 \nR3421 \nAILBOARD DOCUMENTS 2022 REV 11-16-2022
URL:https://ghi.website/event/pge-big-sur-bht407-hec-22-3421/
END:VEVENT
BEGIN:VEVENT
DTSTART;TZID=America/Los_Angeles:20221202T080000
DTEND;TZID=America/Los_Angeles:20221203T170000
DTSTAMP:20260425T032941
CREATED:20221115T213803Z
LAST-MODIFIED:20221122T171017Z
UID:7435-1669968000-1670086800@ghi.website
SUMMARY:22-03206 PGE SAN BENITO HOLLISTER UH-1H NON CAP POLE SET
DESCRIPTION:MOB 12-1 WORK 12-2 \nPGE HOLLISTER POLE SET N777GH 12-2-2022 22-03206 \nR3206 \nTAILBOARD DOCUMENTS 2022
URL:https://ghi.website/event/pge-san-benito-hollister-uh-1h-non-cap-pole-set-22-03206/
END:VEVENT
BEGIN:VEVENT
DTSTART;TZID=America/Los_Angeles:20221130T080000
DTEND;TZID=America/Los_Angeles:20221130T170000
DTSTAMP:20260425T032941
CREATED:20221121T205511Z
LAST-MODIFIED:20221129T160139Z
UID:7470-1669795200-1669827600@ghi.website
SUMMARY:22-03452 PGE MADERA COUNTY KERCKHOFF DAM UH-1H CARGO
DESCRIPTION:PGE 2022-11-24 0743 22-03452 \nPG&E KERCKOFF DAM PASSENGER CARGO 11-30-2022 22-03452 \nTAILBOARD DOCUMENTS 2022 REV 11-16-2022 \n 
URL:https://ghi.website/event/pge-madera-county-kerckhoff-dam-uh-1h-cargo-22-03452/
END:VEVENT
END:VCALENDAR