BEGIN:VCALENDAR
VERSION:2.0
PRODID:-//GHI Schedule - ECPv6.0.12//NONSGML v1.0//EN
CALSCALE:GREGORIAN
METHOD:PUBLISH
X-WR-CALNAME:GHI Schedule
X-ORIGINAL-URL:https://ghi.website
X-WR-CALDESC:Events for GHI Schedule
REFRESH-INTERVAL;VALUE=DURATION:PT1H
X-Robots-Tag:noindex
X-PUBLISHED-TTL:PT1H
BEGIN:VTIMEZONE
TZID:America/Los_Angeles
BEGIN:DAYLIGHT
TZOFFSETFROM:-0800
TZOFFSETTO:-0700
TZNAME:PDT
DTSTART:20210314T100000
END:DAYLIGHT
BEGIN:STANDARD
TZOFFSETFROM:-0700
TZOFFSETTO:-0800
TZNAME:PST
DTSTART:20211107T090000
END:STANDARD
BEGIN:DAYLIGHT
TZOFFSETFROM:-0800
TZOFFSETTO:-0700
TZNAME:PDT
DTSTART:20220313T100000
END:DAYLIGHT
BEGIN:STANDARD
TZOFFSETFROM:-0700
TZOFFSETTO:-0800
TZNAME:PST
DTSTART:20221106T090000
END:STANDARD
END:VTIMEZONE
BEGIN:VEVENT
DTSTART;TZID=America/Los_Angeles:20220301T080000
DTEND;TZID=America/Los_Angeles:20220312T170000
DTSTAMP:20260425T204955
CREATED:20220225T225758Z
LAST-MODIFIED:20220310T155407Z
UID:6420-1646121600-1647104400@ghi.website
SUMMARY:PGE AETHON BHT 407
DESCRIPTION:
URL:https://ghi.website/event/pge-aethon-bht-407-2/
END:VEVENT
BEGIN:VEVENT
DTSTART;TZID=America/Los_Angeles:20220222T080000
DTEND;TZID=America/Los_Angeles:20220303T170000
DTSTAMP:20260425T204955
CREATED:20220214T165220Z
LAST-MODIFIED:20220222T165606Z
UID:6402-1645516800-1646326800@ghi.website
SUMMARY:PGE DIALBLO CANYON N777GH NON CAP 22-00299
DESCRIPTION:WORK ORDER PACKET DIABLO CANYON BHT205 2-24 THRU 3-3-2022 22-00299 \nPG&E DIABLO CANYON POWER PLANT N77GH CARGO NON CAP 2-24 THRU 3-3-2022 22-00229 \nPGE 2022-02-14 0617 22-00299
URL:https://ghi.website/event/pge-dialblo-canyon-bht205-non-cap-22-00299/
END:VEVENT
BEGIN:VEVENT
DTSTART;TZID=America/Los_Angeles:20220215T080000
DTEND;TZID=America/Los_Angeles:20220218T170000
DTSTAMP:20260425T204955
CREATED:20220215T175913Z
LAST-MODIFIED:20220215T175913Z
UID:6410-1644912000-1645203600@ghi.website
SUMMARY:PGE MADERA COUNTY BHT407 HEC 22-00157
DESCRIPTION:PGE 2022-02-15 0825 22-00157
URL:https://ghi.website/event/pge-madera-county-bht407-hec-22-00157/
END:VEVENT
BEGIN:VEVENT
DTSTART;TZID=America/Los_Angeles:20220212T080000
DTEND;TZID=America/Los_Angeles:20220212T170000
DTSTAMP:20260425T204955
CREATED:20220126T163913Z
LAST-MODIFIED:20220126T163913Z
UID:6352-1644652800-1644685200@ghi.website
SUMMARY:PGE WATSONVILLE BHT 407 NON CAP POLE SET BUCKET HOOK UP 21-02720
DESCRIPTION:Dear neighbor evacuation letter PG&E WATSONVILLE 12-16-2021 21-02720 \nPG&E WATSONVILLE POLE SET NON CAP 12-16 21-02720 \nPGE 2022-01-25 1622 21-02720 \nWORK ORDER PACKET WATSONVILLE 21-02720 2-12-2022 NON CAP
URL:https://ghi.website/event/pge-watsonville-bht-407-non-cap-pole-set-bucket-hook-up-21-02720/
END:VEVENT
BEGIN:VEVENT
DTSTART;TZID=America/Los_Angeles:20220211T080000
DTEND;TZID=America/Los_Angeles:20220211T170000
DTSTAMP:20260425T204955
CREATED:20220202T184358Z
LAST-MODIFIED:20220202T234401Z
UID:6374-1644566400-1644598800@ghi.website
SUMMARY:PGE AVILLA BEACH UH-1H NON CAP POLE SET 22-00221
DESCRIPTION:PGE 2022-01-27 1538 22-00221 \nPG&E AVIALA BEACH N77GH POLE SET NON CAP 2-11-2022 22-00221 \nWORK ORDER PACKET AVIALA BEACH UH-1H 2-11-2022 22-00221
URL:https://ghi.website/event/pge-avilla-beach-uh-1h-non-cap-pole-set-22-00221/
END:VEVENT
BEGIN:VEVENT
DTSTART;TZID=America/Los_Angeles:20220211T080000
DTEND;TZID=America/Los_Angeles:20220211T170000
DTSTAMP:20260425T204955
CREATED:20220126T200214Z
LAST-MODIFIED:20220126T200214Z
UID:6358-1644566400-1644598800@ghi.website
SUMMARY:IEX BHT 407 CHARTER
DESCRIPTION:
URL:https://ghi.website/event/iex-bht-407-charter/
END:VEVENT
BEGIN:VEVENT
DTSTART;TZID=America/Los_Angeles:20220210T080000
DTEND;TZID=America/Los_Angeles:20220210T170000
DTSTAMP:20260425T204955
CREATED:20220203T203133Z
LAST-MODIFIED:20220207T223609Z
UID:6385-1644480000-1644512400@ghi.website
SUMMARY:PGE FRESNO COUNTY BHT407 HEC VEG NON CAP 22-00264
DESCRIPTION:PG&E BALCH CAMP HEC VEG CARGO 2-10-2022 22-00264 \nR264 \nWORK ORDER PACKET BACLCH CAMP FRESNO 2-10-2022 22-00264
URL:https://ghi.website/event/pge-fresno-county-bht407-hec-veg-non-cap-22-00264/
END:VEVENT
BEGIN:VEVENT
DTSTART;TZID=America/Los_Angeles:20220209T080000
DTEND;TZID=America/Los_Angeles:20220209T170000
DTSTAMP:20260425T204955
CREATED:20220203T202121Z
LAST-MODIFIED:20220207T214514Z
UID:6383-1644393600-1644426000@ghi.website
SUMMARY:PGE PASO ROBLES BHT 407 HEC POLE 22-00261
DESCRIPTION:PG&E PASO ROBLES N407 HEC AND POLE NON CAP 2-9-2022 22-00261 \nR261 \nWORK ORDER PACKET NON CAP PASO ROBLES 2-9-2022 22-00261
URL:https://ghi.website/event/pge-paso-robles-bht-407-hec-pole-22-00261/
END:VEVENT
BEGIN:VEVENT
DTSTART;TZID=America/Los_Angeles:20220208T080000
DTEND;TZID=America/Los_Angeles:20220208T170000
DTSTAMP:20260425T204955
CREATED:20220104T190033Z
LAST-MODIFIED:20220104T190033Z
UID:6327-1644307200-1644339600@ghi.website
SUMMARY:GHI TRAINING DAY N777GH
DESCRIPTION:
URL:https://ghi.website/event/ghi-training-day-n777gh-2/
END:VEVENT
BEGIN:VEVENT
DTSTART;TZID=America/Los_Angeles:20220207T080000
DTEND;TZID=America/Los_Angeles:20220207T170000
DTSTAMP:20260425T204955
CREATED:20220104T190521Z
LAST-MODIFIED:20220104T194827Z
UID:6333-1644220800-1644253200@ghi.website
SUMMARY:GHI TRAINING DAY BHT407
DESCRIPTION:
URL:https://ghi.website/event/ghi-training-day-bht407-2/
END:VEVENT
BEGIN:VEVENT
DTSTART;TZID=America/Los_Angeles:20220206T080000
DTEND;TZID=America/Los_Angeles:20220206T170000
DTSTAMP:20260425T204955
CREATED:20220104T190445Z
LAST-MODIFIED:20220104T190445Z
UID:6331-1644134400-1644166800@ghi.website
SUMMARY:GHI TRAINING DAY BHT407
DESCRIPTION:
URL:https://ghi.website/event/ghi-training-day-bht407/
END:VEVENT
BEGIN:VEVENT
DTSTART;TZID=America/Los_Angeles:20220206T080000
DTEND;TZID=America/Los_Angeles:20220206T170000
DTSTAMP:20260425T204955
CREATED:20220104T190148Z
LAST-MODIFIED:20220104T190148Z
UID:6329-1644134400-1644166800@ghi.website
SUMMARY:GHI TRAINING DAY N777GH
DESCRIPTION:
URL:https://ghi.website/event/ghi-training-day-n777gh-3/
END:VEVENT
BEGIN:VEVENT
DTSTART;TZID=America/Los_Angeles:20220131T080000
DTEND;TZID=America/Los_Angeles:20220205T170000
DTSTAMP:20260425T204955
CREATED:20211118T154819Z
LAST-MODIFIED:20220104T190009Z
UID:6179-1643616000-1644080400@ghi.website
SUMMARY:GHI TRAINING DAY N777GH
DESCRIPTION:
URL:https://ghi.website/event/ghi-training-day-n777gh/
END:VEVENT
BEGIN:VEVENT
DTSTART;TZID=America/Los_Angeles:20220129T080000
DTEND;TZID=America/Los_Angeles:20220206T170000
DTSTAMP:20260425T204955
CREATED:20211214T184945Z
LAST-MODIFIED:20211214T184945Z
UID:6276-1643443200-1644166800@ghi.website
SUMMARY:DOI N498PT YUMA
DESCRIPTION:
URL:https://ghi.website/event/doi-n498pt-yuma/
END:VEVENT
BEGIN:VEVENT
DTSTART;TZID=America/Los_Angeles:20220129T080000
DTEND;TZID=America/Los_Angeles:20220130T170000
DTSTAMP:20260425T204955
CREATED:20211118T154529Z
LAST-MODIFIED:20211118T154529Z
UID:6173-1643443200-1643562000@ghi.website
SUMMARY:GHI TRAINING DAY
DESCRIPTION:
URL:https://ghi.website/event/ghi-training-day-3/
END:VEVENT
BEGIN:VEVENT
DTSTART;TZID=America/Los_Angeles:20220127T080000
DTEND;TZID=America/Los_Angeles:20220127T170000
DTSTAMP:20260425T204955
CREATED:20220124T162533Z
LAST-MODIFIED:20220124T162533Z
UID:6348-1643270400-1643302800@ghi.website
SUMMARY:N447GH CHARTER
DESCRIPTION:
URL:https://ghi.website/event/n447gh-charter/
END:VEVENT
BEGIN:VEVENT
DTSTART;TZID=America/Los_Angeles:20220124T080000
DTEND;TZID=America/Los_Angeles:20220129T170000
DTSTAMP:20260425T204955
CREATED:20211118T154734Z
LAST-MODIFIED:20211118T154734Z
UID:6177-1643011200-1643475600@ghi.website
SUMMARY:GHI TRAINING DAY BHT 407
DESCRIPTION:
URL:https://ghi.website/event/ghi-training-day-bht-407/
END:VEVENT
BEGIN:VEVENT
DTSTART;TZID=America/Los_Angeles:20220123T080000
DTEND;TZID=America/Los_Angeles:20220123T170000
DTSTAMP:20260425T204955
CREATED:20220104T185831Z
LAST-MODIFIED:20220104T185831Z
UID:6325-1642924800-1642957200@ghi.website
SUMMARY:GHI GROUND TRAINING BHT 407
DESCRIPTION:
URL:https://ghi.website/event/ghi-ground-training-bht-407/
END:VEVENT
BEGIN:VEVENT
DTSTART;TZID=America/Los_Angeles:20220122T080000
DTEND;TZID=America/Los_Angeles:20220122T170000
DTSTAMP:20260425T204955
CREATED:20211118T154505Z
LAST-MODIFIED:20220104T185803Z
UID:6171-1642838400-1642870800@ghi.website
SUMMARY:GHI TRAINING DAY UH-1H GROUND SCHOOL
DESCRIPTION:
URL:https://ghi.website/event/ghi-training-day-2/
END:VEVENT
BEGIN:VEVENT
DTSTART;TZID=America/Los_Angeles:20220116T080000
DTEND;TZID=America/Los_Angeles:20220121T170000
DTSTAMP:20260425T204955
CREATED:20211118T154659Z
LAST-MODIFIED:20220104T185917Z
UID:6175-1642320000-1642784400@ghi.website
SUMMARY:GHI TRAINING DAY N498PT
DESCRIPTION:
URL:https://ghi.website/event/ghi-training-day-n498pt/
END:VEVENT
BEGIN:VEVENT
DTSTART;TZID=America/Los_Angeles:20220114T080000
DTEND;TZID=America/Los_Angeles:20220116T170000
DTSTAMP:20260425T204955
CREATED:20211118T154437Z
LAST-MODIFIED:20211118T154437Z
UID:6169-1642147200-1642352400@ghi.website
SUMMARY:GHI TRAINING DAY
DESCRIPTION:
URL:https://ghi.website/event/ghi-training-day/
END:VEVENT
BEGIN:VEVENT
DTSTART;TZID=America/Los_Angeles:20220113T080000
DTEND;TZID=America/Los_Angeles:20220113T170000
DTSTAMP:20260425T204955
CREATED:20211007T181153Z
LAST-MODIFIED:20220103T231741Z
UID:6002-1642060800-1642093200@ghi.website
SUMMARY:NORTHRIDGE FASHION CENTER BHT205  A/C CAP APPROVED
DESCRIPTION:WORK ORDER PACKET NORTHRIDGE FASHION CENTER 12-7-2021 ALL TEMPERATURE \nNORTHRIDGE FASHION CENTER CAP 1-13-2022 ALL TEMPERATURE CONTROL \nScanned_from_a_Lexmark_Multifunction_Product01-03-2022-143930 \nALL TEMPERATURE CONTROL 11-9-2021 GHI PART 133 EXTERNAL LOAD PRE-LIFT CHECKLIST HOLD HARMLESS AGGREEMENT Rev 4-19-18 \n  \n  \n 
URL:https://ghi.website/event/northridge-fashion-center-a-c-cap/
END:VEVENT
BEGIN:VEVENT
DTSTART;TZID=America/Los_Angeles:20220111T080000
DTEND;TZID=America/Los_Angeles:20220112T170000
DTSTAMP:20260425T204955
CREATED:20211217T234143Z
LAST-MODIFIED:20220107T193013Z
UID:6282-1641888000-1642006800@ghi.website
SUMMARY:PG&E SLO AS350 HEC NON CAP 21-03191
DESCRIPTION:PG&E SLO COUNTY MARICOPA AS350B2 UH-1H HEC POLE SET NON CAP 1-11 1-12-2022 21-03191 21-03253 \nWORK ORDER PACKET PGE TAFT MARICOPA NON CAP UH-1H AND AS350B2 21-03191 21-03253 \nPGE 2021-12-20 0646 21-03191 \n  \n 
URL:https://ghi.website/event/pge-slo-bell-407-hec-non-cap-21-03191/
END:VEVENT
BEGIN:VEVENT
DTSTART;TZID=America/Los_Angeles:20220111T080000
DTEND;TZID=America/Los_Angeles:20220111T170000
DTSTAMP:20260425T204955
CREATED:20211217T234057Z
LAST-MODIFIED:20220107T193129Z
UID:6279-1641888000-1641920400@ghi.website
SUMMARY:PGE SLO UH-1H NON CAP 21-03253
DESCRIPTION:WORK ORDER PACKET PGE TAFT MARICOPA NON CAP UH-1H AND AS350B2 21-03191 21-03253 \n.PGE 2021-12-20 0646 21-03253 \nPG&E SLO COUNTY MARICOPA AS350B2 UH-1H HEC POLE SET NON CAP 1-11 1-12-2022 21-03191 21-03253 \n 
URL:https://ghi.website/event/pge-slo-uh-1h-non-cap-21-03253/
END:VEVENT
BEGIN:VEVENT
DTSTART;TZID=America/Los_Angeles:20220110T080000
DTEND;TZID=America/Los_Angeles:20220110T170000
DTSTAMP:20260425T204955
CREATED:20211221T161856Z
LAST-MODIFIED:20211222T170209Z
UID:6296-1641801600-1641834000@ghi.website
SUMMARY:PGE HEC CHECKRIDE BHT407 KYLE / LAWARENCE
DESCRIPTION:
URL:https://ghi.website/event/pge-hec-checkride-bht407-kyle-lawarence/
END:VEVENT
BEGIN:VEVENT
DTSTART;TZID=America/Los_Angeles:20220110T080000
DTEND;TZID=America/Los_Angeles:20220110T170000
DTSTAMP:20260425T204955
CREATED:20211221T155048Z
LAST-MODIFIED:20220107T182714Z
UID:6294-1641801600-1641834000@ghi.website
SUMMARY:PGE BAKERSFIELD N498PT HEC 21-03271
DESCRIPTION:PGE 2021-12-21 1057 21-03271 \n 
URL:https://ghi.website/event/pge-bakersfield-as350b2-pending-paperwork-2/
END:VEVENT
BEGIN:VEVENT
DTSTART;TZID=America/Los_Angeles:20220106T080000
DTEND;TZID=America/Los_Angeles:20220107T170000
DTSTAMP:20260425T204955
CREATED:20211221T155006Z
LAST-MODIFIED:20211221T171052Z
UID:6292-1641456000-1641574800@ghi.website
SUMMARY:PGE BAKERSFIELD AS350B2 HEC 21-03259 PREPOSITION 6TH
DESCRIPTION:PRE POSITION ON 1-6-2022
URL:https://ghi.website/event/pge-bakersfield-as350b2-pending-paperwork/
END:VEVENT
BEGIN:VEVENT
DTSTART;TZID=America/Los_Angeles:20220103T080000
DTEND;TZID=America/Los_Angeles:20220105T170000
DTSTAMP:20260425T204955
CREATED:20211102T184842Z
LAST-MODIFIED:20211222T224612Z
UID:6131-1641196800-1641402000@ghi.website
SUMMARY:PG&E LOST HILLS NON CAP HEC BHT 407 21-02784
DESCRIPTION:R2784
URL:https://ghi.website/event/pge-lost-hills-non-cap-hec-ac-tbd-21-02784/
END:VEVENT
BEGIN:VEVENT
DTSTART;TZID=America/Los_Angeles:20220103T080000
DTEND;TZID=America/Los_Angeles:20220103T170000
DTSTAMP:20260425T204955
CREATED:20211220T162038Z
LAST-MODIFIED:20211222T175107Z
UID:6287-1641196800-1641229200@ghi.website
SUMMARY:AS350 PASSENGER FLIGHT FOR PHIL
DESCRIPTION:
URL:https://ghi.website/event/as350-passenger-flight-for-phil/
END:VEVENT
BEGIN:VEVENT
DTSTART;TZID=America/Los_Angeles:20211228T080000
DTEND;TZID=America/Los_Angeles:20211228T170000
DTSTAMP:20260425T204955
CREATED:20211220T162006Z
LAST-MODIFIED:20211220T162006Z
UID:6285-1640678400-1640710800@ghi.website
SUMMARY:BELL 407 PASSENGER FLIGHT FOR PHIL
DESCRIPTION:
URL:https://ghi.website/event/bell-407-passenger-flight-for-phil/
END:VEVENT
END:VCALENDAR