BEGIN:VCALENDAR
VERSION:2.0
PRODID:-//GHI Schedule - ECPv6.0.12//NONSGML v1.0//EN
CALSCALE:GREGORIAN
METHOD:PUBLISH
X-WR-CALNAME:GHI Schedule
X-ORIGINAL-URL:https://ghi.website
X-WR-CALDESC:Events for GHI Schedule
REFRESH-INTERVAL;VALUE=DURATION:PT1H
X-Robots-Tag:noindex
X-PUBLISHED-TTL:PT1H
BEGIN:VTIMEZONE
TZID:America/Los_Angeles
BEGIN:DAYLIGHT
TZOFFSETFROM:-0800
TZOFFSETTO:-0700
TZNAME:PDT
DTSTART:20250309T100000
END:DAYLIGHT
BEGIN:STANDARD
TZOFFSETFROM:-0700
TZOFFSETTO:-0800
TZNAME:PST
DTSTART:20251102T090000
END:STANDARD
END:VTIMEZONE
BEGIN:VEVENT
DTSTART;VALUE=DATE:20251021
DTEND;VALUE=DATE:20251022
DTSTAMP:20260420T173219
CREATED:20251007T160122Z
LAST-MODIFIED:20251016T190235Z
UID:12181-1761004800-1761091199@ghi.website
SUMMARY:25-03167 PGE MADERA BHT 205 POLE SET 10-21-2025
DESCRIPTION:25-03167 PGE MADERA BHT 205 POLE SET 10-21-2025 FLGIHT REQUEST \n25-03167 PGE MADERA BHT 205 POLE SET 10-21-2025 NON CAP
URL:https://ghi.website/event/25-03167-pge-madera-bht-205-pole-set-10-21-2025/
END:VEVENT
BEGIN:VEVENT
DTSTART;VALUE=DATE:20251020
DTEND;VALUE=DATE:20251021
DTSTAMP:20260420T173219
CREATED:20251009T190024Z
LAST-MODIFIED:20251016T182945Z
UID:12202-1760918400-1761004799@ghi.website
SUMMARY:25-03198 PGE MONTEREY BHT 407 HEC CARGO 10-20-2025
DESCRIPTION:25-03198 PGE MONTEREY BHT 407 HEC CARGO 10-20-2025 NON CAP \n25-03198 PGE MONTEREY BHT 407 HEC CARGO 10-20-2025 FLIGHT REQUEST
URL:https://ghi.website/event/25-03198-pge-monterey-bht-407-hec-cargo-10-20-2025/
END:VEVENT
BEGIN:VEVENT
DTSTART;VALUE=DATE:20251020
DTEND;VALUE=DATE:20251021
DTSTAMP:20260420T173219
CREATED:20250902T153653Z
LAST-MODIFIED:20250917T194630Z
UID:11901-1760918400-1761004799@ghi.website
SUMMARY:25-02480 PGE MONTEREY BK 117 10-6 10-9 10-13 10-15 10-20 10-27-2025
DESCRIPTION:25-02480 PGE MONTEREY BK 117 10-6 10-9 10-13 10-15 10-20 10-27-2025 FLIGHT REQUEST \n25-02480 PGE MONTEREY BK 117 10-6 10-9 10-13 10-15 10-20 10-27-2025 NON CAP
URL:https://ghi.website/event/25-02480-pge-monterey-bk-117-10-6-10-9-10-13-10-15-10-20-10-27-2025-5/
END:VEVENT
BEGIN:VEVENT
DTSTART;VALUE=DATE:20251018
DTEND;VALUE=DATE:20251019
DTSTAMP:20260420T173219
CREATED:20251014T171658Z
LAST-MODIFIED:20251014T171658Z
UID:12228-1760745600-1760831999@ghi.website
SUMMARY:25-03232 PGE BHT 407  BALCH CAMP PATROL 10-15 AND 10-18-2025
DESCRIPTION:25-03232 PGE BHT 407 BALCH CAMP PATROL 10-15 AND 10-18-2025 FLIGHT REQUEST
URL:https://ghi.website/event/25-03232-pge-bht-407-balch-camp-patrol-10-15-and-10-18-2025-2/
END:VEVENT
BEGIN:VEVENT
DTSTART;VALUE=DATE:20251017
DTEND;VALUE=DATE:20251018
DTSTAMP:20260420T173219
CREATED:20251017T154956Z
LAST-MODIFIED:20251017T155034Z
UID:12256-1760659200-1760745599@ghi.website
SUMMARY:25-03288 PGE REEDLEY BHT 407 PATROL 10-17-2025
DESCRIPTION:25-03288 PGE REEDLEY BHT 407 PATROL 10-17-2025 FLGHT REQUEST
URL:https://ghi.website/event/25-03288-pge-reedley-bht-407-patrol-10-17-2025/
END:VEVENT
BEGIN:VEVENT
DTSTART;VALUE=DATE:20251017
DTEND;VALUE=DATE:20251018
DTSTAMP:20260420T173219
CREATED:20251016T153242Z
LAST-MODIFIED:20251016T172144Z
UID:12247-1760659200-1760745599@ghi.website
SUMMARY:25-03129 PGE KERN MIDWAY BHT 407 HEC 10-17-2025
DESCRIPTION:25-03129 PGE KERN MIDWAY BHT 407 HEC 10-17-2025 NON CAP \n25-03129 PGE KERN MIDWAY BHT 407 HEC 10-17-2025 FLIGHT REQUEST
URL:https://ghi.website/event/25-03129-pge-kern-midway-bht-407-hec-10-17-2025/
END:VEVENT
BEGIN:VEVENT
DTSTART;VALUE=DATE:20251015
DTEND;VALUE=DATE:20251016
DTSTAMP:20260420T173219
CREATED:20251014T171553Z
LAST-MODIFIED:20251014T171553Z
UID:12225-1760486400-1760572799@ghi.website
SUMMARY:25-03232 PGE BHT 407  BALCH CAMP PATROL 10-15 AND 10-18-2025
DESCRIPTION:25-03232 PGE BHT 407 BALCH CAMP PATROL 10-15 AND 10-18-2025 FLIGHT REQUEST
URL:https://ghi.website/event/25-03232-pge-bht-407-balch-camp-patrol-10-15-and-10-18-2025/
END:VEVENT
BEGIN:VEVENT
DTSTART;VALUE=DATE:20251015
DTEND;VALUE=DATE:20251016
DTSTAMP:20260420T173219
CREATED:20251014T171250Z
LAST-MODIFIED:20251014T171250Z
UID:12222-1760486400-1760572799@ghi.website
SUMMARY:25-03244 PGE MENDOCINO BHT 205 HEC POLE SET 10-15-2025
DESCRIPTION:25-03244 PGE MENDOCINO BHT 205 HEC POLE SET 10-15-2025 FLIGHT REQUEST
URL:https://ghi.website/event/25-03244-pge-mendocino-bht-205-hec-pole-set-10-15-2025/
END:VEVENT
BEGIN:VEVENT
DTSTART;VALUE=DATE:20251015
DTEND;VALUE=DATE:20251016
DTSTAMP:20260420T173219
CREATED:20250902T153556Z
LAST-MODIFIED:20250917T194601Z
UID:11899-1760486400-1760572799@ghi.website
SUMMARY:25-02480 PGE MONTEREY BK 117 10-6 10-9 10-13 10-15 10-20 10-27-2025
DESCRIPTION:25-02480 PGE MONTEREY BK 117 10-6 10-9 10-13 10-15 10-20 10-27-2025 FLIGHT REQUEST \n25-02480 PGE MONTEREY BK 117 10-6 10-9 10-13 10-15 10-20 10-27-2025 NON CAP
URL:https://ghi.website/event/25-02480-pge-monterey-bk-117-10-6-10-9-10-13-10-15-10-20-10-27-2025-4/
END:VEVENT
BEGIN:VEVENT
DTSTART;VALUE=DATE:20251014
DTEND;VALUE=DATE:20251015
DTSTAMP:20260420T173219
CREATED:20251007T155640Z
LAST-MODIFIED:20251009T201911Z
UID:12178-1760400000-1760486399@ghi.website
SUMMARY:25-03109 PGE TUOLUMNE BHT 205 AIR COMPRESSOR 10-14-2025
DESCRIPTION:25-03109 PGE TUOLUMNE BHT 205 AIR COMPRESSOR 10-14-2025 NON CAP \n25-03109 PGE TUOLUMNE BHT 205 AIR COMPRESSOR 10-14-2025 FLIGHT REQUEST
URL:https://ghi.website/event/25-03109-pge-tuolumne-bht-205-air-compressor-10-14-2025/
END:VEVENT
BEGIN:VEVENT
DTSTART;VALUE=DATE:20251013
DTEND;VALUE=DATE:20251018
DTSTAMP:20260420T173219
CREATED:20250918T150838Z
LAST-MODIFIED:20251009T195039Z
UID:12051-1760313600-1760745599@ghi.website
SUMMARY:25-02874 LOS BANOS FRESNO (2) BHT 407 10-13 THRU 10-17-2025
DESCRIPTION:25-02874 LOS BANOS FRESNO (2) BHT 407 10-13 THRU 10-17-2025 FLIGHT REQUEST \n25-02874 LOS BANOS FRESNO (2) BHT 407 10-13 THRU 10-17-2025 FLIGHT REQUEST REV 1 \n25-02874 LOS BANOS FRESNO (2) BHT 407 10-13 THRU 10-17-2025 NON CAP
URL:https://ghi.website/event/25-02874-los-banos-fresno-3-bht-407-10-13-thru-10-17-2025-3/
END:VEVENT
BEGIN:VEVENT
DTSTART;VALUE=DATE:20251013
DTEND;VALUE=DATE:20251018
DTSTAMP:20260420T173219
CREATED:20250918T150809Z
LAST-MODIFIED:20251010T170734Z
UID:12049-1760313600-1760745599@ghi.website
SUMMARY:25-02874 LOS BANOS FRESNO (2) BHT 407 10-13 THRU 10-17-2025
DESCRIPTION:25-02874 LOS BANOS FRESNO (2) BHT 407 10-13 THRU 10-17-2025 FLIGHT REQUEST \n25-02874 LOS BANOS FRESNO (2) BHT 407 10-13 THRU 10-17-2025 NON CAP \n25-02874 LOS BANOS FRESNO (2) BHT 407 10-13 THRU 10-17-2025 FLIGHT REQUEST REV 1
URL:https://ghi.website/event/25-02874-los-banos-fresno-3-bht-407-10-13-thru-10-17-2025-2/
END:VEVENT
BEGIN:VEVENT
DTSTART;VALUE=DATE:20251013
DTEND;VALUE=DATE:20251014
DTSTAMP:20260420T173219
CREATED:20250902T153440Z
LAST-MODIFIED:20250917T194535Z
UID:11897-1760313600-1760399999@ghi.website
SUMMARY:25-02480 PGE MONTEREY BK 117 10-6 10-9 10-13 10-15 10-20 10-27-2025
DESCRIPTION:25-02480 PGE MONTEREY BK 117 10-6 10-9 10-13 10-15 10-20 10-27-2025 FLIGHT REQUEST \n25-02480 PGE MONTEREY BK 117 10-6 10-9 10-13 10-15 10-20 10-27-2025 NON CAP
URL:https://ghi.website/event/25-02480-pge-monterey-bk-117-10-6-10-9-10-13-10-15-10-20-10-27-2025-3/
END:VEVENT
BEGIN:VEVENT
DTSTART;VALUE=DATE:20251009
DTEND;VALUE=DATE:20251010
DTSTAMP:20260420T173219
CREATED:20251008T210536Z
LAST-MODIFIED:20251008T210625Z
UID:12190-1759968000-1760054399@ghi.website
SUMMARY:25-03202 PGE MONTEREY BHT 205 POLE SET 10-9-2025
DESCRIPTION:25-03202 PGE MONTEREY BHT 205 POLE SET 10-9-2025 FLIGHT REQUEST
URL:https://ghi.website/event/25-03202-pge-monterey-bht-205-pole-set-10-9-2025/
END:VEVENT
BEGIN:VEVENT
DTSTART;VALUE=DATE:20251009
DTEND;VALUE=DATE:20251010
DTSTAMP:20260420T173219
CREATED:20250902T153402Z
LAST-MODIFIED:20250917T194505Z
UID:11895-1759968000-1760054399@ghi.website
SUMMARY:25-02480 PGE MONTEREY BK 117 10-6 10-9 10-13 10-15 10-20 10-27-2025
DESCRIPTION:25-02480 PGE MONTEREY BK 117 10-6 10-9 10-13 10-15 10-20 10-27-2025 FLIGHT REQUEST \n25-02480 PGE MONTEREY BK 117 10-6 10-9 10-13 10-15 10-20 10-27-2025 NON CAP
URL:https://ghi.website/event/25-02480-pge-monterey-bk-117-10-6-10-9-10-13-10-15-10-20-10-27-2025-2/
END:VEVENT
BEGIN:VEVENT
DTSTART;VALUE=DATE:20251008
DTEND;VALUE=DATE:20251012
DTSTAMP:20260420T173219
CREATED:20251001T152802Z
LAST-MODIFIED:20251001T172437Z
UID:12155-1759881600-1760227199@ghi.website
SUMMARY:25-02871 PGE FRESNO WISHON 10-5 THRU 10-7 (2) BHT 407 10-8 THRU 10-11 (1) BHT 407
DESCRIPTION:25-02871 PGE FRESNO WISHON 10-5 THRU 10-7 (2) BHT 407 10-8 THRU 10-11 (1) BHT 407 NON CAP \n25-02871 PGE FRESNO WISHON 10-5 THRU 10-7 (2) BHT 407 10-8 THRU 10-11 (1) BHT 407 FLIGTH REQUEST
URL:https://ghi.website/event/25-02871-pge-fresno-wishon-10-5-thru-10-7-2-bht-407-10-8-thru-10-11-1-bht-407-3/
END:VEVENT
BEGIN:VEVENT
DTSTART;VALUE=DATE:20251008
DTEND;VALUE=DATE:20251009
DTSTAMP:20260420T173219
CREATED:20250925T162607Z
LAST-MODIFIED:20251001T190232Z
UID:12083-1759881600-1759967999@ghi.website
SUMMARY:25-02972 PGE TULARE COUNTY BHT 205 POLE SET 10-8-2025
DESCRIPTION:25-02972 PGE TULARE COUNTY BHT 205 POLE SET 10-8-2025 FLIGHT REQUEST \n25-02972 PGE TULARE COUNTY BHT 205 POLE SET 10-8-2025 NON CAP
URL:https://ghi.website/event/25-02972-pge-tulare-county-bht-205-pole-set-10-8-2025/
END:VEVENT
BEGIN:VEVENT
DTSTART;VALUE=DATE:20251006
DTEND;VALUE=DATE:20251007
DTSTAMP:20260420T173219
CREATED:20250925T162208Z
LAST-MODIFIED:20251001T180550Z
UID:12080-1759708800-1759795199@ghi.website
SUMMARY:25-02974 PGE KERN COUNTY BHT 205 POLE SET 10-6-2025
DESCRIPTION:25-02974 PGE KERN COUNTY BHT 205 POLE SET 10-6-2025 NON CAP \n25-02974 PGE KERN COUNTY BHT 205 POLE SET 10-6-2025 FLIGHT REQUEST
URL:https://ghi.website/event/25-02974-pge-kern-county-bht-205-pole-set-10-6-2025/
END:VEVENT
BEGIN:VEVENT
DTSTART;VALUE=DATE:20251006
DTEND;VALUE=DATE:20251007
DTSTAMP:20260420T173219
CREATED:20250902T153248Z
LAST-MODIFIED:20250917T194420Z
UID:11892-1759708800-1759795199@ghi.website
SUMMARY:25-02480 PGE MONTEREY BK 117 10-6 10-9 10-13 10-15 10-20 10-27-2025
DESCRIPTION:25-02480 PGE MONTEREY BK 117 10-6 10-9 10-13 10-15 10-20 10-27-2025 FLIGHT REQUEST \n25-02480 PGE MONTEREY BK 117 10-6 10-9 10-13 10-15 10-20 10-27-2025 NON CAP
URL:https://ghi.website/event/25-02480-pge-monterey-bk-117-10-6-10-9-10-13-10-15-10-20-10-27-2025/
END:VEVENT
BEGIN:VEVENT
DTSTART;VALUE=DATE:20251005
DTEND;VALUE=DATE:20251008
DTSTAMP:20260420T173219
CREATED:20251001T152733Z
LAST-MODIFIED:20251001T172328Z
UID:12153-1759622400-1759881599@ghi.website
SUMMARY:25-02871 PGE FRESNO WISHON 10-5 THRU 10-7 (2) BHT 407 10-8 THRU 10-11 (1) BHT 407
DESCRIPTION:25-02871 PGE FRESNO WISHON 10-5 THRU 10-7 (2) BHT 407 10-8 THRU 10-11 (1) BHT 407 NON CAP \n25-02871 PGE FRESNO WISHON 10-5 THRU 10-7 (2) BHT 407 10-8 THRU 10-11 (1) BHT 407 FLIGTH REQUEST
URL:https://ghi.website/event/25-02871-pge-fresno-wishon-10-5-thru-10-7-2-bht-407-10-8-thru-10-11-1-bht-407-2/
END:VEVENT
BEGIN:VEVENT
DTSTART;VALUE=DATE:20251005
DTEND;VALUE=DATE:20251008
DTSTAMP:20260420T173219
CREATED:20251001T152706Z
LAST-MODIFIED:20251001T172403Z
UID:12150-1759622400-1759881599@ghi.website
SUMMARY:25-02871 PGE FRESNO WISHON 10-5 THRU 10-7 (2) BHT 407 10-8 THRU 10-11 (1) BHT 407
DESCRIPTION:25-02871 PGE FRESNO WISHON 10-5 THRU 10-7 (2) BHT 407 10-8 THRU 10-11 (1) BHT 407 FLIGTH REQUEST \n25-02871 PGE FRESNO WISHON 10-5 THRU 10-7 (2) BHT 407 10-8 THRU 10-11 (1) BHT 407 NON CAP
URL:https://ghi.website/event/25-02871-pge-fresno-wishon-10-5-thru-10-7-2-bht-407-10-8-thru-10-11-1-bht-407/
END:VEVENT
BEGIN:VEVENT
DTSTART;VALUE=DATE:20251003
DTEND;VALUE=DATE:20251004
DTSTAMP:20260420T173219
CREATED:20251001T151012Z
LAST-MODIFIED:20251001T174023Z
UID:12147-1759449600-1759535999@ghi.website
SUMMARY:25-03089 PGE CABRILLO BHT205 10-3-2025
DESCRIPTION:25-03089 PGE CABRILLO BHT205 10-3-2025 FLIGHT REQUEST \n25-03089 PGE CABRILLO BHT205 10-3-2025 NON CAP
URL:https://ghi.website/event/25-03089-pge-cabrillo-bht205-10-3-2025/
END:VEVENT
BEGIN:VEVENT
DTSTART;VALUE=DATE:20251002
DTEND;VALUE=DATE:20251005
DTSTAMP:20260420T173219
CREATED:20250917T204336Z
LAST-MODIFIED:20250924T182044Z
UID:12035-1759363200-1759622399@ghi.website
SUMMARY:25-02852 PGE MERCED BHT 407 BHT 407 BK117 10-1 AND 10-2 TRHU 10-4-2025
DESCRIPTION:25-02852 PGE MERCED BHT 407 BHT 407 BK117 10-1 AND 10-2 TRHU 10-5-2025 NON CAP \n25-02852 PGE MERCED BHT 407 BHT 407 BK117 10-1 AND 10-2 TRHU 10-5-2025 FLIGHT REQUEST
URL:https://ghi.website/event/25-02852-pge-merced-bht-407-bht-407-bk117-10-1-and-10-2-trhu-10-5-2025-6/
END:VEVENT
BEGIN:VEVENT
DTSTART;VALUE=DATE:20251002
DTEND;VALUE=DATE:20251005
DTSTAMP:20260420T173219
CREATED:20250917T204310Z
LAST-MODIFIED:20250924T182018Z
UID:12033-1759363200-1759622399@ghi.website
SUMMARY:25-02852 PGE MERCED BHT 407 BHT 407 BK117 10-1 AND 10-2 TRHU 10-4-2025
DESCRIPTION:25-02852 PGE MERCED BHT 407 BHT 407 BK117 10-1 AND 10-2 TRHU 10-5-2025 NON CAP \n25-02852 PGE MERCED BHT 407 BHT 407 BK117 10-1 AND 10-2 TRHU 10-5-2025 FLIGHT REQUEST
URL:https://ghi.website/event/25-02852-pge-merced-bht-407-bht-407-bk117-10-1-and-10-2-trhu-10-5-2025-5/
END:VEVENT
BEGIN:VEVENT
DTSTART;VALUE=DATE:20251001
DTEND;VALUE=DATE:20251002
DTSTAMP:20260420T173219
CREATED:20250917T204207Z
LAST-MODIFIED:20250924T181818Z
UID:12029-1759276800-1759363199@ghi.website
SUMMARY:25-02852 PGE MERCED BHT 407 BHT 407 BK117 10-1 AND 10-2 TRHU 10-5-2025
DESCRIPTION:25-02852 PGE MERCED BHT 407 BHT 407 BK117 10-1 AND 10-2 TRHU 10-5-2025 NON CAP \n25-02852 PGE MERCED BHT 407 BHT 407 BK117 10-1 AND 10-2 TRHU 10-5-2025 FLIGHT REQUEST
URL:https://ghi.website/event/25-02852-pge-merced-bht-407-bht-407-bk117-10-1-and-10-2-trhu-10-5-2025-3/
END:VEVENT
BEGIN:VEVENT
DTSTART;VALUE=DATE:20251001
DTEND;VALUE=DATE:20251002
DTSTAMP:20260420T173219
CREATED:20250916T143937Z
LAST-MODIFIED:20250917T203705Z
UID:12001-1759276800-1759363199@ghi.website
SUMMARY:25-02848 PGE KERN AIR CHAIR TRAINING SHIP SHARE WITH 25-02799 BHT 407 10-1-2025
DESCRIPTION:25-02848 PGE KERN AIR CHAIR TRAINING SHIP SHARE WITH 25-02799 BHT 407 10-1-2025 FLIGHT REQUEST \n25-02848 PGE KERN AIR CHAIR TRAINING SHIP SHARE WITH 25-02799 BHT 407 10-1-2025 FLIGHT REQUEST REV 1
URL:https://ghi.website/event/25-02848-pge-kern-air-chair-training-ship-share-with-25-02799-bht-407-10-1-2025/
END:VEVENT
BEGIN:VEVENT
DTSTART;VALUE=DATE:20251001
DTEND;VALUE=DATE:20251002
DTSTAMP:20260420T173219
CREATED:20250915T143903Z
LAST-MODIFIED:20250915T143903Z
UID:11990-1759276800-1759363199@ghi.website
SUMMARY:25-02799 PGE KERN BHT 407 RECON 10-1-2025
DESCRIPTION:25-02799 PGE KERN BHT 407 RECON 10-1-2025 FLIGHT REQUEST
URL:https://ghi.website/event/25-02799-pge-kern-bht-407-recon-10-1-2025/
END:VEVENT
BEGIN:VEVENT
DTSTART;VALUE=DATE:20251001
DTEND;VALUE=DATE:20251002
DTSTAMP:20260420T173219
CREATED:20250917T204127Z
LAST-MODIFIED:20250924T181844Z
UID:12027-1759276800-1759363199@ghi.website
SUMMARY:25-02852 PGE MERCED BHT 407 BHT 407 BK117 10-1 AND 10-2 TRHU 10-5-2025
DESCRIPTION:25-02852 PGE MERCED BHT 407 BHT 407 BK117 10-1 AND 10-2 TRHU 10-5-2025 NON CAP \n25-02852 PGE MERCED BHT 407 BHT 407 BK117 10-1 AND 10-2 TRHU 10-5-2025 FLIGHT REQUEST
URL:https://ghi.website/event/25-02852-pge-merced-bht-407-bht-407-bk117-10-1-and-10-2-trhu-10-5-2025-2/
END:VEVENT
BEGIN:VEVENT
DTSTART;VALUE=DATE:20250928
DTEND;VALUE=DATE:20250929
DTSTAMP:20260420T173219
CREATED:20250812T144505Z
LAST-MODIFIED:20250923T161601Z
UID:11767-1759017600-1759103999@ghi.website
SUMMARY:25-02284 PGE MONTEREY BHT 205 POLE SET  8-28-2025
DESCRIPTION:25-02284 PGE MONTEREY BHT 205 POLE SET 8-28-2025 FLIGHT REQUEST \n25-02284 PGE MONTEREY BHT 205 POLE SET 8-28-2025 NON CAP
URL:https://ghi.website/event/25-02284-pge-monterey-bht-205-pole-set-8-28-2025/
END:VEVENT
BEGIN:VEVENT
DTSTART;VALUE=DATE:20250927
DTEND;VALUE=DATE:20250928
DTSTAMP:20260420T173219
CREATED:20250915T143514Z
LAST-MODIFIED:20250918T165411Z
UID:11987-1758931200-1759017599@ghi.website
SUMMARY:25-02813 PGE TOULUMNE BHT 205 POLE SET 9-27-2025
DESCRIPTION:25-02813 PGE TOULUMNE BHT 205 POLE SET 9-27-2025 FLIGHT REQUEST \n25-02813 PGE TOULUMNE BHT 205 POLE SET 9-27-2025 NON CAP
URL:https://ghi.website/event/25-02813-pge-toulumne-bht-205-pole-set-9-27-2025/
END:VEVENT
END:VCALENDAR